BEGIN:VCALENDAR
VERSION:2.0
PRODID:-//QuickScores.com//BQ Dynamic iCal Creator//EN
METHOD:PUBLISH
X-WR-CALNAME:The Knolls - Wednesday C 40+ - Spring 2025
X-WR-CALDESC:QuickScores game calendar
X-PUBLISHED-TTL:PT24H
REFRESH-INTERVAL;VALUE=DURATION:PT24H
CALSCALE:GREGORIAN
BEGIN:VTIMEZONE
TZID:America/Chicago
X-LIC-LOCATION:America/Chicago
BEGIN:DAYLIGHT
TZNAME:CDT
TZOFFSETFROM:-0600
TZOFFSETTO:-0500
DTSTART:19700308T020000
RRULE:FREQ=YEARLY;BYMONTH=3;BYDAY=2SU
END:DAYLIGHT
BEGIN:STANDARD
TZNAME:CST
TZOFFSETFROM:-0500
TZOFFSETTO:-0600
DTSTART:19701101T020000
RRULE:FREQ=YEARLY;BYMONTH=11;BYDAY=1SU
END:STANDARD
END:VTIMEZONE
BEGIN:VEVENT
UID:northbrook-68679868-20250514T193000@quickscores.com
DTSTAMP:20260420T133400Z
DTSTART;TZID=America/Chicago:20250514T193000
DURATION:PT1H0M0S
SUMMARY:The Knolls vs. Upper Deckers
DESCRIPTION:Wednesday C 40+ - Northbrook Park District
LOCATION:TPPF #28
CATEGORIES:QuickScores, Softball - Adult Game
TRANSP:OPAQUE
BEGIN:VALARM
TRIGGER:-PT2H
ACTION:DISPLAY
DESCRIPTION:The Knolls vs. Upper Deckers
END:VALARM
END:VEVENT
BEGIN:VEVENT
UID:northbrook-68679874-20250514T203000@quickscores.com
DTSTAMP:20260420T133400Z
DTSTART;TZID=America/Chicago:20250514T203000
DURATION:PT1H0M0S
SUMMARY:The Knolls vs. Wreckoncilers
DESCRIPTION:Wednesday C 40+ - Northbrook Park District
LOCATION:TPPF #28
CATEGORIES:QuickScores, Softball - Adult Game
TRANSP:OPAQUE
BEGIN:VALARM
TRIGGER:-PT2H
ACTION:DISPLAY
DESCRIPTION:The Knolls vs. Wreckoncilers
END:VALARM
END:VEVENT
BEGIN:VEVENT
UID:northbrook-68679895-20250611T203000@quickscores.com
DTSTAMP:20260420T133400Z
DTSTART;TZID=America/Chicago:20250611T203000
DURATION:PT1H0M0S
SUMMARY:The Knolls vs. VH Novel Club
DESCRIPTION:Wednesday C 40+ - Northbrook Park District
LOCATION:TPPF #26
CATEGORIES:QuickScores, Softball - Adult Game
TRANSP:OPAQUE
BEGIN:VALARM
TRIGGER:-PT2H
ACTION:DISPLAY
DESCRIPTION:The Knolls vs. VH Novel Club
END:VALARM
END:VEVENT
BEGIN:VEVENT
UID:northbrook-68679912-20250625T203000@quickscores.com
DTSTAMP:20260420T133400Z
DTSTART;TZID=America/Chicago:20250625T203000
DURATION:PT1H0M0S
SUMMARY:The Knolls vs. Wally Werld
DESCRIPTION:Wednesday C 40+ - Northbrook Park District
LOCATION:TPPF #28
CATEGORIES:QuickScores, Softball - Adult Game
TRANSP:OPAQUE
BEGIN:VALARM
TRIGGER:-PT2H
ACTION:DISPLAY
DESCRIPTION:The Knolls vs. Wally Werld
END:VALARM
END:VEVENT
BEGIN:VEVENT
UID:northbrook-68679917-20250702T203000@quickscores.com
DTSTAMP:20260420T133400Z
DTSTART;TZID=America/Chicago:20250702T203000
DURATION:PT1H0M0S
SUMMARY:G Unit vs. The Knolls
DESCRIPTION:Wednesday C 40+ - Northbrook Park District
LOCATION:TPPF #26
CATEGORIES:QuickScores, Softball - Adult Game
TRANSP:OPAQUE
BEGIN:VALARM
TRIGGER:-PT2H
ACTION:DISPLAY
DESCRIPTION:G Unit vs. The Knolls
END:VALARM
END:VEVENT
BEGIN:VEVENT
UID:northbrook-68679928-20250709T183000@quickscores.com
DTSTAMP:20260420T133400Z
DTSTART;TZID=America/Chicago:20250709T183000
DURATION:PT1H0M0S
SUMMARY:Crash Davis vs. The Knolls
DESCRIPTION:Wednesday C 40+ - Northbrook Park District
LOCATION:TPPF #26
CATEGORIES:QuickScores, Softball - Adult Game
TRANSP:OPAQUE
BEGIN:VALARM
TRIGGER:-PT2H
ACTION:DISPLAY
DESCRIPTION:Crash Davis vs. The Knolls
END:VALARM
END:VEVENT
BEGIN:VEVENT
UID:northbrook-68679863-20250716T183000@quickscores.com
DTSTAMP:20260420T133400Z
DTSTART;TZID=America/Chicago:20250716T183000
DURATION:PT1H0M0S
SUMMARY:The Knolls vs. Disco Stu's
DESCRIPTION:From 5/21 --- Wednesday C 40+ - Northbrook Park District
LOCATION:TPPF #28
CATEGORIES:QuickScores, Softball - Adult Game
TRANSP:OPAQUE
BEGIN:VALARM
TRIGGER:-PT2H
ACTION:DISPLAY
DESCRIPTION:The Knolls vs. Disco Stu's
END:VALARM
END:VEVENT
BEGIN:VEVENT
UID:northbrook-68679881-20250723T193000@quickscores.com
DTSTAMP:20260420T133400Z
DTSTART;TZID=America/Chicago:20250723T193000
DURATION:PT1H0M0S
SUMMARY:Disco Stu's vs. The Knolls
DESCRIPTION:From 5/28 --- Wednesday C 40+ - Northbrook Park District
LOCATION:TPPF #28
CATEGORIES:QuickScores, Softball - Adult Game
TRANSP:OPAQUE
BEGIN:VALARM
TRIGGER:-PT2H
ACTION:DISPLAY
DESCRIPTION:Disco Stu's vs. The Knolls
END:VALARM
END:VEVENT
BEGIN:VEVENT
UID:northbrook-68679878-20250723T203000@quickscores.com
DTSTAMP:20260420T133400Z
DTSTART;TZID=America/Chicago:20250723T203000
DURATION:PT1H0M0S
SUMMARY:Defensive Indifference vs. The Knolls
DESCRIPTION:From 5/28 --- Wednesday C 40+ - Northbrook Park District
LOCATION:TPPF #28
CATEGORIES:QuickScores, Softball - Adult Game
TRANSP:OPAQUE
BEGIN:VALARM
TRIGGER:-PT2H
ACTION:DISPLAY
DESCRIPTION:Defensive Indifference vs. The Knolls
END:VALARM
END:VEVENT
BEGIN:VEVENT
UID:northbrook-68679889-20250730T193000@quickscores.com
DTSTAMP:20260420T133400Z
DTSTART;TZID=America/Chicago:20250730T193000
DURATION:PT1H0M0S
SUMMARY:Straight Outta Glencoe vs. The Knolls
DESCRIPTION:From 6/4 --- Wednesday C 40+ - Northbrook Park District
LOCATION:TPPF #26
CATEGORIES:QuickScores, Softball - Adult Game
TRANSP:OPAQUE
BEGIN:VALARM
TRIGGER:-PT2H
ACTION:DISPLAY
DESCRIPTION:Straight Outta Glencoe vs. The Knolls
END:VALARM
END:VEVENT
BEGIN:VEVENT
UID:northbrook-68679883-20250730T203000@quickscores.com
DTSTAMP:20260420T133400Z
DTSTART;TZID=America/Chicago:20250730T203000
DURATION:PT1H0M0S
SUMMARY:The Knolls vs. Hit It And Quit It
DESCRIPTION:From 6/4 --- Wednesday C 40+ - Northbrook Park District
LOCATION:TPPF #27
CATEGORIES:QuickScores, Softball - Adult Game
TRANSP:OPAQUE
BEGIN:VALARM
TRIGGER:-PT2H
ACTION:DISPLAY
DESCRIPTION:The Knolls vs. Hit It And Quit It
END:VALARM
END:VEVENT
BEGIN:VEVENT
UID:northbrook-68679900-20250806T183000@quickscores.com
DTSTAMP:20260420T133400Z
DTSTART;TZID=America/Chicago:20250806T183000
DURATION:PT1H0M0S
SUMMARY:Chuck's Pain Train Express vs. The Knolls
DESCRIPTION:From 6/18 - F --- Wednesday C 40+ - Northbrook Park District
LOCATION:TPPF #27
CATEGORIES:QuickScores, Softball - Adult Game
TRANSP:OPAQUE
BEGIN:VALARM
TRIGGER:-PT2H
ACTION:DISPLAY
DESCRIPTION:Chuck's Pain Train Express vs. The Knolls
END:VALARM
END:VEVENT
BEGIN:VEVENT
UID:northbrook-68648923-20250813T183000@quickscores.com
DTSTAMP:20260420T133400Z
DTSTART;TZID=America/Chicago:20250813T183000
DURATION:PT1H0M0S
SUMMARY:[7] The Knolls vs. [10] Straight Outta Glencoe
DESCRIPTION:Wednesday C 40+ - Northbrook Park District
LOCATION:TPPF #28
CATEGORIES:QuickScores, Softball - Adult Game
TRANSP:OPAQUE
BEGIN:VALARM
TRIGGER:-PT2H
ACTION:DISPLAY
DESCRIPTION:[7] The Knolls vs. [10] Straight Outta Glencoe
END:VALARM
END:VEVENT
END:VCALENDAR
