BEGIN:VCALENDAR
VERSION:2.0
PRODID:-//QuickScores.com//BQ Dynamic iCal Creator//EN
METHOD:PUBLISH
X-WR-CALNAME:Chiefs - Wednesday C League 12&quot; - Spring 2022
X-WR-CALDESC:QuickScores game calendar
X-PUBLISHED-TTL:PT24H
REFRESH-INTERVAL;VALUE=DURATION:PT24H
CALSCALE:GREGORIAN
BEGIN:VTIMEZONE
TZID:America/Chicago
X-LIC-LOCATION:America/Chicago
BEGIN:DAYLIGHT
TZNAME:CDT
TZOFFSETFROM:-0600
TZOFFSETTO:-0500
DTSTART:19700308T020000
RRULE:FREQ=YEARLY;BYMONTH=3;BYDAY=2SU
END:DAYLIGHT
BEGIN:STANDARD
TZNAME:CST
TZOFFSETFROM:-0500
TZOFFSETTO:-0600
DTSTART:19701101T020000
RRULE:FREQ=YEARLY;BYMONTH=11;BYDAY=1SU
END:STANDARD
END:VTIMEZONE
BEGIN:VEVENT
UID:northbrook-53559087-20220511T183000@quickscores.com
DTSTAMP:20260424T192300Z
DTSTART;TZID=America/Chicago:20220511T183000
DURATION:PT1H0M0S
SUMMARY:Chiefs vs. Hitmen
DESCRIPTION:Wednesday C League 12" - Northbrook Park District
LOCATION:TPPF #26
CATEGORIES:QuickScores, Softball - Adult Game
TRANSP:OPAQUE
BEGIN:VALARM
TRIGGER:-PT2H
ACTION:DISPLAY
DESCRIPTION:Chiefs vs. Hitmen
END:VALARM
END:VEVENT
BEGIN:VEVENT
UID:northbrook-53559086-20220511T193000@quickscores.com
DTSTAMP:20260424T192300Z
DTSTART;TZID=America/Chicago:20220511T193000
DURATION:PT1H0M0S
SUMMARY:Second Wind vs. Chiefs
DESCRIPTION:Wednesday C League 12" - Northbrook Park District
LOCATION:TPPF #26
CATEGORIES:QuickScores, Softball - Adult Game
TRANSP:OPAQUE
BEGIN:VALARM
TRIGGER:-PT2H
ACTION:DISPLAY
DESCRIPTION:Second Wind vs. Chiefs
END:VALARM
END:VEVENT
BEGIN:VEVENT
UID:northbrook-53559102-20220601T203000@quickscores.com
DTSTAMP:20260424T192300Z
DTSTART;TZID=America/Chicago:20220601T203000
DURATION:PT1H0M0S
SUMMARY:Chiefs vs. Beef's House
DESCRIPTION:Wednesday C League 12" - Northbrook Park District
LOCATION:TPPF #26
CATEGORIES:QuickScores, Softball - Adult Game
TRANSP:OPAQUE
BEGIN:VALARM
TRIGGER:-PT2H
ACTION:DISPLAY
DESCRIPTION:Chiefs vs. Beef's House
END:VALARM
END:VEVENT
BEGIN:VEVENT
UID:northbrook-53559109-20220615T183000@quickscores.com
DTSTAMP:20260424T192300Z
DTSTART;TZID=America/Chicago:20220615T183000
DURATION:PT1H0M0S
SUMMARY:Chiefs vs. Second Wind
DESCRIPTION:Wednesday C League 12" - Northbrook Park District
LOCATION:TPPF #26
CATEGORIES:QuickScores, Softball - Adult Game
TRANSP:OPAQUE
BEGIN:VALARM
TRIGGER:-PT2H
ACTION:DISPLAY
DESCRIPTION:Chiefs vs. Second Wind
END:VALARM
END:VEVENT
BEGIN:VEVENT
UID:northbrook-53559114-20220622T183000@quickscores.com
DTSTAMP:20260424T192300Z
DTSTART;TZID=America/Chicago:20220622T183000
DURATION:PT1H0M0S
SUMMARY:Chiefs vs. TBA
DESCRIPTION:Wednesday C League 12" - Northbrook Park District
LOCATION:TPPF #26
CATEGORIES:QuickScores, Softball - Adult Game
TRANSP:OPAQUE
BEGIN:VALARM
TRIGGER:-PT2H
ACTION:DISPLAY
DESCRIPTION:Chiefs vs. TBA
END:VALARM
END:VEVENT
BEGIN:VEVENT
UID:northbrook-53559896-20220629T183000@quickscores.com
DTSTAMP:20260424T192300Z
DTSTART;TZID=America/Chicago:20220629T183000
DURATION:PT1H0M0S
SUMMARY:TBA vs. Chiefs
DESCRIPTION:Wednesday C League 12" - Northbrook Park District
LOCATION:TPPF #26
CATEGORIES:QuickScores, Softball - Adult Game
TRANSP:OPAQUE
BEGIN:VALARM
TRIGGER:-PT2H
ACTION:DISPLAY
DESCRIPTION:TBA vs. Chiefs
END:VALARM
END:VEVENT
BEGIN:VEVENT
UID:northbrook-53559895-20220629T193000@quickscores.com
DTSTAMP:20260424T192300Z
DTSTART;TZID=America/Chicago:20220629T193000
DURATION:PT1H0M0S
SUMMARY:Chiefs vs. Team Gergies
DESCRIPTION:Wednesday C League 12" - Northbrook Park District
LOCATION:TPPF #26
CATEGORIES:QuickScores, Softball - Adult Game
TRANSP:OPAQUE
BEGIN:VALARM
TRIGGER:-PT2H
ACTION:DISPLAY
DESCRIPTION:Chiefs vs. Team Gergies
END:VALARM
END:VEVENT
BEGIN:VEVENT
UID:northbrook-53559969-20220706T203000@quickscores.com
DTSTAMP:20260424T192300Z
DTSTART;TZID=America/Chicago:20220706T203000
DURATION:PT1H0M0S
SUMMARY:Team Gergies vs. Chiefs
DESCRIPTION:Wednesday C League 12" - Northbrook Park District
LOCATION:TPPF #26
CATEGORIES:QuickScores, Softball - Adult Game
TRANSP:OPAQUE
BEGIN:VALARM
TRIGGER:-PT2H
ACTION:DISPLAY
DESCRIPTION:Team Gergies vs. Chiefs
END:VALARM
END:VEVENT
BEGIN:VEVENT
UID:northbrook-53559990-20220713T213000@quickscores.com
DTSTAMP:20260424T192300Z
DTSTART;TZID=America/Chicago:20220713T213000
DURATION:PT1H0M0S
SUMMARY:Second Wind vs. Chiefs
DESCRIPTION:Wednesday C League 12" - Northbrook Park District
LOCATION:TPPF #28
CATEGORIES:QuickScores, Softball - Adult Game
TRANSP:OPAQUE
BEGIN:VALARM
TRIGGER:-PT2H
ACTION:DISPLAY
DESCRIPTION:Second Wind vs. Chiefs
END:VALARM
END:VEVENT
BEGIN:VEVENT
UID:northbrook-53559088-20220720T203000@quickscores.com
DTSTAMP:20260424T192300Z
DTSTART;TZID=America/Chicago:20220720T203000
DURATION:PT1H0M0S
SUMMARY:Chiefs vs. Team Gergies
DESCRIPTION:Make-up from 5/18 --- Wednesday C League 12" - Northbrook Park District
LOCATION:TPPF #26
CATEGORIES:QuickScores, Softball - Adult Game
TRANSP:OPAQUE
BEGIN:VALARM
TRIGGER:-PT2H
ACTION:DISPLAY
DESCRIPTION:Chiefs vs. Team Gergies
END:VALARM
END:VEVENT
BEGIN:VEVENT
UID:northbrook-53559097-20220727T183000@quickscores.com
DTSTAMP:20260424T192300Z
DTSTART;TZID=America/Chicago:20220727T183000
DURATION:PT1H0M0S
SUMMARY:Beef's House vs. Chiefs
DESCRIPTION:Make-up from 5/25 --- Wednesday C League 12" - Northbrook Park District
LOCATION:TPPF #27
CATEGORIES:QuickScores, Softball - Adult Game
TRANSP:OPAQUE
BEGIN:VALARM
TRIGGER:-PT2H
ACTION:DISPLAY
DESCRIPTION:Beef's House vs. Chiefs
END:VALARM
END:VEVENT
BEGIN:VEVENT
UID:northbrook-53559105-20220803T203000@quickscores.com
DTSTAMP:20260424T192300Z
DTSTART;TZID=America/Chicago:20220803T203000
DURATION:PT1H0M0S
SUMMARY:Hitmen vs. Chiefs
DESCRIPTION:Make-up from 6/8 --- Wednesday C League 12" - Northbrook Park District
LOCATION:TPPF #26
CATEGORIES:QuickScores, Softball - Adult Game
TRANSP:OPAQUE
BEGIN:VALARM
TRIGGER:-PT2H
ACTION:DISPLAY
DESCRIPTION:Hitmen vs. Chiefs
END:VALARM
END:VEVENT
BEGIN:VEVENT
UID:northbrook-53560037-20220810T193000@quickscores.com
DTSTAMP:20260424T192300Z
DTSTART;TZID=America/Chicago:20220810T193000
DURATION:PT1H0M0S
SUMMARY:[#1 ] Chiefs vs. [#5 ] Team Gergies
DESCRIPTION:Wednesday C League 12" - Northbrook Park District
LOCATION:TPPF #26
CATEGORIES:QuickScores, Softball - Adult Game
TRANSP:OPAQUE
BEGIN:VALARM
TRIGGER:-PT2H
ACTION:DISPLAY
DESCRIPTION:[#1 ] Chiefs vs. [#5 ] Team Gergies
END:VALARM
END:VEVENT
BEGIN:VEVENT
UID:northbrook-53560039-20220810T203000@quickscores.com
DTSTAMP:20260424T192300Z
DTSTART;TZID=America/Chicago:20220810T203000
DURATION:PT1H0M0S
SUMMARY:[#1 ] Chiefs vs. [#2 ] Second Wind
DESCRIPTION:Wednesday C League 12" - Northbrook Park District
LOCATION:TPPF #26
CATEGORIES:QuickScores, Softball - Adult Game
TRANSP:OPAQUE
BEGIN:VALARM
TRIGGER:-PT2H
ACTION:DISPLAY
DESCRIPTION:[#1 ] Chiefs vs. [#2 ] Second Wind
END:VALARM
END:VEVENT
END:VCALENDAR
