BEGIN:VCALENDAR
VERSION:2.0
PRODID:-//QuickScores.com//BQ Dynamic iCal Creator//EN
METHOD:PUBLISH
X-WR-CALNAME:University Park Lions 6u - Niuyfl-6u - Fall 2025
X-WR-CALDESC:QuickScores game calendar
X-PUBLISHED-TTL:PT24H
REFRESH-INTERVAL;VALUE=DURATION:PT24H
CALSCALE:GREGORIAN
BEGIN:VTIMEZONE
TZID:America/Chicago
X-LIC-LOCATION:America/Chicago
BEGIN:DAYLIGHT
TZNAME:CDT
TZOFFSETFROM:-0600
TZOFFSETTO:-0500
DTSTART:19700308T020000
RRULE:FREQ=YEARLY;BYMONTH=3;BYDAY=2SU
END:DAYLIGHT
BEGIN:STANDARD
TZNAME:CST
TZOFFSETFROM:-0500
TZOFFSETTO:-0600
DTSTART:19701101T020000
RRULE:FREQ=YEARLY;BYMONTH=11;BYDAY=1SU
END:STANDARD
END:VTIMEZONE
BEGIN:VEVENT
UID:niuyfl-70332065-20250907T090000@quickscores.com
DTSTAMP:20260420T100400Z
DTSTART;TZID=America/Chicago:20250907T090000
DURATION:PT1H0M0S
SUMMARY:University Park Lions 6u vs. Calumet City Chargers  6u
DESCRIPTION:Niuyfl-6u - Northern Illinois United Youth Football League
LOCATION:Hazel Crest (field 2)
CATEGORIES:QuickScores, Football Game
TRANSP:OPAQUE
BEGIN:VALARM
TRIGGER:-PT2H
ACTION:DISPLAY
DESCRIPTION:University Park Lions 6u vs. Calumet City Chargers  6u
END:VALARM
END:VEVENT
BEGIN:VEVENT
UID:niuyfl-70332070-20250914T100000@quickscores.com
DTSTAMP:20260420T100400Z
DTSTART;TZID=America/Chicago:20250914T100000
DURATION:PT1H0M0S
SUMMARY:University Park Lions 6u vs. Steger Wildcats 6u
DESCRIPTION:Niuyfl-6u - Northern Illinois United Youth Football League
LOCATION:University Park field1
CATEGORIES:QuickScores, Football Game
TRANSP:OPAQUE
BEGIN:VALARM
TRIGGER:-PT2H
ACTION:DISPLAY
DESCRIPTION:University Park Lions 6u vs. Steger Wildcats 6u
END:VALARM
END:VEVENT
BEGIN:VEVENT
UID:niuyfl-70371752-20250921T093000@quickscores.com
DTSTAMP:20260420T100400Z
DTSTART;TZID=America/Chicago:20250921T093000
DURATION:PT1H0M0S
SUMMARY:Top Tier 6u vs. University Park Lions 6u
DESCRIPTION:Niuyfl-6u - Northern Illinois United Youth Football League
LOCATION:Joliet (ATI)
CATEGORIES:QuickScores, Football Game
TRANSP:OPAQUE
BEGIN:VALARM
TRIGGER:-PT2H
ACTION:DISPLAY
DESCRIPTION:Top Tier 6u vs. University Park Lions 6u
END:VALARM
END:VEVENT
BEGIN:VEVENT
UID:niuyfl-70332075-20250928T100000@quickscores.com
DTSTAMP:20260420T100400Z
DTSTART;TZID=America/Chicago:20250928T100000
DURATION:PT1H0M0S
SUMMARY:University Park Lions 6u vs. Matteson Bears 6u
DESCRIPTION:Niuyfl-6u - Northern Illinois United Youth Football League
LOCATION:University Park field1
CATEGORIES:QuickScores, Football Game
TRANSP:OPAQUE
BEGIN:VALARM
TRIGGER:-PT2H
ACTION:DISPLAY
DESCRIPTION:University Park Lions 6u vs. Matteson Bears 6u
END:VALARM
END:VEVENT
BEGIN:VEVENT
UID:niuyfl-71025510-20251004T100000@quickscores.com
DTSTAMP:20260420T100400Z
DTSTART;TZID=America/Chicago:20251004T100000
DURATION:PT1H0M0S
SUMMARY:Steger Wildcats 6u vs. University Park Lions 6u
DESCRIPTION:Niuyfl-6u - Northern Illinois United Youth Football League
LOCATION:steger
CATEGORIES:QuickScores, Football Game
TRANSP:OPAQUE
BEGIN:VALARM
TRIGGER:-PT2H
ACTION:DISPLAY
DESCRIPTION:Steger Wildcats 6u vs. University Park Lions 6u
END:VALARM
END:VEVENT
BEGIN:VEVENT
UID:niuyfl-71139314-20251005T143000@quickscores.com
DTSTAMP:20260420T100400Z
DTSTART;TZID=America/Chicago:20251005T143000
DURATION:PT1H0M0S
SUMMARY:University Park Lions 6u vs. Joliet Ravens 6u
DESCRIPTION:Niuyfl-6u - Northern Illinois United Youth Football League
LOCATION:University Park field1
CATEGORIES:QuickScores, Football Game
TRANSP:OPAQUE
BEGIN:VALARM
TRIGGER:-PT2H
ACTION:DISPLAY
DESCRIPTION:University Park Lions 6u vs. Joliet Ravens 6u
END:VALARM
END:VEVENT
END:VCALENDAR
