BEGIN:VCALENDAR
VERSION:2.0
PRODID:-//QuickScores.com//BQ Dynamic iCal Creator//EN
METHOD:PUBLISH
X-WR-CALNAME:Joliet Ravens 10u - Niuyfl-10u - Fall 2025
X-WR-CALDESC:QuickScores game calendar
X-PUBLISHED-TTL:PT24H
REFRESH-INTERVAL;VALUE=DURATION:PT24H
CALSCALE:GREGORIAN
BEGIN:VTIMEZONE
TZID:America/Chicago
X-LIC-LOCATION:America/Chicago
BEGIN:DAYLIGHT
TZNAME:CDT
TZOFFSETFROM:-0600
TZOFFSETTO:-0500
DTSTART:19700308T020000
RRULE:FREQ=YEARLY;BYMONTH=3;BYDAY=2SU
END:DAYLIGHT
BEGIN:STANDARD
TZNAME:CST
TZOFFSETFROM:-0500
TZOFFSETTO:-0600
DTSTART:19701101T020000
RRULE:FREQ=YEARLY;BYMONTH=11;BYDAY=1SU
END:STANDARD
END:VTIMEZONE
BEGIN:VEVENT
UID:niuyfl-70332253-20250824T164500@quickscores.com
DTSTAMP:20260420T120000Z
DTSTART;TZID=America/Chicago:20250824T164500
DURATION:PT1H0M0S
SUMMARY:Joliet Ravens 10u vs. Hazel Crest Mustangs 10u
DESCRIPTION:Finished in Tie --- Niuyfl-10u - Northern Illinois United Youth Football League
LOCATION:Joliet (ATI)
CATEGORIES:QuickScores, Football Game
TRANSP:OPAQUE
BEGIN:VALARM
TRIGGER:-PT2H
ACTION:DISPLAY
DESCRIPTION:Joliet Ravens 10u vs. Hazel Crest Mustangs 10u
END:VALARM
END:VEVENT
BEGIN:VEVENT
UID:niuyfl-70332256-20250831T113000@quickscores.com
DTSTAMP:20260420T120000Z
DTSTART;TZID=America/Chicago:20250831T113000
DURATION:PT1H0M0S
SUMMARY:815 United 10u vs. Joliet Ravens 10u
DESCRIPTION:Niuyfl-10u - Northern Illinois United Youth Football League
LOCATION:815 united (bourbonnais highschool)
CATEGORIES:QuickScores, Football Game
TRANSP:OPAQUE
BEGIN:VALARM
TRIGGER:-PT2H
ACTION:DISPLAY
DESCRIPTION:815 United 10u vs. Joliet Ravens 10u
END:VALARM
END:VEVENT
BEGIN:VEVENT
UID:niuyfl-70332263-20250907T113000@quickscores.com
DTSTAMP:20260420T120000Z
DTSTART;TZID=America/Chicago:20250907T113000
DURATION:PT1H0M0S
SUMMARY:Joliet Ravens 10u vs. Glenwood Cougars 10u
DESCRIPTION:Niuyfl-10u - Northern Illinois United Youth Football League
LOCATION:Mission Park Field 1
CATEGORIES:QuickScores, Football Game
TRANSP:OPAQUE
BEGIN:VALARM
TRIGGER:-PT2H
ACTION:DISPLAY
DESCRIPTION:Joliet Ravens 10u vs. Glenwood Cougars 10u
END:VALARM
END:VEVENT
BEGIN:VEVENT
UID:niuyfl-70788697-20250907T150000@quickscores.com
DTSTAMP:20260420T120000Z
DTSTART;TZID=America/Chicago:20250907T150000
DURATION:PT1H0M0S
SUMMARY:Practice: Joliet Ravens 10u vs. Windy City Dolphins - Non Conference
DESCRIPTION:Niuyfl-10u - Northern Illinois United Youth Football League
LOCATION:Mission Park Field 2
CATEGORIES:QuickScores, Football Game
TRANSP:OPAQUE
BEGIN:VALARM
TRIGGER:-PT2H
ACTION:DISPLAY
DESCRIPTION:Practice: Joliet Ravens 10u vs. Windy City Dolphins - Non Conference
END:VALARM
END:VEVENT
BEGIN:VEVENT
UID:niuyfl-70332264-20250913T130000@quickscores.com
DTSTAMP:20260420T120000Z
DTSTART;TZID=America/Chicago:20250913T130000
DURATION:PT1H0M0S
SUMMARY:Chicago Bengals 10u vs. Joliet Ravens 10u
DESCRIPTION:overtime --- Niuyfl-10u - Northern Illinois United Youth Football League
LOCATION:Chicago Bengals
CATEGORIES:QuickScores, Football Game
TRANSP:OPAQUE
BEGIN:VALARM
TRIGGER:-PT2H
ACTION:DISPLAY
DESCRIPTION:Chicago Bengals 10u vs. Joliet Ravens 10u
END:VALARM
END:VEVENT
BEGIN:VEVENT
UID:niuyfl-70332270-20250920T113000@quickscores.com
DTSTAMP:20260420T120000Z
DTSTART;TZID=America/Chicago:20250920T113000
DURATION:PT1H0M0S
SUMMARY:Kaos Bulldogs 10u vs. Joliet Ravens 10u
DESCRIPTION:Niuyfl-10u - Northern Illinois United Youth Football League
LOCATION:Kaos Bulldogs
CATEGORIES:QuickScores, Football Game
TRANSP:OPAQUE
BEGIN:VALARM
TRIGGER:-PT2H
ACTION:DISPLAY
DESCRIPTION:Kaos Bulldogs 10u vs. Joliet Ravens 10u
END:VALARM
END:VEVENT
BEGIN:VEVENT
UID:niuyfl-70489889-20250928T130000@quickscores.com
DTSTAMP:20260420T120000Z
DTSTART;TZID=America/Chicago:20250928T130000
DURATION:PT1H0M0S
SUMMARY:Joliet Ravens 10u vs. Calumet City Chargers  10u
DESCRIPTION:Niuyfl-10u - Northern Illinois United Youth Football League
LOCATION:Joliet (ATI)
CATEGORIES:QuickScores, Football Game
TRANSP:OPAQUE
BEGIN:VALARM
TRIGGER:-PT2H
ACTION:DISPLAY
DESCRIPTION:Joliet Ravens 10u vs. Calumet City Chargers  10u
END:VALARM
END:VEVENT
BEGIN:VEVENT
UID:niuyfl-70490577-20251005T100000@quickscores.com
DTSTAMP:20260420T120000Z
DTSTART;TZID=America/Chicago:20251005T100000
DURATION:PT1H0M0S
SUMMARY:University Park Lions 10u vs. Joliet Ravens 10u
DESCRIPTION:Niuyfl-10u - Northern Illinois United Youth Football League
LOCATION:University Park field1
CATEGORIES:QuickScores, Football Game
TRANSP:OPAQUE
BEGIN:VALARM
TRIGGER:-PT2H
ACTION:DISPLAY
DESCRIPTION:University Park Lions 10u vs. Joliet Ravens 10u
END:VALARM
END:VEVENT
BEGIN:VEVENT
UID:niuyfl-71052146-20251012T113000@quickscores.com
DTSTAMP:20260420T120000Z
DTSTART;TZID=America/Chicago:20251012T113000
DURATION:PT1H0M0S
SUMMARY:[3] Joliet Ravens 10u vs. [6] Matteson Bears 10u
DESCRIPTION:Niuyfl-10u - Northern Illinois United Youth Football League
LOCATION:Kankakee Highschool
CATEGORIES:QuickScores, Football Game
TRANSP:OPAQUE
BEGIN:VALARM
TRIGGER:-PT2H
ACTION:DISPLAY
DESCRIPTION:[3] Joliet Ravens 10u vs. [6] Matteson Bears 10u
END:VALARM
END:VEVENT
BEGIN:VEVENT
UID:niuyfl-71052148-20251019T140000@quickscores.com
DTSTAMP:20260420T120000Z
DTSTART;TZID=America/Chicago:20251019T140000
DURATION:PT1H0M0S
SUMMARY:[2] Glenwood Cougars 10u vs. [3] Joliet Ravens 10u
DESCRIPTION:Niuyfl-10u - Northern Illinois United Youth Football League
LOCATION:St. Rita
CATEGORIES:QuickScores, Football Game
TRANSP:OPAQUE
BEGIN:VALARM
TRIGGER:-PT2H
ACTION:DISPLAY
DESCRIPTION:[2] Glenwood Cougars 10u vs. [3] Joliet Ravens 10u
END:VALARM
END:VEVENT
BEGIN:VEVENT
UID:niuyfl-71052149-20251026T133000@quickscores.com
DTSTAMP:20260420T120000Z
DTSTART;TZID=America/Chicago:20251026T133000
DURATION:PT1H0M0S
SUMMARY:[1] Hazel Crest Mustangs 10u vs. [3] Joliet Ravens 10u
DESCRIPTION:Niuyfl-10u - Northern Illinois United Youth Football League
LOCATION:Rich Township Highschool
CATEGORIES:QuickScores, Football Game
TRANSP:OPAQUE
BEGIN:VALARM
TRIGGER:-PT2H
ACTION:DISPLAY
DESCRIPTION:[1] Hazel Crest Mustangs 10u vs. [3] Joliet Ravens 10u
END:VALARM
END:VEVENT
END:VCALENDAR
