BEGIN:VCALENDAR
VERSION:2.0
PRODID:-//QuickScores.com//BQ Dynamic iCal Creator//EN
METHOD:PUBLISH
X-WR-CALNAME:815 United 10u - Niuyfl-10u - Fall 2025
X-WR-CALDESC:QuickScores game calendar
X-PUBLISHED-TTL:PT24H
REFRESH-INTERVAL;VALUE=DURATION:PT24H
CALSCALE:GREGORIAN
BEGIN:VTIMEZONE
TZID:America/Chicago
X-LIC-LOCATION:America/Chicago
BEGIN:DAYLIGHT
TZNAME:CDT
TZOFFSETFROM:-0600
TZOFFSETTO:-0500
DTSTART:19700308T020000
RRULE:FREQ=YEARLY;BYMONTH=3;BYDAY=2SU
END:DAYLIGHT
BEGIN:STANDARD
TZNAME:CST
TZOFFSETFROM:-0500
TZOFFSETTO:-0600
DTSTART:19701101T020000
RRULE:FREQ=YEARLY;BYMONTH=11;BYDAY=1SU
END:STANDARD
END:VTIMEZONE
BEGIN:VEVENT
UID:niuyfl-70332252-20250823T133000@quickscores.com
DTSTAMP:20260422T165400Z
DTSTART;TZID=America/Chicago:20250823T133000
DURATION:PT1H0M0S
SUMMARY:Matteson Bears 10u vs. 815 United 10u
DESCRIPTION:Niuyfl-10u - Northern Illinois United Youth Football League
LOCATION:Matteson Community Center
CATEGORIES:QuickScores, Football Game
TRANSP:OPAQUE
BEGIN:VALARM
TRIGGER:-PT2H
ACTION:DISPLAY
DESCRIPTION:Matteson Bears 10u vs. 815 United 10u
END:VALARM
END:VEVENT
BEGIN:VEVENT
UID:niuyfl-70332256-20250831T113000@quickscores.com
DTSTAMP:20260422T165400Z
DTSTART;TZID=America/Chicago:20250831T113000
DURATION:PT1H0M0S
SUMMARY:815 United 10u vs. Joliet Ravens 10u
DESCRIPTION:Niuyfl-10u - Northern Illinois United Youth Football League
LOCATION:815 united (bourbonnais highschool)
CATEGORIES:QuickScores, Football Game
TRANSP:OPAQUE
BEGIN:VALARM
TRIGGER:-PT2H
ACTION:DISPLAY
DESCRIPTION:815 United 10u vs. Joliet Ravens 10u
END:VALARM
END:VEVENT
BEGIN:VEVENT
UID:niuyfl-70510163-20250907T120000@quickscores.com
DTSTAMP:20260422T165400Z
DTSTART;TZID=America/Chicago:20250907T120000
DURATION:PT1H0M0S
SUMMARY:Practice: Top Tier 8u vs. 815 United 10u
DESCRIPTION:Niuyfl-10u - Northern Illinois United Youth Football League
LOCATION:Hazel Crest (field 2)
CATEGORIES:QuickScores, Football Game
TRANSP:OPAQUE
BEGIN:VALARM
TRIGGER:-PT2H
ACTION:DISPLAY
DESCRIPTION:Practice: Top Tier 8u vs. 815 United 10u
END:VALARM
END:VEVENT
BEGIN:VEVENT
UID:niuyfl-70922709-20250914T140000@quickscores.com
DTSTAMP:20260422T165400Z
DTSTART;TZID=America/Chicago:20250914T140000
DURATION:PT1H0M0S
SUMMARY:Glenwood Cougars 10u vs. 815 United 10u
DESCRIPTION:Niuyfl-10u - Northern Illinois United Youth Football League
LOCATION:Joliet (Providence Catholic HS)
CATEGORIES:QuickScores, Football Game
TRANSP:OPAQUE
BEGIN:VALARM
TRIGGER:-PT2H
ACTION:DISPLAY
DESCRIPTION:Glenwood Cougars 10u vs. 815 United 10u
END:VALARM
END:VEVENT
BEGIN:VEVENT
UID:niuyfl-70332272-20250921T113000@quickscores.com
DTSTAMP:20260422T165400Z
DTSTART;TZID=America/Chicago:20250921T113000
DURATION:PT1H0M0S
SUMMARY:815 United 10u vs. Chicago Bengals 10u
DESCRIPTION:Niuyfl-10u - Northern Illinois United Youth Football League
LOCATION:815 united (bourbonnais highschool)
CATEGORIES:QuickScores, Football Game
TRANSP:OPAQUE
BEGIN:VALARM
TRIGGER:-PT2H
ACTION:DISPLAY
DESCRIPTION:815 United 10u vs. Chicago Bengals 10u
END:VALARM
END:VEVENT
BEGIN:VEVENT
UID:niuyfl-70489890-20250928T123000@quickscores.com
DTSTAMP:20260422T165400Z
DTSTART;TZID=America/Chicago:20250928T123000
DURATION:PT1H0M0S
SUMMARY:815 United 10u vs. Kaos Bulldogs 10u
DESCRIPTION:Niuyfl-10u - Northern Illinois United Youth Football League
LOCATION:815 united (bourbonnais highschool)
CATEGORIES:QuickScores, Football Game
TRANSP:OPAQUE
BEGIN:VALARM
TRIGGER:-PT2H
ACTION:DISPLAY
DESCRIPTION:815 United 10u vs. Kaos Bulldogs 10u
END:VALARM
END:VEVENT
BEGIN:VEVENT
UID:niuyfl-70490580-20251005T134500@quickscores.com
DTSTAMP:20260422T165400Z
DTSTART;TZID=America/Chicago:20251005T134500
DURATION:PT1H0M0S
SUMMARY:Hazel Crest Mustangs 10u vs. 815 United 10u
DESCRIPTION:Niuyfl-10u - Northern Illinois United Youth Football League
LOCATION:Top Tier
CATEGORIES:QuickScores, Football Game
TRANSP:OPAQUE
BEGIN:VALARM
TRIGGER:-PT2H
ACTION:DISPLAY
DESCRIPTION:Hazel Crest Mustangs 10u vs. 815 United 10u
END:VALARM
END:VEVENT
END:VCALENDAR
