BEGIN:VCALENDAR
VERSION:2.0
PRODID:-//QuickScores.com//BQ Dynamic iCal Creator//EN
METHOD:PUBLISH
X-WR-CALNAME:Niles Diamond Unicorns - 1st / 2nd Grade Crosstown Softball - Spring 2026
X-WR-CALDESC:QuickScores game calendar
X-PUBLISHED-TTL:PT24H
REFRESH-INTERVAL;VALUE=DURATION:PT24H
CALSCALE:GREGORIAN
BEGIN:VTIMEZONE
TZID:America/Chicago
X-LIC-LOCATION:America/Chicago
BEGIN:DAYLIGHT
TZNAME:CDT
TZOFFSETFROM:-0600
TZOFFSETTO:-0500
DTSTART:19700308T020000
RRULE:FREQ=YEARLY;BYMONTH=3;BYDAY=2SU
END:DAYLIGHT
BEGIN:STANDARD
TZNAME:CST
TZOFFSETFROM:-0500
TZOFFSETTO:-0600
DTSTART:19701101T020000
RRULE:FREQ=YEARLY;BYMONTH=11;BYDAY=1SU
END:STANDARD
END:VTIMEZONE
BEGIN:VEVENT
UID:niles-parks-74664738-20260504T174500@quickscores.com
DTSTAMP:20260425T070200Z
DTSTART;TZID=America/Chicago:20260504T174500
DURATION:PT1H0M0S
SUMMARY:Niles Diamond Unicorns vs. Niles Phoenix
DESCRIPTION:1st / 2nd Grade Crosstown Softball - Niles Park District
LOCATION:Culver School
CATEGORIES:QuickScores, Softball Game
TRANSP:OPAQUE
BEGIN:VALARM
TRIGGER:-PT2H
ACTION:DISPLAY
DESCRIPTION:Niles Diamond Unicorns vs. Niles Phoenix
END:VALARM
END:VEVENT
BEGIN:VEVENT
UID:niles-parks-74664739-20260507T174500@quickscores.com
DTSTAMP:20260425T070200Z
DTSTART;TZID=America/Chicago:20260507T174500
DURATION:PT1H0M0S
SUMMARY:Niles Diamond Unicorns vs. Jr. Warriors Blue
DESCRIPTION:1st / 2nd Grade Crosstown Softball - Niles Park District
LOCATION:Oakton Manor
CATEGORIES:QuickScores, Softball Game
TRANSP:OPAQUE
BEGIN:VALARM
TRIGGER:-PT2H
ACTION:DISPLAY
DESCRIPTION:Niles Diamond Unicorns vs. Jr. Warriors Blue
END:VALARM
END:VEVENT
BEGIN:VEVENT
UID:niles-parks-74664742-20260512T174500@quickscores.com
DTSTAMP:20260425T070200Z
DTSTART;TZID=America/Chicago:20260512T174500
DURATION:PT1H0M0S
SUMMARY:Jr. Warriors Pink vs. Niles Diamond Unicorns
DESCRIPTION:1st / 2nd Grade Crosstown Softball - Niles Park District
LOCATION:Tomahawk
CATEGORIES:QuickScores, Softball Game
TRANSP:OPAQUE
BEGIN:VALARM
TRIGGER:-PT2H
ACTION:DISPLAY
DESCRIPTION:Jr. Warriors Pink vs. Niles Diamond Unicorns
END:VALARM
END:VEVENT
BEGIN:VEVENT
UID:niles-parks-74664744-20260518T174500@quickscores.com
DTSTAMP:20260425T070200Z
DTSTART;TZID=America/Chicago:20260518T174500
DURATION:PT1H0M0S
SUMMARY:Niles Diamond Unicorns vs. Niles Cubs
DESCRIPTION:1st / 2nd Grade Crosstown Softball - Niles Park District
LOCATION:Culver School
CATEGORIES:QuickScores, Softball Game
TRANSP:OPAQUE
BEGIN:VALARM
TRIGGER:-PT2H
ACTION:DISPLAY
DESCRIPTION:Niles Diamond Unicorns vs. Niles Cubs
END:VALARM
END:VEVENT
BEGIN:VEVENT
UID:niles-parks-74664860-20260521T174500@quickscores.com
DTSTAMP:20260425T070200Z
DTSTART;TZID=America/Chicago:20260521T174500
DURATION:PT1H0M0S
SUMMARY:Jr. Warriors Purple vs. Niles Diamond Unicorns
DESCRIPTION:1st / 2nd Grade Crosstown Softball - Niles Park District
LOCATION:Tomahawk
CATEGORIES:QuickScores, Softball Game
TRANSP:OPAQUE
BEGIN:VALARM
TRIGGER:-PT2H
ACTION:DISPLAY
DESCRIPTION:Jr. Warriors Purple vs. Niles Diamond Unicorns
END:VALARM
END:VEVENT
BEGIN:VEVENT
UID:niles-parks-74664939-20260526T174500@quickscores.com
DTSTAMP:20260425T070200Z
DTSTART;TZID=America/Chicago:20260526T174500
DURATION:PT1H0M0S
SUMMARY:Niles Phoenix vs. Niles Diamond Unicorns
DESCRIPTION:1st / 2nd Grade Crosstown Softball - Niles Park District
LOCATION:Culver School
CATEGORIES:QuickScores, Softball Game
TRANSP:OPAQUE
BEGIN:VALARM
TRIGGER:-PT2H
ACTION:DISPLAY
DESCRIPTION:Niles Phoenix vs. Niles Diamond Unicorns
END:VALARM
END:VEVENT
BEGIN:VEVENT
UID:niles-parks-74664942-20260528T174500@quickscores.com
DTSTAMP:20260425T070200Z
DTSTART;TZID=America/Chicago:20260528T174500
DURATION:PT1H0M0S
SUMMARY:Jr. Warriors Blue vs. Niles Diamond Unicorns
DESCRIPTION:1st / 2nd Grade Crosstown Softball - Niles Park District
LOCATION:Tomahawk
CATEGORIES:QuickScores, Softball Game
TRANSP:OPAQUE
BEGIN:VALARM
TRIGGER:-PT2H
ACTION:DISPLAY
DESCRIPTION:Jr. Warriors Blue vs. Niles Diamond Unicorns
END:VALARM
END:VEVENT
BEGIN:VEVENT
UID:niles-parks-74664973-20260601T174500@quickscores.com
DTSTAMP:20260425T070200Z
DTSTART;TZID=America/Chicago:20260601T174500
DURATION:PT1H0M0S
SUMMARY:Niles Diamond Unicorns vs. Jr. Warriors Pink
DESCRIPTION:1st / 2nd Grade Crosstown Softball - Niles Park District
LOCATION:Culver School
CATEGORIES:QuickScores, Softball Game
TRANSP:OPAQUE
BEGIN:VALARM
TRIGGER:-PT2H
ACTION:DISPLAY
DESCRIPTION:Niles Diamond Unicorns vs. Jr. Warriors Pink
END:VALARM
END:VEVENT
BEGIN:VEVENT
UID:niles-parks-74664975-20260605T194500@quickscores.com
DTSTAMP:20260425T070200Z
DTSTART;TZID=America/Chicago:20260605T194500
DURATION:PT1H0M0S
SUMMARY:Niles Cubs vs. Niles Diamond Unicorns
DESCRIPTION:1st / 2nd Grade Crosstown Softball - Niles Park District
LOCATION:Pioneer Park #1 (SW Field)
CATEGORIES:QuickScores, Softball Game
TRANSP:OPAQUE
BEGIN:VALARM
TRIGGER:-PT2H
ACTION:DISPLAY
DESCRIPTION:Niles Cubs vs. Niles Diamond Unicorns
END:VALARM
END:VEVENT
BEGIN:VEVENT
UID:niles-parks-74665115-20260607T174500@quickscores.com
DTSTAMP:20260425T070200Z
DTSTART;TZID=America/Chicago:20260607T174500
DURATION:PT1H0M0S
SUMMARY:Niles Diamond Unicorns vs. Jr. Warriors Purple
DESCRIPTION:1st / 2nd Grade Crosstown Softball - Niles Park District
LOCATION:Culver School
CATEGORIES:QuickScores, Softball Game
TRANSP:OPAQUE
BEGIN:VALARM
TRIGGER:-PT2H
ACTION:DISPLAY
DESCRIPTION:Niles Diamond Unicorns vs. Jr. Warriors Purple
END:VALARM
END:VEVENT
BEGIN:VEVENT
UID:niles-parks-74665116-20260613T100000@quickscores.com
DTSTAMP:20260425T070200Z
DTSTART;TZID=America/Chicago:20260613T100000
DURATION:PT1H0M0S
SUMMARY:Niles Diamond Unicorns vs. Niles Cubs
DESCRIPTION:1st / 2nd Grade Crosstown Softball - Niles Park District
LOCATION:Pioneer Park #1 (SW Field)
CATEGORIES:QuickScores, Softball Game
TRANSP:OPAQUE
BEGIN:VALARM
TRIGGER:-PT2H
ACTION:DISPLAY
DESCRIPTION:Niles Diamond Unicorns vs. Niles Cubs
END:VALARM
END:VEVENT
BEGIN:VEVENT
UID:niles-parks-74665120-20260619T194500@quickscores.com
DTSTAMP:20260425T070200Z
DTSTART;TZID=America/Chicago:20260619T194500
DURATION:PT1H0M0S
SUMMARY:Niles Phoenix vs. Niles Diamond Unicorns
DESCRIPTION:1st / 2nd Grade Crosstown Softball - Niles Park District
LOCATION:Pioneer Park #1 (SW Field)
CATEGORIES:QuickScores, Softball Game
TRANSP:OPAQUE
BEGIN:VALARM
TRIGGER:-PT2H
ACTION:DISPLAY
DESCRIPTION:Niles Phoenix vs. Niles Diamond Unicorns
END:VALARM
END:VEVENT
END:VCALENDAR
