BEGIN:VCALENDAR
VERSION:2.0
PRODID:-//QuickScores.com//BQ Dynamic iCal Creator//EN
METHOD:PUBLISH
X-WR-CALNAME:White Buffalo - New Canaan Recreation Softball League - Spring 2026
X-WR-CALDESC:QuickScores game calendar
X-PUBLISHED-TTL:PT24H
REFRESH-INTERVAL;VALUE=DURATION:PT24H
CALSCALE:GREGORIAN
BEGIN:VTIMEZONE
TZID:America/New_York
X-LIC-LOCATION:America/New_York
BEGIN:DAYLIGHT
TZNAME:EDT
TZOFFSETFROM:-0500
TZOFFSETTO:-0400
DTSTART:19700308T020000
RRULE:FREQ=YEARLY;BYMONTH=3;BYDAY=2SU
END:DAYLIGHT
BEGIN:STANDARD
TZNAME:EST
TZOFFSETFROM:-0400
TZOFFSETTO:-0500
DTSTART:19701101T020000
RRULE:FREQ=YEARLY;BYMONTH=11;BYDAY=1SU
END:STANDARD
END:VTIMEZONE
BEGIN:VEVENT
UID:newcanaanct-74380565-20260421T181500@quickscores.com
DTSTAMP:20260419T211800Z
DTSTART;TZID=America/New_York:20260421T181500
DURATION:PT1H0M0S
SUMMARY:White Buffalo vs. Newcomers 2.0
DESCRIPTION:New Canaan Recreation Softball League - <br><br>New Canaan Recreation 
LOCATION:Softball Field (Grass Field)
CATEGORIES:QuickScores, Softball - Adult Game
TRANSP:OPAQUE
BEGIN:VALARM
TRIGGER:-PT2H
ACTION:DISPLAY
DESCRIPTION:White Buffalo vs. Newcomers 2.0
END:VALARM
END:VEVENT
BEGIN:VEVENT
UID:newcanaanct-74380569-20260428T181500@quickscores.com
DTSTAMP:20260419T211800Z
DTSTART;TZID=America/New_York:20260428T181500
DURATION:PT1H0M0S
SUMMARY:White Buffalo vs. Toast
DESCRIPTION:New Canaan Recreation Softball League - <br><br>New Canaan Recreation 
LOCATION:Softball Field (Grass Field)
CATEGORIES:QuickScores, Softball - Adult Game
TRANSP:OPAQUE
BEGIN:VALARM
TRIGGER:-PT2H
ACTION:DISPLAY
DESCRIPTION:White Buffalo vs. Toast
END:VALARM
END:VEVENT
BEGIN:VEVENT
UID:newcanaanct-74380589-20260519T190000@quickscores.com
DTSTAMP:20260419T211800Z
DTSTART;TZID=America/New_York:20260519T190000
DURATION:PT1H0M0S
SUMMARY:Yard Goats vs. White Buffalo
DESCRIPTION:New Canaan Recreation Softball League - <br><br>New Canaan Recreation 
LOCATION:Softball Field (Grass Field)
CATEGORIES:QuickScores, Softball - Adult Game
TRANSP:OPAQUE
BEGIN:VALARM
TRIGGER:-PT2H
ACTION:DISPLAY
DESCRIPTION:Yard Goats vs. White Buffalo
END:VALARM
END:VEVENT
BEGIN:VEVENT
UID:newcanaanct-74380590-20260521T190000@quickscores.com
DTSTAMP:20260419T211800Z
DTSTART;TZID=America/New_York:20260521T190000
DURATION:PT1H0M0S
SUMMARY:Field Testers vs. White Buffalo
DESCRIPTION:New Canaan Recreation Softball League - <br><br>New Canaan Recreation 
LOCATION:Softball Field (Grass Field)
CATEGORIES:QuickScores, Softball - Adult Game
TRANSP:OPAQUE
BEGIN:VALARM
TRIGGER:-PT2H
ACTION:DISPLAY
DESCRIPTION:Field Testers vs. White Buffalo
END:VALARM
END:VEVENT
BEGIN:VEVENT
UID:newcanaanct-74380596-20260527T190000@quickscores.com
DTSTAMP:20260419T211800Z
DTSTART;TZID=America/New_York:20260527T190000
DURATION:PT1H0M0S
SUMMARY:The Firm vs. White Buffalo
DESCRIPTION:New Canaan Recreation Softball League - <br><br>New Canaan Recreation 
LOCATION:Softball Field (Grass Field)
CATEGORIES:QuickScores, Softball - Adult Game
TRANSP:OPAQUE
BEGIN:VALARM
TRIGGER:-PT2H
ACTION:DISPLAY
DESCRIPTION:The Firm vs. White Buffalo
END:VALARM
END:VEVENT
BEGIN:VEVENT
UID:newcanaanct-74380593-20260528T180000@quickscores.com
DTSTAMP:20260419T211800Z
DTSTART;TZID=America/New_York:20260528T180000
DURATION:PT1H0M0S
SUMMARY:Other Ones vs. White Buffalo
DESCRIPTION:New Canaan Recreation Softball League - <br><br>New Canaan Recreation 
LOCATION:Softball Field (Grass Field)
CATEGORIES:QuickScores, Softball - Adult Game
TRANSP:OPAQUE
BEGIN:VALARM
TRIGGER:-PT2H
ACTION:DISPLAY
DESCRIPTION:Other Ones vs. White Buffalo
END:VALARM
END:VEVENT
BEGIN:VEVENT
UID:newcanaanct-74380600-20260602T180000@quickscores.com
DTSTAMP:20260419T211800Z
DTSTART;TZID=America/New_York:20260602T180000
DURATION:PT1H0M0S
SUMMARY:White Buffalo vs. Field Testers
DESCRIPTION:New Canaan Recreation Softball League - <br><br>New Canaan Recreation 
LOCATION:Softball Field (Grass Field)
CATEGORIES:QuickScores, Softball - Adult Game
TRANSP:OPAQUE
BEGIN:VALARM
TRIGGER:-PT2H
ACTION:DISPLAY
DESCRIPTION:White Buffalo vs. Field Testers
END:VALARM
END:VEVENT
BEGIN:VEVENT
UID:newcanaanct-74380571-20260610T190000@quickscores.com
DTSTAMP:20260419T211800Z
DTSTART;TZID=America/New_York:20260610T190000
DURATION:PT1H0M0S
SUMMARY:White Buffalo vs. Other Ones
DESCRIPTION:New Canaan Recreation Softball League - <br><br>New Canaan Recreation 
LOCATION:Softball Field (Grass Field)
CATEGORIES:QuickScores, Softball - Adult Game
TRANSP:OPAQUE
BEGIN:VALARM
TRIGGER:-PT2H
ACTION:DISPLAY
DESCRIPTION:White Buffalo vs. Other Ones
END:VALARM
END:VEVENT
BEGIN:VEVENT
UID:newcanaanct-74380570-20260611T180000@quickscores.com
DTSTAMP:20260419T211800Z
DTSTART;TZID=America/New_York:20260611T180000
DURATION:PT1H0M0S
SUMMARY:Base Invaders vs. White Buffalo
DESCRIPTION:New Canaan Recreation Softball League - <br><br>New Canaan Recreation 
LOCATION:Softball Field (Grass Field)
CATEGORIES:QuickScores, Softball - Adult Game
TRANSP:OPAQUE
BEGIN:VALARM
TRIGGER:-PT2H
ACTION:DISPLAY
DESCRIPTION:Base Invaders vs. White Buffalo
END:VALARM
END:VEVENT
BEGIN:VEVENT
UID:newcanaanct-74380610-20260616T180000@quickscores.com
DTSTAMP:20260419T211800Z
DTSTART;TZID=America/New_York:20260616T180000
DURATION:PT1H0M0S
SUMMARY:Toast vs. White Buffalo
DESCRIPTION:New Canaan Recreation Softball League - <br><br>New Canaan Recreation 
LOCATION:Softball Field (Grass Field)
CATEGORIES:QuickScores, Softball - Adult Game
TRANSP:OPAQUE
BEGIN:VALARM
TRIGGER:-PT2H
ACTION:DISPLAY
DESCRIPTION:Toast vs. White Buffalo
END:VALARM
END:VEVENT
BEGIN:VEVENT
UID:newcanaanct-74380614-20260618T190000@quickscores.com
DTSTAMP:20260419T211800Z
DTSTART;TZID=America/New_York:20260618T190000
DURATION:PT1H0M0S
SUMMARY:White Buffalo vs. The Firm
DESCRIPTION:New Canaan Recreation Softball League - <br><br>New Canaan Recreation 
LOCATION:Softball Field (Grass Field)
CATEGORIES:QuickScores, Softball - Adult Game
TRANSP:OPAQUE
BEGIN:VALARM
TRIGGER:-PT2H
ACTION:DISPLAY
DESCRIPTION:White Buffalo vs. The Firm
END:VALARM
END:VEVENT
BEGIN:VEVENT
UID:newcanaanct-74380580-20260625T190000@quickscores.com
DTSTAMP:20260419T211800Z
DTSTART;TZID=America/New_York:20260625T190000
DURATION:PT1H0M0S
SUMMARY:White Buffalo vs. Base Invaders
DESCRIPTION:New Canaan Recreation Softball League - <br><br>New Canaan Recreation 
LOCATION:Softball Field (Grass Field)
CATEGORIES:QuickScores, Softball - Adult Game
TRANSP:OPAQUE
BEGIN:VALARM
TRIGGER:-PT2H
ACTION:DISPLAY
DESCRIPTION:White Buffalo vs. Base Invaders
END:VALARM
END:VEVENT
BEGIN:VEVENT
UID:newcanaanct-74380606-20260701T180000@quickscores.com
DTSTAMP:20260419T211800Z
DTSTART;TZID=America/New_York:20260701T180000
DURATION:PT1H0M0S
SUMMARY:Newcomers 2.0 vs. White Buffalo
DESCRIPTION:New Canaan Recreation Softball League - <br><br>New Canaan Recreation 
LOCATION:Softball Field (Grass Field)
CATEGORIES:QuickScores, Softball - Adult Game
TRANSP:OPAQUE
BEGIN:VALARM
TRIGGER:-PT2H
ACTION:DISPLAY
DESCRIPTION:Newcomers 2.0 vs. White Buffalo
END:VALARM
END:VEVENT
BEGIN:VEVENT
UID:newcanaanct-74380576-20260707T180000@quickscores.com
DTSTAMP:20260419T211800Z
DTSTART;TZID=America/New_York:20260707T180000
DURATION:PT1H0M0S
SUMMARY:White Buffalo vs. Yard Goats
DESCRIPTION:New Canaan Recreation Softball League - <br><br>New Canaan Recreation 
LOCATION:Softball Field (Grass Field)
CATEGORIES:QuickScores, Softball - Adult Game
TRANSP:OPAQUE
BEGIN:VALARM
TRIGGER:-PT2H
ACTION:DISPLAY
DESCRIPTION:White Buffalo vs. Yard Goats
END:VALARM
END:VEVENT
END:VCALENDAR
