BEGIN:VCALENDAR
VERSION:2.0
PRODID:-//QuickScores.com//BQ Dynamic iCal Creator//EN
METHOD:PUBLISH
X-WR-CALNAME:Field Testers - New Canaan Recreation Softball League - Spring 2026
X-WR-CALDESC:QuickScores game calendar
X-PUBLISHED-TTL:PT24H
REFRESH-INTERVAL;VALUE=DURATION:PT24H
CALSCALE:GREGORIAN
BEGIN:VTIMEZONE
TZID:America/New_York
X-LIC-LOCATION:America/New_York
BEGIN:DAYLIGHT
TZNAME:EDT
TZOFFSETFROM:-0500
TZOFFSETTO:-0400
DTSTART:19700308T020000
RRULE:FREQ=YEARLY;BYMONTH=3;BYDAY=2SU
END:DAYLIGHT
BEGIN:STANDARD
TZNAME:EST
TZOFFSETFROM:-0400
TZOFFSETTO:-0500
DTSTART:19701101T020000
RRULE:FREQ=YEARLY;BYMONTH=11;BYDAY=1SU
END:STANDARD
END:VTIMEZONE
BEGIN:VEVENT
UID:newcanaanct-74380567-20260423T181500@quickscores.com
DTSTAMP:20260421T021800Z
DTSTART;TZID=America/New_York:20260423T181500
DURATION:PT1H0M0S
SUMMARY:Base Invaders vs. Field Testers
DESCRIPTION:New Canaan Recreation Softball League - <br><br>New Canaan Recreation 
LOCATION:Softball Field (Grass Field)
CATEGORIES:QuickScores, Softball - Adult Game
TRANSP:OPAQUE
BEGIN:VALARM
TRIGGER:-PT2H
ACTION:DISPLAY
DESCRIPTION:Base Invaders vs. Field Testers
END:VALARM
END:VEVENT
BEGIN:VEVENT
UID:newcanaanct-74380573-20260430T181500@quickscores.com
DTSTAMP:20260421T021800Z
DTSTART;TZID=America/New_York:20260430T181500
DURATION:PT1H0M0S
SUMMARY:Newcomers 2.0 vs. Field Testers
DESCRIPTION:New Canaan Recreation Softball League - <br><br>New Canaan Recreation 
LOCATION:Softball Field (Grass Field)
CATEGORIES:QuickScores, Softball - Adult Game
TRANSP:OPAQUE
BEGIN:VALARM
TRIGGER:-PT2H
ACTION:DISPLAY
DESCRIPTION:Newcomers 2.0 vs. Field Testers
END:VALARM
END:VEVENT
BEGIN:VEVENT
UID:newcanaanct-74380581-20260512T181500@quickscores.com
DTSTAMP:20260421T021800Z
DTSTART;TZID=America/New_York:20260512T181500
DURATION:PT1H0M0S
SUMMARY:Field Testers vs. Newcomers 2.0
DESCRIPTION:New Canaan Recreation Softball League - <br><br>New Canaan Recreation 
LOCATION:Softball Field (Grass Field)
CATEGORIES:QuickScores, Softball - Adult Game
TRANSP:OPAQUE
BEGIN:VALARM
TRIGGER:-PT2H
ACTION:DISPLAY
DESCRIPTION:Field Testers vs. Newcomers 2.0
END:VALARM
END:VEVENT
BEGIN:VEVENT
UID:newcanaanct-74380587-20260520T190000@quickscores.com
DTSTAMP:20260421T021800Z
DTSTART;TZID=America/New_York:20260520T190000
DURATION:PT1H0M0S
SUMMARY:The Firm vs. Field Testers
DESCRIPTION:New Canaan Recreation Softball League - <br><br>New Canaan Recreation 
LOCATION:Softball Field (Grass Field)
CATEGORIES:QuickScores, Softball - Adult Game
TRANSP:OPAQUE
BEGIN:VALARM
TRIGGER:-PT2H
ACTION:DISPLAY
DESCRIPTION:The Firm vs. Field Testers
END:VALARM
END:VEVENT
BEGIN:VEVENT
UID:newcanaanct-74380590-20260521T190000@quickscores.com
DTSTAMP:20260421T021800Z
DTSTART;TZID=America/New_York:20260521T190000
DURATION:PT1H0M0S
SUMMARY:Field Testers vs. White Buffalo
DESCRIPTION:New Canaan Recreation Softball League - <br><br>New Canaan Recreation 
LOCATION:Softball Field (Grass Field)
CATEGORIES:QuickScores, Softball - Adult Game
TRANSP:OPAQUE
BEGIN:VALARM
TRIGGER:-PT2H
ACTION:DISPLAY
DESCRIPTION:Field Testers vs. White Buffalo
END:VALARM
END:VEVENT
BEGIN:VEVENT
UID:newcanaanct-74380594-20260526T180000@quickscores.com
DTSTAMP:20260421T021800Z
DTSTART;TZID=America/New_York:20260526T180000
DURATION:PT1H0M0S
SUMMARY:Toast vs. Field Testers
DESCRIPTION:New Canaan Recreation Softball League - <br><br>New Canaan Recreation 
LOCATION:Softball Field (Grass Field)
CATEGORIES:QuickScores, Softball - Adult Game
TRANSP:OPAQUE
BEGIN:VALARM
TRIGGER:-PT2H
ACTION:DISPLAY
DESCRIPTION:Toast vs. Field Testers
END:VALARM
END:VEVENT
BEGIN:VEVENT
UID:newcanaanct-74380600-20260602T180000@quickscores.com
DTSTAMP:20260421T021800Z
DTSTART;TZID=America/New_York:20260602T180000
DURATION:PT1H0M0S
SUMMARY:White Buffalo vs. Field Testers
DESCRIPTION:New Canaan Recreation Softball League - <br><br>New Canaan Recreation 
LOCATION:Softball Field (Grass Field)
CATEGORIES:QuickScores, Softball - Adult Game
TRANSP:OPAQUE
BEGIN:VALARM
TRIGGER:-PT2H
ACTION:DISPLAY
DESCRIPTION:White Buffalo vs. Field Testers
END:VALARM
END:VEVENT
BEGIN:VEVENT
UID:newcanaanct-74380562-20260609T190000@quickscores.com
DTSTAMP:20260421T021800Z
DTSTART;TZID=America/New_York:20260609T190000
DURATION:PT1H0M0S
SUMMARY:Field Testers vs. Base Invaders
DESCRIPTION:New Canaan Recreation Softball League - <br><br>New Canaan Recreation 
LOCATION:Softball Field (Grass Field)
CATEGORIES:QuickScores, Softball - Adult Game
TRANSP:OPAQUE
BEGIN:VALARM
TRIGGER:-PT2H
ACTION:DISPLAY
DESCRIPTION:Field Testers vs. Base Invaders
END:VALARM
END:VEVENT
BEGIN:VEVENT
UID:newcanaanct-74380572-20260611T190000@quickscores.com
DTSTAMP:20260421T021800Z
DTSTART;TZID=America/New_York:20260611T190000
DURATION:PT1H0M0S
SUMMARY:Yard Goats vs. Field Testers
DESCRIPTION:New Canaan Recreation Softball League - <br><br>New Canaan Recreation 
LOCATION:Softball Field (Grass Field)
CATEGORIES:QuickScores, Softball - Adult Game
TRANSP:OPAQUE
BEGIN:VALARM
TRIGGER:-PT2H
ACTION:DISPLAY
DESCRIPTION:Yard Goats vs. Field Testers
END:VALARM
END:VEVENT
BEGIN:VEVENT
UID:newcanaanct-74380611-20260616T190000@quickscores.com
DTSTAMP:20260421T021800Z
DTSTART;TZID=America/New_York:20260616T190000
DURATION:PT1H0M0S
SUMMARY:Field Testers vs. The Firm
DESCRIPTION:New Canaan Recreation Softball League - <br><br>New Canaan Recreation 
LOCATION:Softball Field (Grass Field)
CATEGORIES:QuickScores, Softball - Adult Game
TRANSP:OPAQUE
BEGIN:VALARM
TRIGGER:-PT2H
ACTION:DISPLAY
DESCRIPTION:Field Testers vs. The Firm
END:VALARM
END:VEVENT
BEGIN:VEVENT
UID:newcanaanct-74380613-20260617T190000@quickscores.com
DTSTAMP:20260421T021800Z
DTSTART;TZID=America/New_York:20260617T190000
DURATION:PT1H0M0S
SUMMARY:Field Testers vs. Other Ones
DESCRIPTION:New Canaan Recreation Softball League - <br><br>New Canaan Recreation 
LOCATION:Softball Field (Grass Field)
CATEGORIES:QuickScores, Softball - Adult Game
TRANSP:OPAQUE
BEGIN:VALARM
TRIGGER:-PT2H
ACTION:DISPLAY
DESCRIPTION:Field Testers vs. Other Ones
END:VALARM
END:VEVENT
BEGIN:VEVENT
UID:newcanaanct-74380584-20260624T190000@quickscores.com
DTSTAMP:20260421T021800Z
DTSTART;TZID=America/New_York:20260624T190000
DURATION:PT1H0M0S
SUMMARY:Field Testers vs. Toast
DESCRIPTION:New Canaan Recreation Softball League - <br><br>New Canaan Recreation 
LOCATION:Softball Field (Grass Field)
CATEGORIES:QuickScores, Softball - Adult Game
TRANSP:OPAQUE
BEGIN:VALARM
TRIGGER:-PT2H
ACTION:DISPLAY
DESCRIPTION:Field Testers vs. Toast
END:VALARM
END:VEVENT
BEGIN:VEVENT
UID:newcanaanct-74380607-20260630T180000@quickscores.com
DTSTAMP:20260421T021800Z
DTSTART;TZID=America/New_York:20260630T180000
DURATION:PT1H0M0S
SUMMARY:Other Ones vs. Field Testers
DESCRIPTION:New Canaan Recreation Softball League - <br><br>New Canaan Recreation 
LOCATION:Softball Field (Grass Field)
CATEGORIES:QuickScores, Softball - Adult Game
TRANSP:OPAQUE
BEGIN:VALARM
TRIGGER:-PT2H
ACTION:DISPLAY
DESCRIPTION:Other Ones vs. Field Testers
END:VALARM
END:VEVENT
BEGIN:VEVENT
UID:newcanaanct-74380608-20260702T190000@quickscores.com
DTSTAMP:20260421T021800Z
DTSTART;TZID=America/New_York:20260702T190000
DURATION:PT1H0M0S
SUMMARY:Field Testers vs. Yard Goats
DESCRIPTION:New Canaan Recreation Softball League - <br><br>New Canaan Recreation 
LOCATION:Softball Field (Grass Field)
CATEGORIES:QuickScores, Softball - Adult Game
TRANSP:OPAQUE
BEGIN:VALARM
TRIGGER:-PT2H
ACTION:DISPLAY
DESCRIPTION:Field Testers vs. Yard Goats
END:VALARM
END:VEVENT
END:VCALENDAR
