BEGIN:VCALENDAR
VERSION:2.0
PRODID:-//QuickScores.com//BQ Dynamic iCal Creator//EN
METHOD:PUBLISH
X-WR-CALNAME:Falcons - Prek Coed Soccer - Spring 2026
X-WR-CALDESC:QuickScores game calendar
X-PUBLISHED-TTL:PT24H
REFRESH-INTERVAL;VALUE=DURATION:PT24H
CALSCALE:GREGORIAN
BEGIN:VTIMEZONE
TZID:America/Denver
X-LIC-LOCATION:America/Denver
BEGIN:DAYLIGHT
TZNAME:MDT
TZOFFSETFROM:-0700
TZOFFSETTO:-0600
DTSTART:19700308T020000
RRULE:FREQ=YEARLY;BYMONTH=3;BYDAY=2SU
END:DAYLIGHT
BEGIN:STANDARD
TZNAME:MST
TZOFFSETFROM:-0600
TZOFFSETTO:-0700
DTSTART:19701101T020000
RRULE:FREQ=YEARLY;BYMONTH=11;BYDAY=1SU
END:STANDARD
END:VTIMEZONE
BEGIN:VEVENT
UID:nephi-73399075-20260316T170000@quickscores.com
DTSTAMP:20260424T081500Z
DTSTART;TZID=America/Denver:20260316T170000
DURATION:PT1H0M0S
SUMMARY:Falcons vs. Lions
DESCRIPTION:Prek Coed Soccer - Nephi Recreation
LOCATION:Town Square Soccer Fields (North west)
CATEGORIES:QuickScores, Soccer Game
TRANSP:OPAQUE
BEGIN:VALARM
TRIGGER:-PT2H
ACTION:DISPLAY
DESCRIPTION:Falcons vs. Lions
END:VALARM
END:VEVENT
BEGIN:VEVENT
UID:nephi-73399078-20260323T170000@quickscores.com
DTSTAMP:20260424T081500Z
DTSTART;TZID=America/Denver:20260323T170000
DURATION:PT1H0M0S
SUMMARY:Coyotes vs. Falcons
DESCRIPTION:Prek Coed Soccer - Nephi Recreation
LOCATION:Town Square RSL Field (West)
CATEGORIES:QuickScores, Soccer Game
TRANSP:OPAQUE
BEGIN:VALARM
TRIGGER:-PT2H
ACTION:DISPLAY
DESCRIPTION:Coyotes vs. Falcons
END:VALARM
END:VEVENT
BEGIN:VEVENT
UID:nephi-73399084-20260330T170000@quickscores.com
DTSTAMP:20260424T081500Z
DTSTART;TZID=America/Denver:20260330T170000
DURATION:PT1H0M0S
SUMMARY:Falcons vs. Eagles
DESCRIPTION:Prek Coed Soccer - Nephi Recreation
LOCATION:Town Square Soccer Fields (North west)
CATEGORIES:QuickScores, Soccer Game
TRANSP:OPAQUE
BEGIN:VALARM
TRIGGER:-PT2H
ACTION:DISPLAY
DESCRIPTION:Falcons vs. Eagles
END:VALARM
END:VEVENT
BEGIN:VEVENT
UID:nephi-73399087-20260413T170000@quickscores.com
DTSTAMP:20260424T081500Z
DTSTART;TZID=America/Denver:20260413T170000
DURATION:PT1H0M0S
SUMMARY:Dolphins vs. Falcons
DESCRIPTION:Prek Coed Soccer - Nephi Recreation
LOCATION:Town Square RSL Field (West)
CATEGORIES:QuickScores, Soccer Game
TRANSP:OPAQUE
BEGIN:VALARM
TRIGGER:-PT2H
ACTION:DISPLAY
DESCRIPTION:Dolphins vs. Falcons
END:VALARM
END:VEVENT
BEGIN:VEVENT
UID:nephi-73399093-20260420T180000@quickscores.com
DTSTAMP:20260424T081500Z
DTSTART;TZID=America/Denver:20260420T180000
DURATION:PT1H0M0S
SUMMARY:Falcons vs. Crush
DESCRIPTION:Prek Coed Soccer - Nephi Recreation
LOCATION:Town Square Soccer Fields (North west)
CATEGORIES:QuickScores, Soccer Game
TRANSP:OPAQUE
BEGIN:VALARM
TRIGGER:-PT2H
ACTION:DISPLAY
DESCRIPTION:Falcons vs. Crush
END:VALARM
END:VEVENT
BEGIN:VEVENT
UID:nephi-73399096-20260427T170000@quickscores.com
DTSTAMP:20260424T081500Z
DTSTART;TZID=America/Denver:20260427T170000
DURATION:PT1H0M0S
SUMMARY:Dragons vs. Falcons
DESCRIPTION:Prek Coed Soccer - Nephi Recreation
LOCATION:Town Square Soccer Fields ( North East)
CATEGORIES:QuickScores, Soccer Game
TRANSP:OPAQUE
BEGIN:VALARM
TRIGGER:-PT2H
ACTION:DISPLAY
DESCRIPTION:Dragons vs. Falcons
END:VALARM
END:VEVENT
BEGIN:VEVENT
UID:nephi-73399101-20260504T170000@quickscores.com
DTSTAMP:20260424T081500Z
DTSTART;TZID=America/Denver:20260504T170000
DURATION:PT1H0M0S
SUMMARY:Falcons vs. Ducks
DESCRIPTION:Prek Coed Soccer - Nephi Recreation
LOCATION:Town Square Soccer Fields ( North East)
CATEGORIES:QuickScores, Soccer Game
TRANSP:OPAQUE
BEGIN:VALARM
TRIGGER:-PT2H
ACTION:DISPLAY
DESCRIPTION:Falcons vs. Ducks
END:VALARM
END:VEVENT
BEGIN:VEVENT
UID:nephi-73399103-20260511T180000@quickscores.com
DTSTAMP:20260424T081500Z
DTSTART;TZID=America/Denver:20260511T180000
DURATION:PT1H0M0S
SUMMARY:Lions vs. Falcons
DESCRIPTION:Prek Coed Soccer - Nephi Recreation
LOCATION:Town Square Soccer Fields (North west)
CATEGORIES:QuickScores, Soccer Game
TRANSP:OPAQUE
BEGIN:VALARM
TRIGGER:-PT2H
ACTION:DISPLAY
DESCRIPTION:Lions vs. Falcons
END:VALARM
END:VEVENT
END:VCALENDAR
