BEGIN:VCALENDAR
VERSION:2.0
PRODID:-//QuickScores.com//BQ Dynamic iCal Creator//EN
METHOD:PUBLISH
X-WR-CALNAME:Dragons - Prek Coed Soccer - Spring 2026
X-WR-CALDESC:QuickScores game calendar
X-PUBLISHED-TTL:PT24H
REFRESH-INTERVAL;VALUE=DURATION:PT24H
CALSCALE:GREGORIAN
BEGIN:VTIMEZONE
TZID:America/Denver
X-LIC-LOCATION:America/Denver
BEGIN:DAYLIGHT
TZNAME:MDT
TZOFFSETFROM:-0700
TZOFFSETTO:-0600
DTSTART:19700308T020000
RRULE:FREQ=YEARLY;BYMONTH=3;BYDAY=2SU
END:DAYLIGHT
BEGIN:STANDARD
TZNAME:MST
TZOFFSETFROM:-0600
TZOFFSETTO:-0700
DTSTART:19701101T020000
RRULE:FREQ=YEARLY;BYMONTH=11;BYDAY=1SU
END:STANDARD
END:VTIMEZONE
BEGIN:VEVENT
UID:nephi-73399076-20260316T170000@quickscores.com
DTSTAMP:20260424T093100Z
DTSTART;TZID=America/Denver:20260316T170000
DURATION:PT1H0M0S
SUMMARY:Crush vs. Dragons
DESCRIPTION:Prek Coed Soccer - Nephi Recreation
LOCATION:Town Square Soccer Fields ( North East)
CATEGORIES:QuickScores, Soccer Game
TRANSP:OPAQUE
BEGIN:VALARM
TRIGGER:-PT2H
ACTION:DISPLAY
DESCRIPTION:Crush vs. Dragons
END:VALARM
END:VEVENT
BEGIN:VEVENT
UID:nephi-73399081-20260323T180000@quickscores.com
DTSTAMP:20260424T093100Z
DTSTART;TZID=America/Denver:20260323T180000
DURATION:PT1H0M0S
SUMMARY:Eagles vs. Dragons
DESCRIPTION:Prek Coed Soccer - Nephi Recreation
LOCATION:Town Square Soccer Fields (North west)
CATEGORIES:QuickScores, Soccer Game
TRANSP:OPAQUE
BEGIN:VALARM
TRIGGER:-PT2H
ACTION:DISPLAY
DESCRIPTION:Eagles vs. Dragons
END:VALARM
END:VEVENT
BEGIN:VEVENT
UID:nephi-73399083-20260330T170000@quickscores.com
DTSTAMP:20260424T093100Z
DTSTART;TZID=America/Denver:20260330T170000
DURATION:PT1H0M0S
SUMMARY:Ducks vs. Dragons
DESCRIPTION:Prek Coed Soccer - Nephi Recreation
LOCATION:Town Square RSL Field (West)
CATEGORIES:QuickScores, Soccer Game
TRANSP:OPAQUE
BEGIN:VALARM
TRIGGER:-PT2H
ACTION:DISPLAY
DESCRIPTION:Ducks vs. Dragons
END:VALARM
END:VEVENT
BEGIN:VEVENT
UID:nephi-73399089-20260413T170000@quickscores.com
DTSTAMP:20260424T093100Z
DTSTART;TZID=America/Denver:20260413T170000
DURATION:PT1H0M0S
SUMMARY:Dragons vs. Lions
DESCRIPTION:Prek Coed Soccer - Nephi Recreation
LOCATION:Town Square Soccer Fields (North west)
CATEGORIES:QuickScores, Soccer Game
TRANSP:OPAQUE
BEGIN:VALARM
TRIGGER:-PT2H
ACTION:DISPLAY
DESCRIPTION:Dragons vs. Lions
END:VALARM
END:VEVENT
BEGIN:VEVENT
UID:nephi-73399090-20260420T170000@quickscores.com
DTSTAMP:20260424T093100Z
DTSTART;TZID=America/Denver:20260420T170000
DURATION:PT1H0M0S
SUMMARY:Coyotes vs. Dragons
DESCRIPTION:Prek Coed Soccer - Nephi Recreation
LOCATION:Town Square Soccer Fields ( North East)
CATEGORIES:QuickScores, Soccer Game
TRANSP:OPAQUE
BEGIN:VALARM
TRIGGER:-PT2H
ACTION:DISPLAY
DESCRIPTION:Coyotes vs. Dragons
END:VALARM
END:VEVENT
BEGIN:VEVENT
UID:nephi-73399096-20260427T170000@quickscores.com
DTSTAMP:20260424T093100Z
DTSTART;TZID=America/Denver:20260427T170000
DURATION:PT1H0M0S
SUMMARY:Dragons vs. Falcons
DESCRIPTION:Prek Coed Soccer - Nephi Recreation
LOCATION:Town Square Soccer Fields ( North East)
CATEGORIES:QuickScores, Soccer Game
TRANSP:OPAQUE
BEGIN:VALARM
TRIGGER:-PT2H
ACTION:DISPLAY
DESCRIPTION:Dragons vs. Falcons
END:VALARM
END:VEVENT
BEGIN:VEVENT
UID:nephi-73399099-20260504T180000@quickscores.com
DTSTAMP:20260424T093100Z
DTSTART;TZID=America/Denver:20260504T180000
DURATION:PT1H0M0S
SUMMARY:Dragons vs. Dolphins
DESCRIPTION:Prek Coed Soccer - Nephi Recreation
LOCATION:Town Square Soccer Fields (North west)
CATEGORIES:QuickScores, Soccer Game
TRANSP:OPAQUE
BEGIN:VALARM
TRIGGER:-PT2H
ACTION:DISPLAY
DESCRIPTION:Dragons vs. Dolphins
END:VALARM
END:VEVENT
BEGIN:VEVENT
UID:nephi-73399104-20260511T170000@quickscores.com
DTSTAMP:20260424T093100Z
DTSTART;TZID=America/Denver:20260511T170000
DURATION:PT1H0M0S
SUMMARY:Dragons vs. Crush
DESCRIPTION:Prek Coed Soccer - Nephi Recreation
LOCATION:Town Square Soccer Fields (North west)
CATEGORIES:QuickScores, Soccer Game
TRANSP:OPAQUE
BEGIN:VALARM
TRIGGER:-PT2H
ACTION:DISPLAY
DESCRIPTION:Dragons vs. Crush
END:VALARM
END:VEVENT
END:VCALENDAR
