BEGIN:VCALENDAR
VERSION:2.0
PRODID:-//QuickScores.com//BQ Dynamic iCal Creator//EN
METHOD:PUBLISH
X-WR-CALNAME:Pitch Perfect - Soccer - Intramurals League - Spring 2024
X-WR-CALDESC:QuickScores game calendar
X-PUBLISHED-TTL:PT24H
REFRESH-INTERVAL;VALUE=DURATION:PT24H
CALSCALE:GREGORIAN
BEGIN:VTIMEZONE
TZID:America/New_York
X-LIC-LOCATION:America/New_York
BEGIN:DAYLIGHT
TZNAME:EDT
TZOFFSETFROM:-0500
TZOFFSETTO:-0400
DTSTART:19700308T020000
RRULE:FREQ=YEARLY;BYMONTH=3;BYDAY=2SU
END:DAYLIGHT
BEGIN:STANDARD
TZNAME:EST
TZOFFSETFROM:-0400
TZOFFSETTO:-0500
DTSTART:19701101T020000
RRULE:FREQ=YEARLY;BYMONTH=11;BYDAY=1SU
END:STANDARD
END:VTIMEZONE
BEGIN:VEVENT
UID:navymwrkeywest-62656452-20240411T190000@quickscores.com
DTSTAMP:20260425T081400Z
DTSTART;TZID=America/New_York:20240411T190000
DURATION:PT1H0M0S
SUMMARY:MAT Globo vs. Pitch Perfect
DESCRIPTION:Soccer - Intramurals League - Navy MWR Key West
LOCATION:Sigsbee Multi-Purpose Field
CATEGORIES:QuickScores, Upcoming Leagues/Events Game
TRANSP:OPAQUE
BEGIN:VALARM
TRIGGER:-PT2H
ACTION:DISPLAY
DESCRIPTION:MAT Globo vs. Pitch Perfect
END:VALARM
END:VEVENT
BEGIN:VEVENT
UID:navymwrkeywest-62656457-20240418T200000@quickscores.com
DTSTAMP:20260425T081400Z
DTSTART;TZID=America/New_York:20240418T200000
DURATION:PT1H0M0S
SUMMARY:Pitch Perfect vs. A.C. Key West
DESCRIPTION:Soccer - Intramurals League - Navy MWR Key West
LOCATION:Sigsbee Multi-Purpose Field
CATEGORIES:QuickScores, Upcoming Leagues/Events Game
TRANSP:OPAQUE
BEGIN:VALARM
TRIGGER:-PT2H
ACTION:DISPLAY
DESCRIPTION:Pitch Perfect vs. A.C. Key West
END:VALARM
END:VEVENT
BEGIN:VEVENT
UID:navymwrkeywest-62656460-20240425T190000@quickscores.com
DTSTAMP:20260425T081400Z
DTSTART;TZID=America/New_York:20240425T190000
DURATION:PT1H0M0S
SUMMARY:Street Feet vs. Pitch Perfect
DESCRIPTION:Soccer - Intramurals League - Navy MWR Key West
LOCATION:Sigsbee Multi-Purpose Field
CATEGORIES:QuickScores, Upcoming Leagues/Events Game
TRANSP:OPAQUE
BEGIN:VALARM
TRIGGER:-PT2H
ACTION:DISPLAY
DESCRIPTION:Street Feet vs. Pitch Perfect
END:VALARM
END:VEVENT
BEGIN:VEVENT
UID:navymwrkeywest-62656464-20240502T190000@quickscores.com
DTSTAMP:20260425T081400Z
DTSTART;TZID=America/New_York:20240502T190000
DURATION:PT1H0M0S
SUMMARY:Pitch Perfect vs. Inter Key West F.C. 2
DESCRIPTION:Soccer - Intramurals League - Navy MWR Key West
LOCATION:Sigsbee Multi-Purpose Field
CATEGORIES:QuickScores, Upcoming Leagues/Events Game
TRANSP:OPAQUE
BEGIN:VALARM
TRIGGER:-PT2H
ACTION:DISPLAY
DESCRIPTION:Pitch Perfect vs. Inter Key West F.C. 2
END:VALARM
END:VEVENT
BEGIN:VEVENT
UID:navymwrkeywest-62656467-20240509T180000@quickscores.com
DTSTAMP:20260425T081400Z
DTSTART;TZID=America/New_York:20240509T180000
DURATION:PT1H0M0S
SUMMARY:SFUWO Scalleywags vs. Pitch Perfect
DESCRIPTION:Soccer - Intramurals League - Navy MWR Key West
LOCATION:Sigsbee Multi-Purpose Field
CATEGORIES:QuickScores, Upcoming Leagues/Events Game
TRANSP:OPAQUE
BEGIN:VALARM
TRIGGER:-PT2H
ACTION:DISPLAY
DESCRIPTION:SFUWO Scalleywags vs. Pitch Perfect
END:VALARM
END:VEVENT
BEGIN:VEVENT
UID:navymwrkeywest-62656471-20240516T180000@quickscores.com
DTSTAMP:20260425T081400Z
DTSTART;TZID=America/New_York:20240516T180000
DURATION:PT1H0M0S
SUMMARY:Pitch Perfect vs. Ballin on a budget
DESCRIPTION:Soccer - Intramurals League - Navy MWR Key West
LOCATION:Sigsbee Multi-Purpose Field
CATEGORIES:QuickScores, Upcoming Leagues/Events Game
TRANSP:OPAQUE
BEGIN:VALARM
TRIGGER:-PT2H
ACTION:DISPLAY
DESCRIPTION:Pitch Perfect vs. Ballin on a budget
END:VALARM
END:VEVENT
BEGIN:VEVENT
UID:navymwrkeywest-62656482-20240530T190000@quickscores.com
DTSTAMP:20260425T081400Z
DTSTART;TZID=America/New_York:20240530T190000
DURATION:PT1H0M0S
SUMMARY:[3] Pitch Perfect vs. [6] MAT Globo
DESCRIPTION:Soccer - Intramurals League - Navy MWR Key West
LOCATION:Sigsbee Multi-Purpose Field
CATEGORIES:QuickScores, Upcoming Leagues/Events Game
TRANSP:OPAQUE
BEGIN:VALARM
TRIGGER:-PT2H
ACTION:DISPLAY
DESCRIPTION:[3] Pitch Perfect vs. [6] MAT Globo
END:VALARM
END:VEVENT
BEGIN:VEVENT
UID:navymwrkeywest-62656484-20240606T180000@quickscores.com
DTSTAMP:20260425T081400Z
DTSTART;TZID=America/New_York:20240606T180000
DURATION:PT1H0M0S
SUMMARY:[2] Ballin on a budget vs. [3] Pitch Perfect
DESCRIPTION:Soccer - Intramurals League - Navy MWR Key West
LOCATION:Sigsbee Multi-Purpose Field
CATEGORIES:QuickScores, Upcoming Leagues/Events Game
TRANSP:OPAQUE
BEGIN:VALARM
TRIGGER:-PT2H
ACTION:DISPLAY
DESCRIPTION:[2] Ballin on a budget vs. [3] Pitch Perfect
END:VALARM
END:VEVENT
END:VCALENDAR
