BEGIN:VCALENDAR
VERSION:2.0
PRODID:-//QuickScores.com//BQ Dynamic iCal Creator//EN
METHOD:PUBLISH
X-WR-CALNAME:Street Feet - Soccer - Intramurals League - Spring 2024
X-WR-CALDESC:QuickScores game calendar
X-PUBLISHED-TTL:PT24H
REFRESH-INTERVAL;VALUE=DURATION:PT24H
CALSCALE:GREGORIAN
BEGIN:VTIMEZONE
TZID:America/New_York
X-LIC-LOCATION:America/New_York
BEGIN:DAYLIGHT
TZNAME:EDT
TZOFFSETFROM:-0500
TZOFFSETTO:-0400
DTSTART:19700308T020000
RRULE:FREQ=YEARLY;BYMONTH=3;BYDAY=2SU
END:DAYLIGHT
BEGIN:STANDARD
TZNAME:EST
TZOFFSETFROM:-0400
TZOFFSETTO:-0500
DTSTART:19701101T020000
RRULE:FREQ=YEARLY;BYMONTH=11;BYDAY=1SU
END:STANDARD
END:VTIMEZONE
BEGIN:VEVENT
UID:navymwrkeywest-62656453-20240411T200000@quickscores.com
DTSTAMP:20260423T182900Z
DTSTART;TZID=America/New_York:20240411T200000
DURATION:PT1H0M0S
SUMMARY:Street Feet vs. SFUWO Scalleywags
DESCRIPTION:Soccer - Intramurals League - Navy MWR Key West
LOCATION:Sigsbee Multi-Purpose Field
CATEGORIES:QuickScores, Upcoming Leagues/Events Game
TRANSP:OPAQUE
BEGIN:VALARM
TRIGGER:-PT2H
ACTION:DISPLAY
DESCRIPTION:Street Feet vs. SFUWO Scalleywags
END:VALARM
END:VEVENT
BEGIN:VEVENT
UID:navymwrkeywest-62656460-20240425T190000@quickscores.com
DTSTAMP:20260423T182900Z
DTSTART;TZID=America/New_York:20240425T190000
DURATION:PT1H0M0S
SUMMARY:Street Feet vs. Pitch Perfect
DESCRIPTION:Soccer - Intramurals League - Navy MWR Key West
LOCATION:Sigsbee Multi-Purpose Field
CATEGORIES:QuickScores, Upcoming Leagues/Events Game
TRANSP:OPAQUE
BEGIN:VALARM
TRIGGER:-PT2H
ACTION:DISPLAY
DESCRIPTION:Street Feet vs. Pitch Perfect
END:VALARM
END:VEVENT
BEGIN:VEVENT
UID:navymwrkeywest-62656463-20240502T180000@quickscores.com
DTSTAMP:20260423T182900Z
DTSTART;TZID=America/New_York:20240502T180000
DURATION:PT1H0M0S
SUMMARY:MAT Globo vs. Street Feet
DESCRIPTION:Soccer - Intramurals League - Navy MWR Key West
LOCATION:Sigsbee Multi-Purpose Field
CATEGORIES:QuickScores, Upcoming Leagues/Events Game
TRANSP:OPAQUE
BEGIN:VALARM
TRIGGER:-PT2H
ACTION:DISPLAY
DESCRIPTION:MAT Globo vs. Street Feet
END:VALARM
END:VEVENT
BEGIN:VEVENT
UID:navymwrkeywest-62656469-20240509T200000@quickscores.com
DTSTAMP:20260423T182900Z
DTSTART;TZID=America/New_York:20240509T200000
DURATION:PT1H0M0S
SUMMARY:Street Feet vs. Ballin on a budget
DESCRIPTION:Soccer - Intramurals League - Navy MWR Key West
LOCATION:Sigsbee Multi-Purpose Field
CATEGORIES:QuickScores, Upcoming Leagues/Events Game
TRANSP:OPAQUE
BEGIN:VALARM
TRIGGER:-PT2H
ACTION:DISPLAY
DESCRIPTION:Street Feet vs. Ballin on a budget
END:VALARM
END:VEVENT
BEGIN:VEVENT
UID:navymwrkeywest-62656472-20240516T190000@quickscores.com
DTSTAMP:20260423T182900Z
DTSTART;TZID=America/New_York:20240516T190000
DURATION:PT1H0M0S
SUMMARY:A.C. Key West vs. Street Feet
DESCRIPTION:Soccer - Intramurals League - Navy MWR Key West
LOCATION:Sigsbee Multi-Purpose Field
CATEGORIES:QuickScores, Upcoming Leagues/Events Game
TRANSP:OPAQUE
BEGIN:VALARM
TRIGGER:-PT2H
ACTION:DISPLAY
DESCRIPTION:A.C. Key West vs. Street Feet
END:VALARM
END:VEVENT
BEGIN:VEVENT
UID:navymwrkeywest-62656477-20240523T200000@quickscores.com
DTSTAMP:20260423T182900Z
DTSTART;TZID=America/New_York:20240523T200000
DURATION:PT1H0M0S
SUMMARY:Inter Key West F.C. 2 vs. Street Feet
DESCRIPTION:GAME TIME CHANGED TO 7PM --- Soccer - Intramurals League - Navy MWR Key West
LOCATION:Sigsbee Multi-Purpose Field
CATEGORIES:QuickScores, Upcoming Leagues/Events Game
TRANSP:OPAQUE
BEGIN:VALARM
TRIGGER:-PT2H
ACTION:DISPLAY
DESCRIPTION:Inter Key West F.C. 2 vs. Street Feet
END:VALARM
END:VEVENT
BEGIN:VEVENT
UID:navymwrkeywest-62656480-20240530T170000@quickscores.com
DTSTAMP:20260423T182900Z
DTSTART;TZID=America/New_York:20240530T170000
DURATION:PT1H0M0S
SUMMARY:[4] Street Feet vs. [5] A.C. Key West
DESCRIPTION:Soccer - Intramurals League - Navy MWR Key West
LOCATION:Sigsbee Multi-Purpose Field
CATEGORIES:QuickScores, Upcoming Leagues/Events Game
TRANSP:OPAQUE
BEGIN:VALARM
TRIGGER:-PT2H
ACTION:DISPLAY
DESCRIPTION:[4] Street Feet vs. [5] A.C. Key West
END:VALARM
END:VEVENT
END:VCALENDAR
