BEGIN:VCALENDAR
VERSION:2.0
PRODID:-//QuickScores.com//BQ Dynamic iCal Creator//EN
METHOD:PUBLISH
X-WR-CALNAME:109356 - Bainbridge Greens (Wed) - Nys Girls Grade 2 - North - Spring 2026
X-WR-CALDESC:QuickScores game calendar
X-PUBLISHED-TTL:PT24H
REFRESH-INTERVAL;VALUE=DURATION:PT24H
CALSCALE:GREGORIAN
BEGIN:VTIMEZONE
TZID:America/Chicago
X-LIC-LOCATION:America/Chicago
BEGIN:DAYLIGHT
TZNAME:CDT
TZOFFSETFROM:-0600
TZOFFSETTO:-0500
DTSTART:19700308T020000
RRULE:FREQ=YEARLY;BYMONTH=3;BYDAY=2SU
END:DAYLIGHT
BEGIN:STANDARD
TZNAME:CST
TZOFFSETFROM:-0500
TZOFFSETTO:-0600
DTSTART:19701101T020000
RRULE:FREQ=YEARLY;BYMONTH=11;BYDAY=1SU
END:STANDARD
END:VTIMEZONE
BEGIN:VEVENT
UID:napervilleparks-73358112-20260411T131500@quickscores.com
DTSTAMP:20260424T000200Z
DTSTART;TZID=America/Chicago:20260411T131500
DURATION:PT1H15M0S
SUMMARY:109362 - Elmwood School (Wed) vs. 109356 - Bainbridge Greens (Wed)
DESCRIPTION:Nys Girls Grade 2 - North - Naperville Park District
LOCATION:Nike Sports Complex Field F2
CATEGORIES:QuickScores, Soccer - Youth Game
TRANSP:OPAQUE
BEGIN:VALARM
TRIGGER:-PT2H
ACTION:DISPLAY
DESCRIPTION:109362 - Elmwood School (Wed) vs. 109356 - Bainbridge Greens (Wed)
END:VALARM
END:VEVENT
BEGIN:VEVENT
UID:napervilleparks-73358114-20260418T093000@quickscores.com
DTSTAMP:20260424T000200Z
DTSTART;TZID=America/Chicago:20260418T093000
DURATION:PT1H15M0S
SUMMARY:109356 - Bainbridge Greens (Wed) vs. 109351 - Prairie Park (Fri)
DESCRIPTION:Nys Girls Grade 2 - North - Naperville Park District
LOCATION:Nike Sports Complex Field F2
CATEGORIES:QuickScores, Soccer - Youth Game
TRANSP:OPAQUE
BEGIN:VALARM
TRIGGER:-PT2H
ACTION:DISPLAY
DESCRIPTION:109356 - Bainbridge Greens (Wed) vs. 109351 - Prairie Park (Fri)
END:VALARM
END:VEVENT
BEGIN:VEVENT
UID:napervilleparks-73358117-20260425T104500@quickscores.com
DTSTAMP:20260424T000200Z
DTSTART;TZID=America/Chicago:20260425T104500
DURATION:PT1H15M0S
SUMMARY:109347 - Gartner Park (Wed) vs. 109356 - Bainbridge Greens (Wed)
DESCRIPTION:Nys Girls Grade 2 - North - Naperville Park District
LOCATION:Nike Sports Complex Field F2
CATEGORIES:QuickScores, Soccer - Youth Game
TRANSP:OPAQUE
BEGIN:VALARM
TRIGGER:-PT2H
ACTION:DISPLAY
DESCRIPTION:109347 - Gartner Park (Wed) vs. 109356 - Bainbridge Greens (Wed)
END:VALARM
END:VEVENT
BEGIN:VEVENT
UID:napervilleparks-73358122-20260502T093000@quickscores.com
DTSTAMP:20260424T000200Z
DTSTART;TZID=America/Chicago:20260502T093000
DURATION:PT1H15M0S
SUMMARY:109355 - Winding Creek Park (Tues) vs. 109356 - Bainbridge Greens (Wed)
DESCRIPTION:Nys Girls Grade 2 - North - Naperville Park District
LOCATION:Nike Sports Complex Field F2
CATEGORIES:QuickScores, Soccer - Youth Game
TRANSP:OPAQUE
BEGIN:VALARM
TRIGGER:-PT2H
ACTION:DISPLAY
DESCRIPTION:109355 - Winding Creek Park (Tues) vs. 109356 - Bainbridge Greens (Wed)
END:VALARM
END:VEVENT
BEGIN:VEVENT
UID:napervilleparks-73358128-20260509T104500@quickscores.com
DTSTAMP:20260424T000200Z
DTSTART;TZID=America/Chicago:20260509T104500
DURATION:PT1H15M0S
SUMMARY:109356 - Bainbridge Greens (Wed) vs. 109344 - Arrowhead Park (Mon)
DESCRIPTION:Nys Girls Grade 2 - North - Naperville Park District
LOCATION:Nike Sports Complex Field F2
CATEGORIES:QuickScores, Soccer - Youth Game
TRANSP:OPAQUE
BEGIN:VALARM
TRIGGER:-PT2H
ACTION:DISPLAY
DESCRIPTION:109356 - Bainbridge Greens (Wed) vs. 109344 - Arrowhead Park (Mon)
END:VALARM
END:VEVENT
BEGIN:VEVENT
UID:napervilleparks-73358130-20260516T104500@quickscores.com
DTSTAMP:20260424T000200Z
DTSTART;TZID=America/Chicago:20260516T104500
DURATION:PT1H15M0S
SUMMARY:109356 - Bainbridge Greens (Wed) vs. 109357 - May Watts Park (Wed)
DESCRIPTION:Nys Girls Grade 2 - North - Naperville Park District
LOCATION:Nike Sports Complex Field F2
CATEGORIES:QuickScores, Soccer - Youth Game
TRANSP:OPAQUE
BEGIN:VALARM
TRIGGER:-PT2H
ACTION:DISPLAY
DESCRIPTION:109356 - Bainbridge Greens (Wed) vs. 109357 - May Watts Park (Wed)
END:VALARM
END:VEVENT
BEGIN:VEVENT
UID:napervilleparks-73358135-20260530T120000@quickscores.com
DTSTAMP:20260424T000200Z
DTSTART;TZID=America/Chicago:20260530T120000
DURATION:PT1H15M0S
SUMMARY:109356 - Bainbridge Greens (Wed) vs. 109348 - Highlands School (Fri)
DESCRIPTION:Nys Girls Grade 2 - North - Naperville Park District
LOCATION:Nike Sports Complex Field F2
CATEGORIES:QuickScores, Soccer - Youth Game
TRANSP:OPAQUE
BEGIN:VALARM
TRIGGER:-PT2H
ACTION:DISPLAY
DESCRIPTION:109356 - Bainbridge Greens (Wed) vs. 109348 - Highlands School (Fri)
END:VALARM
END:VEVENT
END:VCALENDAR
