BEGIN:VCALENDAR
VERSION:2.0
PRODID:-//QuickScores.com//BQ Dynamic iCal Creator//EN
METHOD:PUBLISH
X-WR-CALNAME:109190 - Buttonwood Park (Tues) - Nys Boys Grade 1 - North - Spring 2026
X-WR-CALDESC:QuickScores game calendar
X-PUBLISHED-TTL:PT24H
REFRESH-INTERVAL;VALUE=DURATION:PT24H
CALSCALE:GREGORIAN
BEGIN:VTIMEZONE
TZID:America/Chicago
X-LIC-LOCATION:America/Chicago
BEGIN:DAYLIGHT
TZNAME:CDT
TZOFFSETFROM:-0600
TZOFFSETTO:-0500
DTSTART:19700308T020000
RRULE:FREQ=YEARLY;BYMONTH=3;BYDAY=2SU
END:DAYLIGHT
BEGIN:STANDARD
TZNAME:CST
TZOFFSETFROM:-0500
TZOFFSETTO:-0600
DTSTART:19701101T020000
RRULE:FREQ=YEARLY;BYMONTH=11;BYDAY=1SU
END:STANDARD
END:VTIMEZONE
BEGIN:VEVENT
UID:napervilleparks-73310850-20260411T140000@quickscores.com
DTSTAMP:20260424T105700Z
DTSTART;TZID=America/Chicago:20260411T140000
DURATION:PT1H0M0S
SUMMARY:109190 - Buttonwood Park (Tues) vs. 109173 - Prairie Park (Mon)
DESCRIPTION:Nys Boys Grade 1 - North - Naperville Park District
LOCATION:Westglen Park Field B
CATEGORIES:QuickScores, Soccer - Youth Game
TRANSP:OPAQUE
BEGIN:VALARM
TRIGGER:-PT2H
ACTION:DISPLAY
DESCRIPTION:109190 - Buttonwood Park (Tues) vs. 109173 - Prairie Park (Mon)
END:VALARM
END:VEVENT
BEGIN:VEVENT
UID:napervilleparks-73310852-20260418T093000@quickscores.com
DTSTAMP:20260424T105700Z
DTSTART;TZID=America/Chicago:20260418T093000
DURATION:PT1H0M0S
SUMMARY:109171 - May Watts Park (Fri) vs. 109190 - Buttonwood Park (Tues)
DESCRIPTION:Game on as scheduled! --- Nys Boys Grade 1 - North - Naperville Park District
LOCATION:Westglen Park Field A
CATEGORIES:QuickScores, Soccer - Youth Game
TRANSP:OPAQUE
BEGIN:VALARM
TRIGGER:-PT2H
ACTION:DISPLAY
DESCRIPTION:109171 - May Watts Park (Fri) vs. 109190 - Buttonwood Park (Tues)
END:VALARM
END:VEVENT
BEGIN:VEVENT
UID:napervilleparks-73310856-20260425T093000@quickscores.com
DTSTAMP:20260424T105700Z
DTSTART;TZID=America/Chicago:20260425T093000
DURATION:PT1H0M0S
SUMMARY:109190 - Buttonwood Park (Tues) vs. 109169 - Kendall Park (Wed)
DESCRIPTION:Nys Boys Grade 1 - North - Naperville Park District
LOCATION:Westglen Park Field A
CATEGORIES:QuickScores, Soccer - Youth Game
TRANSP:OPAQUE
BEGIN:VALARM
TRIGGER:-PT2H
ACTION:DISPLAY
DESCRIPTION:109190 - Buttonwood Park (Tues) vs. 109169 - Kendall Park (Wed)
END:VALARM
END:VEVENT
BEGIN:VEVENT
UID:napervilleparks-73310861-20260502T130000@quickscores.com
DTSTAMP:20260424T105700Z
DTSTART;TZID=America/Chicago:20260502T130000
DURATION:PT1H0M0S
SUMMARY:109183 - Bainbridge Greens (Mon) vs. 109190 - Buttonwood Park (Tues)
DESCRIPTION:Nys Boys Grade 1 - North - Naperville Park District
LOCATION:Westglen Park Field B
CATEGORIES:QuickScores, Soccer - Youth Game
TRANSP:OPAQUE
BEGIN:VALARM
TRIGGER:-PT2H
ACTION:DISPLAY
DESCRIPTION:109183 - Bainbridge Greens (Mon) vs. 109190 - Buttonwood Park (Tues)
END:VALARM
END:VEVENT
BEGIN:VEVENT
UID:napervilleparks-73310864-20260509T093000@quickscores.com
DTSTAMP:20260424T105700Z
DTSTART;TZID=America/Chicago:20260509T093000
DURATION:PT1H0M0S
SUMMARY:109163 - Arrowhead Park (Fri) vs. 109190 - Buttonwood Park (Tues)
DESCRIPTION:Nys Boys Grade 1 - North - Naperville Park District
LOCATION:Westglen Park Field A
CATEGORIES:QuickScores, Soccer - Youth Game
TRANSP:OPAQUE
BEGIN:VALARM
TRIGGER:-PT2H
ACTION:DISPLAY
DESCRIPTION:109163 - Arrowhead Park (Fri) vs. 109190 - Buttonwood Park (Tues)
END:VALARM
END:VEVENT
BEGIN:VEVENT
UID:napervilleparks-73310868-20260516T120000@quickscores.com
DTSTAMP:20260424T105700Z
DTSTART;TZID=America/Chicago:20260516T120000
DURATION:PT1H0M0S
SUMMARY:109190 - Buttonwood Park (Tues) vs. 109179 - Columbia Estates Park (Thurs)
DESCRIPTION:Nys Boys Grade 1 - North - Naperville Park District
LOCATION:Westglen Park Field B
CATEGORIES:QuickScores, Soccer - Youth Game
TRANSP:OPAQUE
BEGIN:VALARM
TRIGGER:-PT2H
ACTION:DISPLAY
DESCRIPTION:109190 - Buttonwood Park (Tues) vs. 109179 - Columbia Estates Park (Thurs)
END:VALARM
END:VEVENT
BEGIN:VEVENT
UID:napervilleparks-73310871-20260530T093000@quickscores.com
DTSTAMP:20260424T105700Z
DTSTART;TZID=America/Chicago:20260530T093000
DURATION:PT1H0M0S
SUMMARY:109190 - Buttonwood Park (Tues) vs. 109166 - Gartner Park (Mon)
DESCRIPTION:Nys Boys Grade 1 - North - Naperville Park District
LOCATION:Westglen Park Field A
CATEGORIES:QuickScores, Soccer - Youth Game
TRANSP:OPAQUE
BEGIN:VALARM
TRIGGER:-PT2H
ACTION:DISPLAY
DESCRIPTION:109190 - Buttonwood Park (Tues) vs. 109166 - Gartner Park (Mon)
END:VALARM
END:VEVENT
END:VCALENDAR
