BEGIN:VCALENDAR
VERSION:2.0
PRODID:-//QuickScores.com//BQ Dynamic iCal Creator//EN
METHOD:PUBLISH
X-WR-CALNAME:Team Hogan - Npsl University Boys Grade 1 - Spring 2026
X-WR-CALDESC:QuickScores game calendar
X-PUBLISHED-TTL:PT24H
REFRESH-INTERVAL;VALUE=DURATION:PT24H
CALSCALE:GREGORIAN
BEGIN:VTIMEZONE
TZID:America/Chicago
X-LIC-LOCATION:America/Chicago
BEGIN:DAYLIGHT
TZNAME:CDT
TZOFFSETFROM:-0600
TZOFFSETTO:-0500
DTSTART:19700308T020000
RRULE:FREQ=YEARLY;BYMONTH=3;BYDAY=2SU
END:DAYLIGHT
BEGIN:STANDARD
TZNAME:CST
TZOFFSETFROM:-0500
TZOFFSETTO:-0600
DTSTART:19701101T020000
RRULE:FREQ=YEARLY;BYMONTH=11;BYDAY=1SU
END:STANDARD
END:VTIMEZONE
BEGIN:VEVENT
UID:napervilleparks-73359075-20260411T100000@quickscores.com
DTSTAMP:20260425T135200Z
DTSTART;TZID=America/Chicago:20260411T100000
DURATION:PT1H0M0S
SUMMARY:Team Hogan vs. Team Dunham
DESCRIPTION:Npsl University Boys Grade 1 - Naperville Park District
LOCATION:Frontier Sports Complex A1
CATEGORIES:QuickScores, Soccer - Youth Game
TRANSP:OPAQUE
BEGIN:VALARM
TRIGGER:-PT2H
ACTION:DISPLAY
DESCRIPTION:Team Hogan vs. Team Dunham
END:VALARM
END:VEVENT
BEGIN:VEVENT
UID:napervilleparks-73359086-20260425T090000@quickscores.com
DTSTAMP:20260425T135200Z
DTSTART;TZID=America/Chicago:20260425T090000
DURATION:PT1H0M0S
SUMMARY:Team Watkins vs. Team Hogan
DESCRIPTION:Npsl University Boys Grade 1 - Naperville Park District
LOCATION:Frontier Sports Complex A2
CATEGORIES:QuickScores, Soccer - Youth Game
TRANSP:OPAQUE
BEGIN:VALARM
TRIGGER:-PT2H
ACTION:DISPLAY
DESCRIPTION:Team Watkins vs. Team Hogan
END:VALARM
END:VEVENT
BEGIN:VEVENT
UID:napervilleparks-73359097-20260502T150000@quickscores.com
DTSTAMP:20260425T135200Z
DTSTART;TZID=America/Chicago:20260502T150000
DURATION:PT1H0M0S
SUMMARY:Team Reynolds vs. Team Hogan
DESCRIPTION:Npsl University Boys Grade 1 - Naperville Park District
LOCATION:Frontier Sports Complex A1
CATEGORIES:QuickScores, Soccer - Youth Game
TRANSP:OPAQUE
BEGIN:VALARM
TRIGGER:-PT2H
ACTION:DISPLAY
DESCRIPTION:Team Reynolds vs. Team Hogan
END:VALARM
END:VEVENT
BEGIN:VEVENT
UID:napervilleparks-73359106-20260509T090000@quickscores.com
DTSTAMP:20260425T135200Z
DTSTART;TZID=America/Chicago:20260509T090000
DURATION:PT1H0M0S
SUMMARY:Team Jones vs. Team Hogan
DESCRIPTION:Npsl University Boys Grade 1 - Naperville Park District
LOCATION:Frontier Sports Complex A2
CATEGORIES:QuickScores, Soccer - Youth Game
TRANSP:OPAQUE
BEGIN:VALARM
TRIGGER:-PT2H
ACTION:DISPLAY
DESCRIPTION:Team Jones vs. Team Hogan
END:VALARM
END:VEVENT
BEGIN:VEVENT
UID:napervilleparks-73359115-20260516T140000@quickscores.com
DTSTAMP:20260425T135200Z
DTSTART;TZID=America/Chicago:20260516T140000
DURATION:PT1H0M0S
SUMMARY:Team Hogan vs. Team Duerr
DESCRIPTION:Npsl University Boys Grade 1 - Naperville Park District
LOCATION:Frontier Sports Complex A1
CATEGORIES:QuickScores, Soccer - Youth Game
TRANSP:OPAQUE
BEGIN:VALARM
TRIGGER:-PT2H
ACTION:DISPLAY
DESCRIPTION:Team Hogan vs. Team Duerr
END:VALARM
END:VEVENT
BEGIN:VEVENT
UID:napervilleparks-73359119-20260530T140000@quickscores.com
DTSTAMP:20260425T135200Z
DTSTART;TZID=America/Chicago:20260530T140000
DURATION:PT1H0M0S
SUMMARY:Team Zamora vs. Team Hogan
DESCRIPTION:Npsl University Boys Grade 1 - Naperville Park District
LOCATION:Frontier Sports Complex A1
CATEGORIES:QuickScores, Soccer - Youth Game
TRANSP:OPAQUE
BEGIN:VALARM
TRIGGER:-PT2H
ACTION:DISPLAY
DESCRIPTION:Team Zamora vs. Team Hogan
END:VALARM
END:VEVENT
BEGIN:VEVENT
UID:napervilleparks-73359084-20260606T110000@quickscores.com
DTSTAMP:20260425T135200Z
DTSTART;TZID=America/Chicago:20260606T110000
DURATION:PT1H0M0S
SUMMARY:Team Hogan vs. Team Liautaud
DESCRIPTION:Rescheduled game from 4/18 rainout --- Npsl University Boys Grade 1 - Naperville Park District
LOCATION:Frontier Sports Complex A1
CATEGORIES:QuickScores, Soccer - Youth Game
TRANSP:OPAQUE
BEGIN:VALARM
TRIGGER:-PT2H
ACTION:DISPLAY
DESCRIPTION:Team Hogan vs. Team Liautaud
END:VALARM
END:VEVENT
BEGIN:VEVENT
UID:napervilleparks-73359082-20260606T120000@quickscores.com
DTSTAMP:20260425T135200Z
DTSTART;TZID=America/Chicago:20260606T120000
DURATION:PT1H0M0S
SUMMARY:Team Hogan vs. Team Volin
DESCRIPTION:Rescheduled game from 4/18 rainout --- Npsl University Boys Grade 1 - Naperville Park District
LOCATION:Frontier Sports Complex A1
CATEGORIES:QuickScores, Soccer - Youth Game
TRANSP:OPAQUE
BEGIN:VALARM
TRIGGER:-PT2H
ACTION:DISPLAY
DESCRIPTION:Team Hogan vs. Team Volin
END:VALARM
END:VEVENT
END:VCALENDAR
