BEGIN:VCALENDAR
VERSION:2.0
PRODID:-//QuickScores.com//BQ Dynamic iCal Creator//EN
METHOD:PUBLISH
X-WR-CALNAME:Team Damianides - Npsl University Boys Grade 1 - Spring 2026
X-WR-CALDESC:QuickScores game calendar
X-PUBLISHED-TTL:PT24H
REFRESH-INTERVAL;VALUE=DURATION:PT24H
CALSCALE:GREGORIAN
BEGIN:VTIMEZONE
TZID:America/Chicago
X-LIC-LOCATION:America/Chicago
BEGIN:DAYLIGHT
TZNAME:CDT
TZOFFSETFROM:-0600
TZOFFSETTO:-0500
DTSTART:19700308T020000
RRULE:FREQ=YEARLY;BYMONTH=3;BYDAY=2SU
END:DAYLIGHT
BEGIN:STANDARD
TZNAME:CST
TZOFFSETFROM:-0500
TZOFFSETTO:-0600
DTSTART:19701101T020000
RRULE:FREQ=YEARLY;BYMONTH=11;BYDAY=1SU
END:STANDARD
END:VTIMEZONE
BEGIN:VEVENT
UID:napervilleparks-73359071-20260411T110000@quickscores.com
DTSTAMP:20260425T065700Z
DTSTART;TZID=America/Chicago:20260411T110000
DURATION:PT1H0M0S
SUMMARY:Team Reynolds vs. Team Damianides
DESCRIPTION:Npsl University Boys Grade 1 - Naperville Park District
LOCATION:Frontier Sports Complex A1
CATEGORIES:QuickScores, Soccer - Youth Game
TRANSP:OPAQUE
BEGIN:VALARM
TRIGGER:-PT2H
ACTION:DISPLAY
DESCRIPTION:Team Reynolds vs. Team Damianides
END:VALARM
END:VEVENT
BEGIN:VEVENT
UID:napervilleparks-73359085-20260425T090000@quickscores.com
DTSTAMP:20260425T065700Z
DTSTART;TZID=America/Chicago:20260425T090000
DURATION:PT1H0M0S
SUMMARY:Team Damianides vs. Team Volin
DESCRIPTION:Npsl University Boys Grade 1 - Naperville Park District
LOCATION:Frontier Sports Complex A1
CATEGORIES:QuickScores, Soccer - Youth Game
TRANSP:OPAQUE
BEGIN:VALARM
TRIGGER:-PT2H
ACTION:DISPLAY
DESCRIPTION:Team Damianides vs. Team Volin
END:VALARM
END:VEVENT
BEGIN:VEVENT
UID:napervilleparks-73359099-20260502T090000@quickscores.com
DTSTAMP:20260425T065700Z
DTSTART;TZID=America/Chicago:20260502T090000
DURATION:PT1H0M0S
SUMMARY:Team Damianides vs. Team Liautaud
DESCRIPTION:Npsl University Boys Grade 1 - Naperville Park District
LOCATION:Frontier Sports Complex A1
CATEGORIES:QuickScores, Soccer - Youth Game
TRANSP:OPAQUE
BEGIN:VALARM
TRIGGER:-PT2H
ACTION:DISPLAY
DESCRIPTION:Team Damianides vs. Team Liautaud
END:VALARM
END:VEVENT
BEGIN:VEVENT
UID:napervilleparks-73359105-20260509T140000@quickscores.com
DTSTAMP:20260425T065700Z
DTSTART;TZID=America/Chicago:20260509T140000
DURATION:PT1H0M0S
SUMMARY:Team Damianides vs. Team Dunham
DESCRIPTION:Npsl University Boys Grade 1 - Naperville Park District
LOCATION:Frontier Sports Complex A1
CATEGORIES:QuickScores, Soccer - Youth Game
TRANSP:OPAQUE
BEGIN:VALARM
TRIGGER:-PT2H
ACTION:DISPLAY
DESCRIPTION:Team Damianides vs. Team Dunham
END:VALARM
END:VEVENT
BEGIN:VEVENT
UID:napervilleparks-73359108-20260509T150000@quickscores.com
DTSTAMP:20260425T065700Z
DTSTART;TZID=America/Chicago:20260509T150000
DURATION:PT1H0M0S
SUMMARY:Team Damianides vs. Team McDermott
DESCRIPTION:Npsl University Boys Grade 1 - Naperville Park District
LOCATION:Frontier Sports Complex A1
CATEGORIES:QuickScores, Soccer - Youth Game
TRANSP:OPAQUE
BEGIN:VALARM
TRIGGER:-PT2H
ACTION:DISPLAY
DESCRIPTION:Team Damianides vs. Team McDermott
END:VALARM
END:VEVENT
BEGIN:VEVENT
UID:napervilleparks-73359114-20260516T090000@quickscores.com
DTSTAMP:20260425T065700Z
DTSTART;TZID=America/Chicago:20260516T090000
DURATION:PT1H0M0S
SUMMARY:Team Mahoney vs. Team Damianides
DESCRIPTION:Npsl University Boys Grade 1 - Naperville Park District
LOCATION:Frontier Sports Complex A1
CATEGORIES:QuickScores, Soccer - Youth Game
TRANSP:OPAQUE
BEGIN:VALARM
TRIGGER:-PT2H
ACTION:DISPLAY
DESCRIPTION:Team Mahoney vs. Team Damianides
END:VALARM
END:VEVENT
BEGIN:VEVENT
UID:napervilleparks-73359122-20260530T130000@quickscores.com
DTSTAMP:20260425T065700Z
DTSTART;TZID=America/Chicago:20260530T130000
DURATION:PT1H0M0S
SUMMARY:Team Damianides vs. Team Watkins
DESCRIPTION:Npsl University Boys Grade 1 - Naperville Park District
LOCATION:Frontier Sports Complex A1
CATEGORIES:QuickScores, Soccer - Youth Game
TRANSP:OPAQUE
BEGIN:VALARM
TRIGGER:-PT2H
ACTION:DISPLAY
DESCRIPTION:Team Damianides vs. Team Watkins
END:VALARM
END:VEVENT
BEGIN:VEVENT
UID:napervilleparks-73359078-20260606T090000@quickscores.com
DTSTAMP:20260425T065700Z
DTSTART;TZID=America/Chicago:20260606T090000
DURATION:PT1H0M0S
SUMMARY:Team Duerr vs. Team Damianides
DESCRIPTION:Rescheduled game from 4/18 rainout --- Npsl University Boys Grade 1 - Naperville Park District
LOCATION:Frontier Sports Complex A1
CATEGORIES:QuickScores, Soccer - Youth Game
TRANSP:OPAQUE
BEGIN:VALARM
TRIGGER:-PT2H
ACTION:DISPLAY
DESCRIPTION:Team Duerr vs. Team Damianides
END:VALARM
END:VEVENT
END:VCALENDAR
