BEGIN:VCALENDAR
VERSION:2.0
PRODID:-//QuickScores.com//BQ Dynamic iCal Creator//EN
METHOD:PUBLISH
X-WR-CALNAME:Honey Creek - 4th - 5th Sijan (saturday Mornings) - Spring 2026
X-WR-CALDESC:QuickScores game calendar
X-PUBLISHED-TTL:PT24H
REFRESH-INTERVAL;VALUE=DURATION:PT24H
CALSCALE:GREGORIAN
BEGIN:VTIMEZONE
TZID:America/Chicago
X-LIC-LOCATION:America/Chicago
BEGIN:DAYLIGHT
TZNAME:CDT
TZOFFSETFROM:-0600
TZOFFSETTO:-0500
DTSTART:19700308T020000
RRULE:FREQ=YEARLY;BYMONTH=3;BYDAY=2SU
END:DAYLIGHT
BEGIN:STANDARD
TZNAME:CST
TZOFFSETFROM:-0500
TZOFFSETTO:-0600
DTSTART:19701101T020000
RRULE:FREQ=YEARLY;BYMONTH=11;BYDAY=1SU
END:STANDARD
END:VTIMEZONE
BEGIN:VEVENT
UID:mke-74648456-20260425T120000@quickscores.com
DTSTAMP:20260423T152100Z
DTSTART;TZID=America/Chicago:20260425T120000
DURATION:PT1H0M0S
SUMMARY:Honey Creek vs. MMSA
DESCRIPTION:4th - 5th Sijan (saturday Mornings) - Milwaukee Recreation Youth Sports
LOCATION:Sijan Field 2
CATEGORIES:QuickScores, Soccer - Youth Game
TRANSP:OPAQUE
BEGIN:VALARM
TRIGGER:-PT2H
ACTION:DISPLAY
DESCRIPTION:Honey Creek vs. MMSA
END:VALARM
END:VEVENT
BEGIN:VEVENT
UID:mke-74648457-20260502T090000@quickscores.com
DTSTAMP:20260423T152100Z
DTSTART;TZID=America/Chicago:20260502T090000
DURATION:PT1H0M0S
SUMMARY:MacDowell vs. Honey Creek
DESCRIPTION:4th - 5th Sijan (saturday Mornings) - Milwaukee Recreation Youth Sports
LOCATION:Sijan Field 2
CATEGORIES:QuickScores, Soccer - Youth Game
TRANSP:OPAQUE
BEGIN:VALARM
TRIGGER:-PT2H
ACTION:DISPLAY
DESCRIPTION:MacDowell vs. Honey Creek
END:VALARM
END:VEVENT
BEGIN:VEVENT
UID:mke-74648461-20260509T120000@quickscores.com
DTSTAMP:20260423T152100Z
DTSTART;TZID=America/Chicago:20260509T120000
DURATION:PT1H0M0S
SUMMARY:Honey Creek vs. DMA
DESCRIPTION:4th - 5th Sijan (saturday Mornings) - Milwaukee Recreation Youth Sports
LOCATION:Sijan Field 2
CATEGORIES:QuickScores, Soccer - Youth Game
TRANSP:OPAQUE
BEGIN:VALARM
TRIGGER:-PT2H
ACTION:DISPLAY
DESCRIPTION:Honey Creek vs. DMA
END:VALARM
END:VEVENT
BEGIN:VEVENT
UID:mke-74648466-20260516T110000@quickscores.com
DTSTAMP:20260423T152100Z
DTSTART;TZID=America/Chicago:20260516T110000
DURATION:PT1H0M0S
SUMMARY:Fernwood 1 vs. Honey Creek
DESCRIPTION:4th - 5th Sijan (saturday Mornings) - Milwaukee Recreation Youth Sports
LOCATION:Sijan Field 2
CATEGORIES:QuickScores, Soccer - Youth Game
TRANSP:OPAQUE
BEGIN:VALARM
TRIGGER:-PT2H
ACTION:DISPLAY
DESCRIPTION:Fernwood 1 vs. Honey Creek
END:VALARM
END:VEVENT
BEGIN:VEVENT
UID:mke-74648470-20260530T100000@quickscores.com
DTSTAMP:20260423T152100Z
DTSTART;TZID=America/Chicago:20260530T100000
DURATION:PT1H0M0S
SUMMARY:Honey Creek vs. Golda Meir
DESCRIPTION:4th - 5th Sijan (saturday Mornings) - Milwaukee Recreation Youth Sports
LOCATION:Sijan Field 2
CATEGORIES:QuickScores, Soccer - Youth Game
TRANSP:OPAQUE
BEGIN:VALARM
TRIGGER:-PT2H
ACTION:DISPLAY
DESCRIPTION:Honey Creek vs. Golda Meir
END:VALARM
END:VEVENT
BEGIN:VEVENT
UID:mke-74648475-20260606T110000@quickscores.com
DTSTAMP:20260423T152100Z
DTSTART;TZID=America/Chicago:20260606T110000
DURATION:PT1H0M0S
SUMMARY:Burdick vs. Honey Creek
DESCRIPTION:4th - 5th Sijan (saturday Mornings) - Milwaukee Recreation Youth Sports
LOCATION:Sijan Field 2
CATEGORIES:QuickScores, Soccer - Youth Game
TRANSP:OPAQUE
BEGIN:VALARM
TRIGGER:-PT2H
ACTION:DISPLAY
DESCRIPTION:Burdick vs. Honey Creek
END:VALARM
END:VEVENT
END:VCALENDAR
