BEGIN:VCALENDAR
VERSION:2.0
PRODID:-//QuickScores.com//BQ Dynamic iCal Creator//EN
METHOD:PUBLISH
X-WR-CALNAME:Bagging and Bragging - 2nd Winter Cornhole League 2026 - Winter 2025-2026
X-WR-CALDESC:QuickScores game calendar
X-PUBLISHED-TTL:PT24H
REFRESH-INTERVAL;VALUE=DURATION:PT24H
CALSCALE:GREGORIAN
BEGIN:VTIMEZONE
TZID:America/Denver
X-LIC-LOCATION:America/Denver
BEGIN:DAYLIGHT
TZNAME:MDT
TZOFFSETFROM:-0700
TZOFFSETTO:-0600
DTSTART:19700308T020000
RRULE:FREQ=YEARLY;BYMONTH=3;BYDAY=2SU
END:DAYLIGHT
BEGIN:STANDARD
TZNAME:MST
TZOFFSETFROM:-0600
TZOFFSETTO:-0700
DTSTART:19701101T020000
RRULE:FREQ=YEARLY;BYMONTH=11;BYDAY=1SU
END:STANDARD
END:VTIMEZONE
BEGIN:VEVENT
UID:missoula-73273233-20260225T194500@quickscores.com
DTSTAMP:20260421T180400Z
DTSTART;TZID=America/Denver:20260225T194500
DURATION:PT0H15M0S
SUMMARY:Bagging and Bragging vs. Breakout Session
DESCRIPTION:2nd Winter Cornhole League 2026 - Missoula Parks & Recreation
LOCATION:Lowell Grade School Court 4
CATEGORIES:QuickScores, Cornhole Game
TRANSP:OPAQUE
BEGIN:VALARM
TRIGGER:-PT2H
ACTION:DISPLAY
DESCRIPTION:Bagging and Bragging vs. Breakout Session
END:VALARM
END:VEVENT
BEGIN:VEVENT
UID:missoula-73273237-20260225T200000@quickscores.com
DTSTAMP:20260421T180400Z
DTSTART;TZID=America/Denver:20260225T200000
DURATION:PT0H15M0S
SUMMARY:Bagging and Bragging vs. Cornhub
DESCRIPTION:2nd Winter Cornhole League 2026 - Missoula Parks & Recreation
LOCATION:Lowell Grade School Court 3
CATEGORIES:QuickScores, Cornhole Game
TRANSP:OPAQUE
BEGIN:VALARM
TRIGGER:-PT2H
ACTION:DISPLAY
DESCRIPTION:Bagging and Bragging vs. Cornhub
END:VALARM
END:VEVENT
BEGIN:VEVENT
UID:missoula-73273263-20260225T201500@quickscores.com
DTSTAMP:20260421T180400Z
DTSTART;TZID=America/Denver:20260225T201500
DURATION:PT0H15M0S
SUMMARY:Cobbfathers vs. Bagging and Bragging
DESCRIPTION:2nd Winter Cornhole League 2026 - Missoula Parks & Recreation
LOCATION:Lowell Grade School Court 2
CATEGORIES:QuickScores, Cornhole Game
TRANSP:OPAQUE
BEGIN:VALARM
TRIGGER:-PT2H
ACTION:DISPLAY
DESCRIPTION:Cobbfathers vs. Bagging and Bragging
END:VALARM
END:VEVENT
BEGIN:VEVENT
UID:missoula-73273246-20260225T203000@quickscores.com
DTSTAMP:20260421T180400Z
DTSTART;TZID=America/Denver:20260225T203000
DURATION:PT0H15M0S
SUMMARY:Bagging and Bragging vs. The Cornballers
DESCRIPTION:2nd Winter Cornhole League 2026 - Missoula Parks & Recreation
LOCATION:Lowell Grade School Court 4
CATEGORIES:QuickScores, Cornhole Game
TRANSP:OPAQUE
BEGIN:VALARM
TRIGGER:-PT2H
ACTION:DISPLAY
DESCRIPTION:Bagging and Bragging vs. The Cornballers
END:VALARM
END:VEVENT
BEGIN:VEVENT
UID:missoula-73273254-20260225T204500@quickscores.com
DTSTAMP:20260421T180400Z
DTSTART;TZID=America/Denver:20260225T204500
DURATION:PT0H15M0S
SUMMARY:Wattys vs. Bagging and Bragging
DESCRIPTION:2nd Winter Cornhole League 2026 - Missoula Parks & Recreation
LOCATION:Lowell Grade School Court 2
CATEGORIES:QuickScores, Cornhole Game
TRANSP:OPAQUE
BEGIN:VALARM
TRIGGER:-PT2H
ACTION:DISPLAY
DESCRIPTION:Wattys vs. Bagging and Bragging
END:VALARM
END:VEVENT
BEGIN:VEVENT
UID:missoula-73273255-20260225T210000@quickscores.com
DTSTAMP:20260421T180400Z
DTSTART;TZID=America/Denver:20260225T210000
DURATION:PT0H15M0S
SUMMARY:Lolo vs. Bagging and Bragging
DESCRIPTION:2nd Winter Cornhole League 2026 - Missoula Parks & Recreation
LOCATION:Lowell Grade School Court 1
CATEGORIES:QuickScores, Cornhole Game
TRANSP:OPAQUE
BEGIN:VALARM
TRIGGER:-PT2H
ACTION:DISPLAY
DESCRIPTION:Lolo vs. Bagging and Bragging
END:VALARM
END:VEVENT
BEGIN:VEVENT
UID:missoula-73273264-20260225T211500@quickscores.com
DTSTAMP:20260421T180400Z
DTSTART;TZID=America/Denver:20260225T211500
DURATION:PT0H15M0S
SUMMARY:The Cornballers vs. Bagging and Bragging
DESCRIPTION:2nd Winter Cornhole League 2026 - Missoula Parks & Recreation
LOCATION:Lowell Grade School Court 4
CATEGORIES:QuickScores, Cornhole Game
TRANSP:OPAQUE
BEGIN:VALARM
TRIGGER:-PT2H
ACTION:DISPLAY
DESCRIPTION:The Cornballers vs. Bagging and Bragging
END:VALARM
END:VEVENT
BEGIN:VEVENT
UID:missoula-73273289-20260304T194500@quickscores.com
DTSTAMP:20260421T180400Z
DTSTART;TZID=America/Denver:20260304T194500
DURATION:PT0H15M0S
SUMMARY:Bagging and Bragging vs. Wattys
DESCRIPTION:2nd Winter Cornhole League 2026 - Missoula Parks & Recreation
LOCATION:Lowell Grade School Court 3
CATEGORIES:QuickScores, Cornhole Game
TRANSP:OPAQUE
BEGIN:VALARM
TRIGGER:-PT2H
ACTION:DISPLAY
DESCRIPTION:Bagging and Bragging vs. Wattys
END:VALARM
END:VEVENT
BEGIN:VEVENT
UID:missoula-73273297-20260304T200000@quickscores.com
DTSTAMP:20260421T180400Z
DTSTART;TZID=America/Denver:20260304T200000
DURATION:PT0H15M0S
SUMMARY:The Wildcats vs. Bagging and Bragging
DESCRIPTION:2nd Winter Cornhole League 2026 - Missoula Parks & Recreation
LOCATION:Lowell Grade School Court 3
CATEGORIES:QuickScores, Cornhole Game
TRANSP:OPAQUE
BEGIN:VALARM
TRIGGER:-PT2H
ACTION:DISPLAY
DESCRIPTION:The Wildcats vs. Bagging and Bragging
END:VALARM
END:VEVENT
BEGIN:VEVENT
UID:missoula-73273268-20260304T201500@quickscores.com
DTSTAMP:20260421T180400Z
DTSTART;TZID=America/Denver:20260304T201500
DURATION:PT0H15M0S
SUMMARY:Breakout Session vs. Bagging and Bragging
DESCRIPTION:2nd Winter Cornhole League 2026 - Missoula Parks & Recreation
LOCATION:Lowell Grade School Court 2
CATEGORIES:QuickScores, Cornhole Game
TRANSP:OPAQUE
BEGIN:VALARM
TRIGGER:-PT2H
ACTION:DISPLAY
DESCRIPTION:Breakout Session vs. Bagging and Bragging
END:VALARM
END:VEVENT
BEGIN:VEVENT
UID:missoula-73273272-20260304T203000@quickscores.com
DTSTAMP:20260421T180400Z
DTSTART;TZID=America/Denver:20260304T203000
DURATION:PT0H15M0S
SUMMARY:Cornhub vs. Bagging and Bragging
DESCRIPTION:2nd Winter Cornhole League 2026 - Missoula Parks & Recreation
LOCATION:Lowell Grade School Court 5
CATEGORIES:QuickScores, Cornhole Game
TRANSP:OPAQUE
BEGIN:VALARM
TRIGGER:-PT2H
ACTION:DISPLAY
DESCRIPTION:Cornhub vs. Bagging and Bragging
END:VALARM
END:VEVENT
BEGIN:VEVENT
UID:missoula-73273279-20260304T204500@quickscores.com
DTSTAMP:20260421T180400Z
DTSTART;TZID=America/Denver:20260304T204500
DURATION:PT0H15M0S
SUMMARY:Corn Supremacy vs. Bagging and Bragging
DESCRIPTION:2nd Winter Cornhole League 2026 - Missoula Parks & Recreation
LOCATION:Lowell Grade School Court 5
CATEGORIES:QuickScores, Cornhole Game
TRANSP:OPAQUE
BEGIN:VALARM
TRIGGER:-PT2H
ACTION:DISPLAY
DESCRIPTION:Corn Supremacy vs. Bagging and Bragging
END:VALARM
END:VEVENT
BEGIN:VEVENT
UID:missoula-73273291-20260304T210000@quickscores.com
DTSTAMP:20260421T180400Z
DTSTART;TZID=America/Denver:20260304T210000
DURATION:PT0H15M0S
SUMMARY:Corn to be Wild vs. Bagging and Bragging
DESCRIPTION:2nd Winter Cornhole League 2026 - Missoula Parks & Recreation
LOCATION:Lowell Grade School Court 5
CATEGORIES:QuickScores, Cornhole Game
TRANSP:OPAQUE
BEGIN:VALARM
TRIGGER:-PT2H
ACTION:DISPLAY
DESCRIPTION:Corn to be Wild vs. Bagging and Bragging
END:VALARM
END:VEVENT
BEGIN:VEVENT
UID:missoula-73273281-20260304T211500@quickscores.com
DTSTAMP:20260421T180400Z
DTSTART;TZID=America/Denver:20260304T211500
DURATION:PT0H15M0S
SUMMARY:The Cornballers vs. Bagging and Bragging
DESCRIPTION:2nd Winter Cornhole League 2026 - Missoula Parks & Recreation
LOCATION:Lowell Grade School Court 5
CATEGORIES:QuickScores, Cornhole Game
TRANSP:OPAQUE
BEGIN:VALARM
TRIGGER:-PT2H
ACTION:DISPLAY
DESCRIPTION:The Cornballers vs. Bagging and Bragging
END:VALARM
END:VEVENT
BEGIN:VEVENT
UID:missoula-73273300-20260311T194500@quickscores.com
DTSTAMP:20260421T180400Z
DTSTART;TZID=America/Denver:20260311T194500
DURATION:PT0H15M0S
SUMMARY:Bagging and Bragging vs. Lolo
DESCRIPTION:2nd Winter Cornhole League 2026 - Missoula Parks & Recreation
LOCATION:Lowell Grade School Court 4
CATEGORIES:QuickScores, Cornhole Game
TRANSP:OPAQUE
BEGIN:VALARM
TRIGGER:-PT2H
ACTION:DISPLAY
DESCRIPTION:Bagging and Bragging vs. Lolo
END:VALARM
END:VEVENT
BEGIN:VEVENT
UID:missoula-73273308-20260311T200000@quickscores.com
DTSTAMP:20260421T180400Z
DTSTART;TZID=America/Denver:20260311T200000
DURATION:PT0H15M0S
SUMMARY:Bagging and Bragging vs. Cobbfathers
DESCRIPTION:2nd Winter Cornhole League 2026 - Missoula Parks & Recreation
LOCATION:Lowell Grade School Court 4
CATEGORIES:QuickScores, Cornhole Game
TRANSP:OPAQUE
BEGIN:VALARM
TRIGGER:-PT2H
ACTION:DISPLAY
DESCRIPTION:Bagging and Bragging vs. Cobbfathers
END:VALARM
END:VEVENT
BEGIN:VEVENT
UID:missoula-73273311-20260311T201500@quickscores.com
DTSTAMP:20260421T180400Z
DTSTART;TZID=America/Denver:20260311T201500
DURATION:PT0H15M0S
SUMMARY:Bagging and Bragging vs. Corn to be Wild
DESCRIPTION:2nd Winter Cornhole League 2026 - Missoula Parks & Recreation
LOCATION:Lowell Grade School Court 1
CATEGORIES:QuickScores, Cornhole Game
TRANSP:OPAQUE
BEGIN:VALARM
TRIGGER:-PT2H
ACTION:DISPLAY
DESCRIPTION:Bagging and Bragging vs. Corn to be Wild
END:VALARM
END:VEVENT
BEGIN:VEVENT
UID:missoula-73273317-20260311T203000@quickscores.com
DTSTAMP:20260421T180400Z
DTSTART;TZID=America/Denver:20260311T203000
DURATION:PT0H15M0S
SUMMARY:Bagging and Bragging vs. The Wildcats
DESCRIPTION:2nd Winter Cornhole League 2026 - Missoula Parks & Recreation
LOCATION:Lowell Grade School Court 2
CATEGORIES:QuickScores, Cornhole Game
TRANSP:OPAQUE
BEGIN:VALARM
TRIGGER:-PT2H
ACTION:DISPLAY
DESCRIPTION:Bagging and Bragging vs. The Wildcats
END:VALARM
END:VEVENT
BEGIN:VEVENT
UID:missoula-73273323-20260311T204500@quickscores.com
DTSTAMP:20260421T180400Z
DTSTART;TZID=America/Denver:20260311T204500
DURATION:PT0H15M0S
SUMMARY:Bagging and Bragging vs. Breakout Session
DESCRIPTION:2nd Winter Cornhole League 2026 - Missoula Parks & Recreation
LOCATION:Lowell Grade School Court 4
CATEGORIES:QuickScores, Cornhole Game
TRANSP:OPAQUE
BEGIN:VALARM
TRIGGER:-PT2H
ACTION:DISPLAY
DESCRIPTION:Bagging and Bragging vs. Breakout Session
END:VALARM
END:VEVENT
BEGIN:VEVENT
UID:missoula-73273327-20260311T210000@quickscores.com
DTSTAMP:20260421T180400Z
DTSTART;TZID=America/Denver:20260311T210000
DURATION:PT0H15M0S
SUMMARY:Bagging and Bragging vs. Cornhub
DESCRIPTION:2nd Winter Cornhole League 2026 - Missoula Parks & Recreation
LOCATION:Lowell Grade School Court 4
CATEGORIES:QuickScores, Cornhole Game
TRANSP:OPAQUE
BEGIN:VALARM
TRIGGER:-PT2H
ACTION:DISPLAY
DESCRIPTION:Bagging and Bragging vs. Cornhub
END:VALARM
END:VEVENT
BEGIN:VEVENT
UID:missoula-73273334-20260311T211500@quickscores.com
DTSTAMP:20260421T180400Z
DTSTART;TZID=America/Denver:20260311T211500
DURATION:PT0H15M0S
SUMMARY:Bagging and Bragging vs. Corn Supremacy
DESCRIPTION:2nd Winter Cornhole League 2026 - Missoula Parks & Recreation
LOCATION:Lowell Grade School Court 4
CATEGORIES:QuickScores, Cornhole Game
TRANSP:OPAQUE
BEGIN:VALARM
TRIGGER:-PT2H
ACTION:DISPLAY
DESCRIPTION:Bagging and Bragging vs. Corn Supremacy
END:VALARM
END:VEVENT
BEGIN:VEVENT
UID:missoula-73273343-20260318T194500@quickscores.com
DTSTAMP:20260421T180400Z
DTSTART;TZID=America/Denver:20260318T194500
DURATION:PT0H15M0S
SUMMARY:Breakout Session vs. Bagging and Bragging
DESCRIPTION:2nd Winter Cornhole League 2026 - Missoula Parks & Recreation
LOCATION:Lowell Grade School Court 2
CATEGORIES:QuickScores, Cornhole Game
TRANSP:OPAQUE
BEGIN:VALARM
TRIGGER:-PT2H
ACTION:DISPLAY
DESCRIPTION:Breakout Session vs. Bagging and Bragging
END:VALARM
END:VEVENT
BEGIN:VEVENT
UID:missoula-73273354-20260318T200000@quickscores.com
DTSTAMP:20260421T180400Z
DTSTART;TZID=America/Denver:20260318T200000
DURATION:PT0H15M0S
SUMMARY:Wattys vs. Bagging and Bragging
DESCRIPTION:2nd Winter Cornhole League 2026 - Missoula Parks & Recreation
LOCATION:Lowell Grade School Court 1
CATEGORIES:QuickScores, Cornhole Game
TRANSP:OPAQUE
BEGIN:VALARM
TRIGGER:-PT2H
ACTION:DISPLAY
DESCRIPTION:Wattys vs. Bagging and Bragging
END:VALARM
END:VEVENT
BEGIN:VEVENT
UID:missoula-73273349-20260318T201500@quickscores.com
DTSTAMP:20260421T180400Z
DTSTART;TZID=America/Denver:20260318T201500
DURATION:PT0H15M0S
SUMMARY:Breakout Session vs. Bagging and Bragging
DESCRIPTION:2nd Winter Cornhole League 2026 - Missoula Parks & Recreation
LOCATION:Lowell Grade School Court 2
CATEGORIES:QuickScores, Cornhole Game
TRANSP:OPAQUE
BEGIN:VALARM
TRIGGER:-PT2H
ACTION:DISPLAY
DESCRIPTION:Breakout Session vs. Bagging and Bragging
END:VALARM
END:VEVENT
BEGIN:VEVENT
UID:missoula-73273363-20260318T203000@quickscores.com
DTSTAMP:20260421T180400Z
DTSTART;TZID=America/Denver:20260318T203000
DURATION:PT0H15M0S
SUMMARY:Cobbfathers vs. Bagging and Bragging
DESCRIPTION:2nd Winter Cornhole League 2026 - Missoula Parks & Recreation
LOCATION:Lowell Grade School Court 4
CATEGORIES:QuickScores, Cornhole Game
TRANSP:OPAQUE
BEGIN:VALARM
TRIGGER:-PT2H
ACTION:DISPLAY
DESCRIPTION:Cobbfathers vs. Bagging and Bragging
END:VALARM
END:VEVENT
BEGIN:VEVENT
UID:missoula-73273366-20260318T204500@quickscores.com
DTSTAMP:20260421T180400Z
DTSTART;TZID=America/Denver:20260318T204500
DURATION:PT0H15M0S
SUMMARY:Corn to be Wild vs. Bagging and Bragging
DESCRIPTION:2nd Winter Cornhole League 2026 - Missoula Parks & Recreation
LOCATION:Lowell Grade School Court 2
CATEGORIES:QuickScores, Cornhole Game
TRANSP:OPAQUE
BEGIN:VALARM
TRIGGER:-PT2H
ACTION:DISPLAY
DESCRIPTION:Corn to be Wild vs. Bagging and Bragging
END:VALARM
END:VEVENT
BEGIN:VEVENT
UID:missoula-73273337-20260318T210000@quickscores.com
DTSTAMP:20260421T180400Z
DTSTART;TZID=America/Denver:20260318T210000
DURATION:PT0H15M0S
SUMMARY:Bagging and Bragging vs. The Wildcats
DESCRIPTION:2nd Winter Cornhole League 2026 - Missoula Parks & Recreation
LOCATION:Lowell Grade School Court 3
CATEGORIES:QuickScores, Cornhole Game
TRANSP:OPAQUE
BEGIN:VALARM
TRIGGER:-PT2H
ACTION:DISPLAY
DESCRIPTION:Bagging and Bragging vs. The Wildcats
END:VALARM
END:VEVENT
BEGIN:VEVENT
UID:missoula-73273346-20260318T211500@quickscores.com
DTSTAMP:20260421T180400Z
DTSTART;TZID=America/Denver:20260318T211500
DURATION:PT0H15M0S
SUMMARY:Bagging and Bragging vs. The Cornballers
DESCRIPTION:2nd Winter Cornhole League 2026 - Missoula Parks & Recreation
LOCATION:Lowell Grade School Court 2
CATEGORIES:QuickScores, Cornhole Game
TRANSP:OPAQUE
BEGIN:VALARM
TRIGGER:-PT2H
ACTION:DISPLAY
DESCRIPTION:Bagging and Bragging vs. The Cornballers
END:VALARM
END:VEVENT
BEGIN:VEVENT
UID:missoula-73273372-20260325T194500@quickscores.com
DTSTAMP:20260421T180400Z
DTSTART;TZID=America/Denver:20260325T194500
DURATION:PT0H15M0S
SUMMARY:Cornhub vs. Bagging and Bragging
DESCRIPTION:2nd Winter Cornhole League 2026 - Missoula Parks & Recreation
LOCATION:Lowell Grade School Court 1
CATEGORIES:QuickScores, Cornhole Game
TRANSP:OPAQUE
BEGIN:VALARM
TRIGGER:-PT2H
ACTION:DISPLAY
DESCRIPTION:Cornhub vs. Bagging and Bragging
END:VALARM
END:VEVENT
BEGIN:VEVENT
UID:missoula-73273379-20260325T200000@quickscores.com
DTSTAMP:20260421T180400Z
DTSTART;TZID=America/Denver:20260325T200000
DURATION:PT0H15M0S
SUMMARY:Corn Supremacy vs. Bagging and Bragging
DESCRIPTION:2nd Winter Cornhole League 2026 - Missoula Parks & Recreation
LOCATION:Lowell Grade School Court 5
CATEGORIES:QuickScores, Cornhole Game
TRANSP:OPAQUE
BEGIN:VALARM
TRIGGER:-PT2H
ACTION:DISPLAY
DESCRIPTION:Corn Supremacy vs. Bagging and Bragging
END:VALARM
END:VEVENT
BEGIN:VEVENT
UID:missoula-73273381-20260325T201500@quickscores.com
DTSTAMP:20260421T180400Z
DTSTART;TZID=America/Denver:20260325T201500
DURATION:PT0H15M0S
SUMMARY:The Cornballers vs. Bagging and Bragging
DESCRIPTION:2nd Winter Cornhole League 2026 - Missoula Parks & Recreation
LOCATION:Lowell Grade School Court 1
CATEGORIES:QuickScores, Cornhole Game
TRANSP:OPAQUE
BEGIN:VALARM
TRIGGER:-PT2H
ACTION:DISPLAY
DESCRIPTION:The Cornballers vs. Bagging and Bragging
END:VALARM
END:VEVENT
BEGIN:VEVENT
UID:missoula-73273389-20260325T203000@quickscores.com
DTSTAMP:20260421T180400Z
DTSTART;TZID=America/Denver:20260325T203000
DURATION:PT0H15M0S
SUMMARY:Bagging and Bragging vs. Wattys
DESCRIPTION:2nd Winter Cornhole League 2026 - Missoula Parks & Recreation
LOCATION:Lowell Grade School Court 5
CATEGORIES:QuickScores, Cornhole Game
TRANSP:OPAQUE
BEGIN:VALARM
TRIGGER:-PT2H
ACTION:DISPLAY
DESCRIPTION:Bagging and Bragging vs. Wattys
END:VALARM
END:VEVENT
BEGIN:VEVENT
UID:missoula-73273390-20260325T204500@quickscores.com
DTSTAMP:20260421T180400Z
DTSTART;TZID=America/Denver:20260325T204500
DURATION:PT0H15M0S
SUMMARY:Bagging and Bragging vs. Lolo
DESCRIPTION:2nd Winter Cornhole League 2026 - Missoula Parks & Recreation
LOCATION:Lowell Grade School Court 2
CATEGORIES:QuickScores, Cornhole Game
TRANSP:OPAQUE
BEGIN:VALARM
TRIGGER:-PT2H
ACTION:DISPLAY
DESCRIPTION:Bagging and Bragging vs. Lolo
END:VALARM
END:VEVENT
BEGIN:VEVENT
UID:missoula-73273398-20260325T210000@quickscores.com
DTSTAMP:20260421T180400Z
DTSTART;TZID=America/Denver:20260325T210000
DURATION:PT0H15M0S
SUMMARY:Bagging and Bragging vs. Cobbfathers
DESCRIPTION:2nd Winter Cornhole League 2026 - Missoula Parks & Recreation
LOCATION:Lowell Grade School Court 4
CATEGORIES:QuickScores, Cornhole Game
TRANSP:OPAQUE
BEGIN:VALARM
TRIGGER:-PT2H
ACTION:DISPLAY
DESCRIPTION:Bagging and Bragging vs. Cobbfathers
END:VALARM
END:VEVENT
BEGIN:VEVENT
UID:missoula-73273401-20260325T211500@quickscores.com
DTSTAMP:20260421T180400Z
DTSTART;TZID=America/Denver:20260325T211500
DURATION:PT0H15M0S
SUMMARY:Bagging and Bragging vs. Corn to be Wild
DESCRIPTION:2nd Winter Cornhole League 2026 - Missoula Parks & Recreation
LOCATION:Lowell Grade School Court 2
CATEGORIES:QuickScores, Cornhole Game
TRANSP:OPAQUE
BEGIN:VALARM
TRIGGER:-PT2H
ACTION:DISPLAY
DESCRIPTION:Bagging and Bragging vs. Corn to be Wild
END:VALARM
END:VEVENT
BEGIN:VEVENT
UID:missoula-74134405-20260401T194500@quickscores.com
DTSTAMP:20260421T180400Z
DTSTART;TZID=America/Denver:20260401T194500
DURATION:PT0H15M0S
SUMMARY:[4] Wattys vs. [5] Bagging and Bragging
DESCRIPTION:2nd Winter Cornhole League 2026 - Missoula Parks & Recreation
LOCATION:Lowell Grade School Court 3
CATEGORIES:QuickScores, Cornhole Game
TRANSP:OPAQUE
BEGIN:VALARM
TRIGGER:-PT2H
ACTION:DISPLAY
DESCRIPTION:[4] Wattys vs. [5] Bagging and Bragging
END:VALARM
END:VEVENT
END:VCALENDAR
