BEGIN:VCALENDAR
VERSION:2.0
PRODID:-//QuickScores.com//BQ Dynamic iCal Creator//EN
METHOD:PUBLISH
X-WR-CALNAME:Corn Supremacy - 2nd Winter Cornhole League 2026 - Winter 2025-2026
X-WR-CALDESC:QuickScores game calendar
X-PUBLISHED-TTL:PT24H
REFRESH-INTERVAL;VALUE=DURATION:PT24H
CALSCALE:GREGORIAN
BEGIN:VTIMEZONE
TZID:America/Denver
X-LIC-LOCATION:America/Denver
BEGIN:DAYLIGHT
TZNAME:MDT
TZOFFSETFROM:-0700
TZOFFSETTO:-0600
DTSTART:19700308T020000
RRULE:FREQ=YEARLY;BYMONTH=3;BYDAY=2SU
END:DAYLIGHT
BEGIN:STANDARD
TZNAME:MST
TZOFFSETFROM:-0600
TZOFFSETTO:-0700
DTSTART:19701101T020000
RRULE:FREQ=YEARLY;BYMONTH=11;BYDAY=1SU
END:STANDARD
END:VTIMEZONE
BEGIN:VEVENT
UID:missoula-73273234-20260225T194500@quickscores.com
DTSTAMP:20260424T095400Z
DTSTART;TZID=America/Denver:20260225T194500
DURATION:PT0H15M0S
SUMMARY:Corn Supremacy vs. Corn to be Wild
DESCRIPTION:2nd Winter Cornhole League 2026 - Missoula Parks & Recreation
LOCATION:Lowell Grade School Court 5
CATEGORIES:QuickScores, Cornhole Game
TRANSP:OPAQUE
BEGIN:VALARM
TRIGGER:-PT2H
ACTION:DISPLAY
DESCRIPTION:Corn Supremacy vs. Corn to be Wild
END:VALARM
END:VEVENT
BEGIN:VEVENT
UID:missoula-73273238-20260225T200000@quickscores.com
DTSTAMP:20260424T095400Z
DTSTART;TZID=America/Denver:20260225T200000
DURATION:PT0H15M0S
SUMMARY:Corn Supremacy vs. The Wildcats
DESCRIPTION:2nd Winter Cornhole League 2026 - Missoula Parks & Recreation
LOCATION:Lowell Grade School Court 5
CATEGORIES:QuickScores, Cornhole Game
TRANSP:OPAQUE
BEGIN:VALARM
TRIGGER:-PT2H
ACTION:DISPLAY
DESCRIPTION:Corn Supremacy vs. The Wildcats
END:VALARM
END:VEVENT
BEGIN:VEVENT
UID:missoula-73273244-20260225T201500@quickscores.com
DTSTAMP:20260424T095400Z
DTSTART;TZID=America/Denver:20260225T201500
DURATION:PT0H15M0S
SUMMARY:Wattys vs. Corn Supremacy
DESCRIPTION:2nd Winter Cornhole League 2026 - Missoula Parks & Recreation
LOCATION:Lowell Grade School Court 5
CATEGORIES:QuickScores, Cornhole Game
TRANSP:OPAQUE
BEGIN:VALARM
TRIGGER:-PT2H
ACTION:DISPLAY
DESCRIPTION:Wattys vs. Corn Supremacy
END:VALARM
END:VEVENT
BEGIN:VEVENT
UID:missoula-73273247-20260225T203000@quickscores.com
DTSTAMP:20260424T095400Z
DTSTART;TZID=America/Denver:20260225T203000
DURATION:PT0H15M0S
SUMMARY:Corn Supremacy vs. Cobbfathers
DESCRIPTION:2nd Winter Cornhole League 2026 - Missoula Parks & Recreation
LOCATION:Lowell Grade School Court 2
CATEGORIES:QuickScores, Cornhole Game
TRANSP:OPAQUE
BEGIN:VALARM
TRIGGER:-PT2H
ACTION:DISPLAY
DESCRIPTION:Corn Supremacy vs. Cobbfathers
END:VALARM
END:VEVENT
BEGIN:VEVENT
UID:missoula-73273253-20260225T204500@quickscores.com
DTSTAMP:20260424T095400Z
DTSTART;TZID=America/Denver:20260225T204500
DURATION:PT0H15M0S
SUMMARY:The Cornballers vs. Corn Supremacy
DESCRIPTION:2nd Winter Cornhole League 2026 - Missoula Parks & Recreation
LOCATION:Lowell Grade School Court 4
CATEGORIES:QuickScores, Cornhole Game
TRANSP:OPAQUE
BEGIN:VALARM
TRIGGER:-PT2H
ACTION:DISPLAY
DESCRIPTION:The Cornballers vs. Corn Supremacy
END:VALARM
END:VEVENT
BEGIN:VEVENT
UID:missoula-73273256-20260225T210000@quickscores.com
DTSTAMP:20260424T095400Z
DTSTART;TZID=America/Denver:20260225T210000
DURATION:PT0H15M0S
SUMMARY:Corn Supremacy vs. Wattys
DESCRIPTION:2nd Winter Cornhole League 2026 - Missoula Parks & Recreation
LOCATION:Lowell Grade School Court 3
CATEGORIES:QuickScores, Cornhole Game
TRANSP:OPAQUE
BEGIN:VALARM
TRIGGER:-PT2H
ACTION:DISPLAY
DESCRIPTION:Corn Supremacy vs. Wattys
END:VALARM
END:VEVENT
BEGIN:VEVENT
UID:missoula-73273262-20260225T211500@quickscores.com
DTSTAMP:20260424T095400Z
DTSTART;TZID=America/Denver:20260225T211500
DURATION:PT0H15M0S
SUMMARY:Cornhub vs. Corn Supremacy
DESCRIPTION:2nd Winter Cornhole League 2026 - Missoula Parks & Recreation
LOCATION:Lowell Grade School Court 3
CATEGORIES:QuickScores, Cornhole Game
TRANSP:OPAQUE
BEGIN:VALARM
TRIGGER:-PT2H
ACTION:DISPLAY
DESCRIPTION:Cornhub vs. Corn Supremacy
END:VALARM
END:VEVENT
BEGIN:VEVENT
UID:missoula-73273269-20260304T194500@quickscores.com
DTSTAMP:20260424T095400Z
DTSTART;TZID=America/Denver:20260304T194500
DURATION:PT0H15M0S
SUMMARY:Corn to be Wild vs. Corn Supremacy
DESCRIPTION:2nd Winter Cornhole League 2026 - Missoula Parks & Recreation
LOCATION:Lowell Grade School Court 2
CATEGORIES:QuickScores, Cornhole Game
TRANSP:OPAQUE
BEGIN:VALARM
TRIGGER:-PT2H
ACTION:DISPLAY
DESCRIPTION:Corn to be Wild vs. Corn Supremacy
END:VALARM
END:VEVENT
BEGIN:VEVENT
UID:missoula-73273296-20260304T200000@quickscores.com
DTSTAMP:20260424T095400Z
DTSTART;TZID=America/Denver:20260304T200000
DURATION:PT0H15M0S
SUMMARY:Breakout Session vs. Corn Supremacy
DESCRIPTION:2nd Winter Cornhole League 2026 - Missoula Parks & Recreation
LOCATION:Lowell Grade School Court 2
CATEGORIES:QuickScores, Cornhole Game
TRANSP:OPAQUE
BEGIN:VALARM
TRIGGER:-PT2H
ACTION:DISPLAY
DESCRIPTION:Breakout Session vs. Corn Supremacy
END:VALARM
END:VEVENT
BEGIN:VEVENT
UID:missoula-73273290-20260304T201500@quickscores.com
DTSTAMP:20260424T095400Z
DTSTART;TZID=America/Denver:20260304T201500
DURATION:PT0H15M0S
SUMMARY:Lolo vs. Corn Supremacy
DESCRIPTION:2nd Winter Cornhole League 2026 - Missoula Parks & Recreation
LOCATION:Lowell Grade School Court 3
CATEGORIES:QuickScores, Cornhole Game
TRANSP:OPAQUE
BEGIN:VALARM
TRIGGER:-PT2H
ACTION:DISPLAY
DESCRIPTION:Lolo vs. Corn Supremacy
END:VALARM
END:VEVENT
BEGIN:VEVENT
UID:missoula-73273273-20260304T203000@quickscores.com
DTSTAMP:20260424T095400Z
DTSTART;TZID=America/Denver:20260304T203000
DURATION:PT0H15M0S
SUMMARY:The Wildcats vs. Corn Supremacy
DESCRIPTION:2nd Winter Cornhole League 2026 - Missoula Parks & Recreation
LOCATION:Lowell Grade School Court 2
CATEGORIES:QuickScores, Cornhole Game
TRANSP:OPAQUE
BEGIN:VALARM
TRIGGER:-PT2H
ACTION:DISPLAY
DESCRIPTION:The Wildcats vs. Corn Supremacy
END:VALARM
END:VEVENT
BEGIN:VEVENT
UID:missoula-73273279-20260304T204500@quickscores.com
DTSTAMP:20260424T095400Z
DTSTART;TZID=America/Denver:20260304T204500
DURATION:PT0H15M0S
SUMMARY:Corn Supremacy vs. Bagging and Bragging
DESCRIPTION:2nd Winter Cornhole League 2026 - Missoula Parks & Recreation
LOCATION:Lowell Grade School Court 5
CATEGORIES:QuickScores, Cornhole Game
TRANSP:OPAQUE
BEGIN:VALARM
TRIGGER:-PT2H
ACTION:DISPLAY
DESCRIPTION:Corn Supremacy vs. Bagging and Bragging
END:VALARM
END:VEVENT
BEGIN:VEVENT
UID:missoula-73273282-20260304T210000@quickscores.com
DTSTAMP:20260424T095400Z
DTSTART;TZID=America/Denver:20260304T210000
DURATION:PT0H15M0S
SUMMARY:Cobbfathers vs. Corn Supremacy
DESCRIPTION:2nd Winter Cornhole League 2026 - Missoula Parks & Recreation
LOCATION:Lowell Grade School Court 3
CATEGORIES:QuickScores, Cornhole Game
TRANSP:OPAQUE
BEGIN:VALARM
TRIGGER:-PT2H
ACTION:DISPLAY
DESCRIPTION:Cobbfathers vs. Corn Supremacy
END:VALARM
END:VEVENT
BEGIN:VEVENT
UID:missoula-73273287-20260304T211500@quickscores.com
DTSTAMP:20260424T095400Z
DTSTART;TZID=America/Denver:20260304T211500
DURATION:PT0H15M0S
SUMMARY:Corn Supremacy vs. Cobbfathers
DESCRIPTION:2nd Winter Cornhole League 2026 - Missoula Parks & Recreation
LOCATION:Lowell Grade School Court 2
CATEGORIES:QuickScores, Cornhole Game
TRANSP:OPAQUE
BEGIN:VALARM
TRIGGER:-PT2H
ACTION:DISPLAY
DESCRIPTION:Corn Supremacy vs. Cobbfathers
END:VALARM
END:VEVENT
BEGIN:VEVENT
UID:missoula-73273307-20260311T194500@quickscores.com
DTSTAMP:20260424T095400Z
DTSTART;TZID=America/Denver:20260311T194500
DURATION:PT0H15M0S
SUMMARY:Corn Supremacy vs. Cornhub
DESCRIPTION:2nd Winter Cornhole League 2026 - Missoula Parks & Recreation
LOCATION:Lowell Grade School Court 2
CATEGORIES:QuickScores, Cornhole Game
TRANSP:OPAQUE
BEGIN:VALARM
TRIGGER:-PT2H
ACTION:DISPLAY
DESCRIPTION:Corn Supremacy vs. Cornhub
END:VALARM
END:VEVENT
BEGIN:VEVENT
UID:missoula-73273301-20260311T200000@quickscores.com
DTSTAMP:20260424T095400Z
DTSTART;TZID=America/Denver:20260311T200000
DURATION:PT0H15M0S
SUMMARY:Cornhub vs. Corn Supremacy
DESCRIPTION:2nd Winter Cornhole League 2026 - Missoula Parks & Recreation
LOCATION:Lowell Grade School Court 2
CATEGORIES:QuickScores, Cornhole Game
TRANSP:OPAQUE
BEGIN:VALARM
TRIGGER:-PT2H
ACTION:DISPLAY
DESCRIPTION:Cornhub vs. Corn Supremacy
END:VALARM
END:VEVENT
BEGIN:VEVENT
UID:missoula-73273310-20260311T201500@quickscores.com
DTSTAMP:20260424T095400Z
DTSTART;TZID=America/Denver:20260311T201500
DURATION:PT0H15M0S
SUMMARY:Corn Supremacy vs. Lolo
DESCRIPTION:2nd Winter Cornhole League 2026 - Missoula Parks & Recreation
LOCATION:Lowell Grade School Court 2
CATEGORIES:QuickScores, Cornhole Game
TRANSP:OPAQUE
BEGIN:VALARM
TRIGGER:-PT2H
ACTION:DISPLAY
DESCRIPTION:Corn Supremacy vs. Lolo
END:VALARM
END:VEVENT
BEGIN:VEVENT
UID:missoula-73273316-20260311T203000@quickscores.com
DTSTAMP:20260424T095400Z
DTSTART;TZID=America/Denver:20260311T203000
DURATION:PT0H15M0S
SUMMARY:Corn Supremacy vs. Breakout Session
DESCRIPTION:2nd Winter Cornhole League 2026 - Missoula Parks & Recreation
LOCATION:Lowell Grade School Court 3
CATEGORIES:QuickScores, Cornhole Game
TRANSP:OPAQUE
BEGIN:VALARM
TRIGGER:-PT2H
ACTION:DISPLAY
DESCRIPTION:Corn Supremacy vs. Breakout Session
END:VALARM
END:VEVENT
BEGIN:VEVENT
UID:missoula-73273324-20260311T204500@quickscores.com
DTSTAMP:20260424T095400Z
DTSTART;TZID=America/Denver:20260311T204500
DURATION:PT0H15M0S
SUMMARY:Corn Supremacy vs. Corn to be Wild
DESCRIPTION:2nd Winter Cornhole League 2026 - Missoula Parks & Recreation
LOCATION:Lowell Grade School Court 5
CATEGORIES:QuickScores, Cornhole Game
TRANSP:OPAQUE
BEGIN:VALARM
TRIGGER:-PT2H
ACTION:DISPLAY
DESCRIPTION:Corn Supremacy vs. Corn to be Wild
END:VALARM
END:VEVENT
BEGIN:VEVENT
UID:missoula-73273328-20260311T210000@quickscores.com
DTSTAMP:20260424T095400Z
DTSTART;TZID=America/Denver:20260311T210000
DURATION:PT0H15M0S
SUMMARY:Corn Supremacy vs. The Wildcats
DESCRIPTION:2nd Winter Cornhole League 2026 - Missoula Parks & Recreation
LOCATION:Lowell Grade School Court 2
CATEGORIES:QuickScores, Cornhole Game
TRANSP:OPAQUE
BEGIN:VALARM
TRIGGER:-PT2H
ACTION:DISPLAY
DESCRIPTION:Corn Supremacy vs. The Wildcats
END:VALARM
END:VEVENT
BEGIN:VEVENT
UID:missoula-73273334-20260311T211500@quickscores.com
DTSTAMP:20260424T095400Z
DTSTART;TZID=America/Denver:20260311T211500
DURATION:PT0H15M0S
SUMMARY:Bagging and Bragging vs. Corn Supremacy
DESCRIPTION:2nd Winter Cornhole League 2026 - Missoula Parks & Recreation
LOCATION:Lowell Grade School Court 4
CATEGORIES:QuickScores, Cornhole Game
TRANSP:OPAQUE
BEGIN:VALARM
TRIGGER:-PT2H
ACTION:DISPLAY
DESCRIPTION:Bagging and Bragging vs. Corn Supremacy
END:VALARM
END:VEVENT
BEGIN:VEVENT
UID:missoula-73273347-20260318T194500@quickscores.com
DTSTAMP:20260424T095400Z
DTSTART;TZID=America/Denver:20260318T194500
DURATION:PT0H15M0S
SUMMARY:Corn Supremacy vs. The Cornballers
DESCRIPTION:2nd Winter Cornhole League 2026 - Missoula Parks & Recreation
LOCATION:Lowell Grade School Court 5
CATEGORIES:QuickScores, Cornhole Game
TRANSP:OPAQUE
BEGIN:VALARM
TRIGGER:-PT2H
ACTION:DISPLAY
DESCRIPTION:Corn Supremacy vs. The Cornballers
END:VALARM
END:VEVENT
BEGIN:VEVENT
UID:missoula-73273353-20260318T200000@quickscores.com
DTSTAMP:20260424T095400Z
DTSTART;TZID=America/Denver:20260318T200000
DURATION:PT0H15M0S
SUMMARY:The Cornballers vs. Corn Supremacy
DESCRIPTION:2nd Winter Cornhole League 2026 - Missoula Parks & Recreation
LOCATION:Lowell Grade School Court 4
CATEGORIES:QuickScores, Cornhole Game
TRANSP:OPAQUE
BEGIN:VALARM
TRIGGER:-PT2H
ACTION:DISPLAY
DESCRIPTION:The Cornballers vs. Corn Supremacy
END:VALARM
END:VEVENT
BEGIN:VEVENT
UID:missoula-73273356-20260318T201500@quickscores.com
DTSTAMP:20260424T095400Z
DTSTART;TZID=America/Denver:20260318T201500
DURATION:PT0H15M0S
SUMMARY:Corn Supremacy vs. Wattys
DESCRIPTION:2nd Winter Cornhole League 2026 - Missoula Parks & Recreation
LOCATION:Lowell Grade School Court 1
CATEGORIES:QuickScores, Cornhole Game
TRANSP:OPAQUE
BEGIN:VALARM
TRIGGER:-PT2H
ACTION:DISPLAY
DESCRIPTION:Corn Supremacy vs. Wattys
END:VALARM
END:VEVENT
BEGIN:VEVENT
UID:missoula-73273362-20260318T203000@quickscores.com
DTSTAMP:20260424T095400Z
DTSTART;TZID=America/Denver:20260318T203000
DURATION:PT0H15M0S
SUMMARY:Cornhub vs. Corn Supremacy
DESCRIPTION:2nd Winter Cornhole League 2026 - Missoula Parks & Recreation
LOCATION:Lowell Grade School Court 3
CATEGORIES:QuickScores, Cornhole Game
TRANSP:OPAQUE
BEGIN:VALARM
TRIGGER:-PT2H
ACTION:DISPLAY
DESCRIPTION:Cornhub vs. Corn Supremacy
END:VALARM
END:VEVENT
BEGIN:VEVENT
UID:missoula-73273365-20260318T204500@quickscores.com
DTSTAMP:20260424T095400Z
DTSTART;TZID=America/Denver:20260318T204500
DURATION:PT0H15M0S
SUMMARY:Lolo vs. Corn Supremacy
DESCRIPTION:2nd Winter Cornhole League 2026 - Missoula Parks & Recreation
LOCATION:Lowell Grade School Court 1
CATEGORIES:QuickScores, Cornhole Game
TRANSP:OPAQUE
BEGIN:VALARM
TRIGGER:-PT2H
ACTION:DISPLAY
DESCRIPTION:Lolo vs. Corn Supremacy
END:VALARM
END:VEVENT
BEGIN:VEVENT
UID:missoula-73273336-20260318T210000@quickscores.com
DTSTAMP:20260424T095400Z
DTSTART;TZID=America/Denver:20260318T210000
DURATION:PT0H15M0S
SUMMARY:Corn Supremacy vs. Breakout Session
DESCRIPTION:2nd Winter Cornhole League 2026 - Missoula Parks & Recreation
LOCATION:Lowell Grade School Court 2
CATEGORIES:QuickScores, Cornhole Game
TRANSP:OPAQUE
BEGIN:VALARM
TRIGGER:-PT2H
ACTION:DISPLAY
DESCRIPTION:Corn Supremacy vs. Breakout Session
END:VALARM
END:VEVENT
BEGIN:VEVENT
UID:missoula-73273344-20260318T211500@quickscores.com
DTSTAMP:20260424T095400Z
DTSTART;TZID=America/Denver:20260318T211500
DURATION:PT0H15M0S
SUMMARY:Corn to be Wild vs. Corn Supremacy
DESCRIPTION:2nd Winter Cornhole League 2026 - Missoula Parks & Recreation
LOCATION:Lowell Grade School Court 1
CATEGORIES:QuickScores, Cornhole Game
TRANSP:OPAQUE
BEGIN:VALARM
TRIGGER:-PT2H
ACTION:DISPLAY
DESCRIPTION:Corn to be Wild vs. Corn Supremacy
END:VALARM
END:VEVENT
BEGIN:VEVENT
UID:missoula-73273373-20260325T194500@quickscores.com
DTSTAMP:20260424T095400Z
DTSTART;TZID=America/Denver:20260325T194500
DURATION:PT0H15M0S
SUMMARY:The Wildcats vs. Corn Supremacy
DESCRIPTION:2nd Winter Cornhole League 2026 - Missoula Parks & Recreation
LOCATION:Lowell Grade School Court 4
CATEGORIES:QuickScores, Cornhole Game
TRANSP:OPAQUE
BEGIN:VALARM
TRIGGER:-PT2H
ACTION:DISPLAY
DESCRIPTION:The Wildcats vs. Corn Supremacy
END:VALARM
END:VEVENT
BEGIN:VEVENT
UID:missoula-73273379-20260325T200000@quickscores.com
DTSTAMP:20260424T095400Z
DTSTART;TZID=America/Denver:20260325T200000
DURATION:PT0H15M0S
SUMMARY:Corn Supremacy vs. Bagging and Bragging
DESCRIPTION:2nd Winter Cornhole League 2026 - Missoula Parks & Recreation
LOCATION:Lowell Grade School Court 5
CATEGORIES:QuickScores, Cornhole Game
TRANSP:OPAQUE
BEGIN:VALARM
TRIGGER:-PT2H
ACTION:DISPLAY
DESCRIPTION:Corn Supremacy vs. Bagging and Bragging
END:VALARM
END:VEVENT
BEGIN:VEVENT
UID:missoula-73273382-20260325T201500@quickscores.com
DTSTAMP:20260424T095400Z
DTSTART;TZID=America/Denver:20260325T201500
DURATION:PT0H15M0S
SUMMARY:Cobbfathers vs. Corn Supremacy
DESCRIPTION:2nd Winter Cornhole League 2026 - Missoula Parks & Recreation
LOCATION:Lowell Grade School Court 4
CATEGORIES:QuickScores, Cornhole Game
TRANSP:OPAQUE
BEGIN:VALARM
TRIGGER:-PT2H
ACTION:DISPLAY
DESCRIPTION:Cobbfathers vs. Corn Supremacy
END:VALARM
END:VEVENT
BEGIN:VEVENT
UID:missoula-73273400-20260325T203000@quickscores.com
DTSTAMP:20260424T095400Z
DTSTART;TZID=America/Denver:20260325T203000
DURATION:PT0H15M0S
SUMMARY:Corn Supremacy vs. Lolo
DESCRIPTION:2nd Winter Cornhole League 2026 - Missoula Parks & Recreation
LOCATION:Lowell Grade School Court 1
CATEGORIES:QuickScores, Cornhole Game
TRANSP:OPAQUE
BEGIN:VALARM
TRIGGER:-PT2H
ACTION:DISPLAY
DESCRIPTION:Corn Supremacy vs. Lolo
END:VALARM
END:VEVENT
BEGIN:VEVENT
UID:missoula-73273391-20260325T204500@quickscores.com
DTSTAMP:20260424T095400Z
DTSTART;TZID=America/Denver:20260325T204500
DURATION:PT0H15M0S
SUMMARY:Wattys vs. Corn Supremacy
DESCRIPTION:2nd Winter Cornhole League 2026 - Missoula Parks & Recreation
LOCATION:Lowell Grade School Court 1
CATEGORIES:QuickScores, Cornhole Game
TRANSP:OPAQUE
BEGIN:VALARM
TRIGGER:-PT2H
ACTION:DISPLAY
DESCRIPTION:Wattys vs. Corn Supremacy
END:VALARM
END:VEVENT
BEGIN:VEVENT
UID:missoula-73273397-20260325T210000@quickscores.com
DTSTAMP:20260424T095400Z
DTSTART;TZID=America/Denver:20260325T210000
DURATION:PT0H15M0S
SUMMARY:Corn Supremacy vs. Cornhub
DESCRIPTION:2nd Winter Cornhole League 2026 - Missoula Parks & Recreation
LOCATION:Lowell Grade School Court 3
CATEGORIES:QuickScores, Cornhole Game
TRANSP:OPAQUE
BEGIN:VALARM
TRIGGER:-PT2H
ACTION:DISPLAY
DESCRIPTION:Corn Supremacy vs. Cornhub
END:VALARM
END:VEVENT
BEGIN:VEVENT
UID:missoula-73273385-20260325T211500@quickscores.com
DTSTAMP:20260424T095400Z
DTSTART;TZID=America/Denver:20260325T211500
DURATION:PT0H15M0S
SUMMARY:The Wildcats vs. Corn Supremacy
DESCRIPTION:2nd Winter Cornhole League 2026 - Missoula Parks & Recreation
LOCATION:Lowell Grade School Court 1
CATEGORIES:QuickScores, Cornhole Game
TRANSP:OPAQUE
BEGIN:VALARM
TRIGGER:-PT2H
ACTION:DISPLAY
DESCRIPTION:The Wildcats vs. Corn Supremacy
END:VALARM
END:VEVENT
BEGIN:VEVENT
UID:missoula-74134406-20260401T200000@quickscores.com
DTSTAMP:20260424T095400Z
DTSTART;TZID=America/Denver:20260401T200000
DURATION:PT0H15M0S
SUMMARY:[2] Corn Supremacy vs. Winner of Game 2
DESCRIPTION:2nd Winter Cornhole League 2026 - Missoula Parks & Recreation
LOCATION:Lowell Grade School Court 1
CATEGORIES:QuickScores, Cornhole Game
TRANSP:OPAQUE
BEGIN:VALARM
TRIGGER:-PT2H
ACTION:DISPLAY
DESCRIPTION:[2] Corn Supremacy vs. Winner of Game 2
END:VALARM
END:VEVENT
END:VCALENDAR
