BEGIN:VCALENDAR
VERSION:2.0
PRODID:-//QuickScores.com//BQ Dynamic iCal Creator//EN
METHOD:PUBLISH
X-WR-CALNAME:The Cornballers - 2nd Winter Cornhole League 2026 - Winter 2025-2026
X-WR-CALDESC:QuickScores game calendar
X-PUBLISHED-TTL:PT24H
REFRESH-INTERVAL;VALUE=DURATION:PT24H
CALSCALE:GREGORIAN
BEGIN:VTIMEZONE
TZID:America/Denver
X-LIC-LOCATION:America/Denver
BEGIN:DAYLIGHT
TZNAME:MDT
TZOFFSETFROM:-0700
TZOFFSETTO:-0600
DTSTART:19700308T020000
RRULE:FREQ=YEARLY;BYMONTH=3;BYDAY=2SU
END:DAYLIGHT
BEGIN:STANDARD
TZNAME:MST
TZOFFSETFROM:-0600
TZOFFSETTO:-0700
DTSTART:19701101T020000
RRULE:FREQ=YEARLY;BYMONTH=11;BYDAY=1SU
END:STANDARD
END:VTIMEZONE
BEGIN:VEVENT
UID:missoula-73273231-20260225T194500@quickscores.com
DTSTAMP:20260422T112500Z
DTSTART;TZID=America/Denver:20260225T194500
DURATION:PT0H15M0S
SUMMARY:The Cornballers vs. Cornhub
DESCRIPTION:2nd Winter Cornhole League 2026 - Missoula Parks & Recreation
LOCATION:Lowell Grade School Court 3
CATEGORIES:QuickScores, Cornhole Game
TRANSP:OPAQUE
BEGIN:VALARM
TRIGGER:-PT2H
ACTION:DISPLAY
DESCRIPTION:The Cornballers vs. Cornhub
END:VALARM
END:VEVENT
BEGIN:VEVENT
UID:missoula-73273235-20260225T200000@quickscores.com
DTSTAMP:20260422T112500Z
DTSTART;TZID=America/Denver:20260225T200000
DURATION:PT0H15M0S
SUMMARY:Lolo vs. The Cornballers
DESCRIPTION:2nd Winter Cornhole League 2026 - Missoula Parks & Recreation
LOCATION:Lowell Grade School Court 1
CATEGORIES:QuickScores, Cornhole Game
TRANSP:OPAQUE
BEGIN:VALARM
TRIGGER:-PT2H
ACTION:DISPLAY
DESCRIPTION:Lolo vs. The Cornballers
END:VALARM
END:VEVENT
BEGIN:VEVENT
UID:missoula-73273242-20260225T201500@quickscores.com
DTSTAMP:20260422T112500Z
DTSTART;TZID=America/Denver:20260225T201500
DURATION:PT0H15M0S
SUMMARY:The Cornballers vs. Breakout Session
DESCRIPTION:2nd Winter Cornhole League 2026 - Missoula Parks & Recreation
LOCATION:Lowell Grade School Court 3
CATEGORIES:QuickScores, Cornhole Game
TRANSP:OPAQUE
BEGIN:VALARM
TRIGGER:-PT2H
ACTION:DISPLAY
DESCRIPTION:The Cornballers vs. Breakout Session
END:VALARM
END:VEVENT
BEGIN:VEVENT
UID:missoula-73273246-20260225T203000@quickscores.com
DTSTAMP:20260422T112500Z
DTSTART;TZID=America/Denver:20260225T203000
DURATION:PT0H15M0S
SUMMARY:Bagging and Bragging vs. The Cornballers
DESCRIPTION:2nd Winter Cornhole League 2026 - Missoula Parks & Recreation
LOCATION:Lowell Grade School Court 4
CATEGORIES:QuickScores, Cornhole Game
TRANSP:OPAQUE
BEGIN:VALARM
TRIGGER:-PT2H
ACTION:DISPLAY
DESCRIPTION:Bagging and Bragging vs. The Cornballers
END:VALARM
END:VEVENT
BEGIN:VEVENT
UID:missoula-73273253-20260225T204500@quickscores.com
DTSTAMP:20260422T112500Z
DTSTART;TZID=America/Denver:20260225T204500
DURATION:PT0H15M0S
SUMMARY:The Cornballers vs. Corn Supremacy
DESCRIPTION:2nd Winter Cornhole League 2026 - Missoula Parks & Recreation
LOCATION:Lowell Grade School Court 4
CATEGORIES:QuickScores, Cornhole Game
TRANSP:OPAQUE
BEGIN:VALARM
TRIGGER:-PT2H
ACTION:DISPLAY
DESCRIPTION:The Cornballers vs. Corn Supremacy
END:VALARM
END:VEVENT
BEGIN:VEVENT
UID:missoula-73273257-20260225T210000@quickscores.com
DTSTAMP:20260422T112500Z
DTSTART;TZID=America/Denver:20260225T210000
DURATION:PT0H15M0S
SUMMARY:Corn to be Wild vs. The Cornballers
DESCRIPTION:2nd Winter Cornhole League 2026 - Missoula Parks & Recreation
LOCATION:Lowell Grade School Court 4
CATEGORIES:QuickScores, Cornhole Game
TRANSP:OPAQUE
BEGIN:VALARM
TRIGGER:-PT2H
ACTION:DISPLAY
DESCRIPTION:Corn to be Wild vs. The Cornballers
END:VALARM
END:VEVENT
BEGIN:VEVENT
UID:missoula-73273264-20260225T211500@quickscores.com
DTSTAMP:20260422T112500Z
DTSTART;TZID=America/Denver:20260225T211500
DURATION:PT0H15M0S
SUMMARY:The Cornballers vs. Bagging and Bragging
DESCRIPTION:2nd Winter Cornhole League 2026 - Missoula Parks & Recreation
LOCATION:Lowell Grade School Court 4
CATEGORIES:QuickScores, Cornhole Game
TRANSP:OPAQUE
BEGIN:VALARM
TRIGGER:-PT2H
ACTION:DISPLAY
DESCRIPTION:The Cornballers vs. Bagging and Bragging
END:VALARM
END:VEVENT
BEGIN:VEVENT
UID:missoula-73273293-20260304T194500@quickscores.com
DTSTAMP:20260422T112500Z
DTSTART;TZID=America/Denver:20260304T194500
DURATION:PT0H15M0S
SUMMARY:The Wildcats vs. The Cornballers
DESCRIPTION:2nd Winter Cornhole League 2026 - Missoula Parks & Recreation
LOCATION:Lowell Grade School Court 4
CATEGORIES:QuickScores, Cornhole Game
TRANSP:OPAQUE
BEGIN:VALARM
TRIGGER:-PT2H
ACTION:DISPLAY
DESCRIPTION:The Wildcats vs. The Cornballers
END:VALARM
END:VEVENT
BEGIN:VEVENT
UID:missoula-73273299-20260304T200000@quickscores.com
DTSTAMP:20260422T112500Z
DTSTART;TZID=America/Denver:20260304T200000
DURATION:PT0H15M0S
SUMMARY:Cobbfathers vs. The Cornballers
DESCRIPTION:2nd Winter Cornhole League 2026 - Missoula Parks & Recreation
LOCATION:Lowell Grade School Court 5
CATEGORIES:QuickScores, Cornhole Game
TRANSP:OPAQUE
BEGIN:VALARM
TRIGGER:-PT2H
ACTION:DISPLAY
DESCRIPTION:Cobbfathers vs. The Cornballers
END:VALARM
END:VEVENT
BEGIN:VEVENT
UID:missoula-73273288-20260304T201500@quickscores.com
DTSTAMP:20260422T112500Z
DTSTART;TZID=America/Denver:20260304T201500
DURATION:PT0H15M0S
SUMMARY:The Cornballers vs. Corn to be Wild
DESCRIPTION:2nd Winter Cornhole League 2026 - Missoula Parks & Recreation
LOCATION:Lowell Grade School Court 5
CATEGORIES:QuickScores, Cornhole Game
TRANSP:OPAQUE
BEGIN:VALARM
TRIGGER:-PT2H
ACTION:DISPLAY
DESCRIPTION:The Cornballers vs. Corn to be Wild
END:VALARM
END:VEVENT
BEGIN:VEVENT
UID:missoula-73273270-20260304T203000@quickscores.com
DTSTAMP:20260422T112500Z
DTSTART;TZID=America/Denver:20260304T203000
DURATION:PT0H15M0S
SUMMARY:The Cornballers vs. Lolo
DESCRIPTION:2nd Winter Cornhole League 2026 - Missoula Parks & Recreation
LOCATION:Lowell Grade School Court 1
CATEGORIES:QuickScores, Cornhole Game
TRANSP:OPAQUE
BEGIN:VALARM
TRIGGER:-PT2H
ACTION:DISPLAY
DESCRIPTION:The Cornballers vs. Lolo
END:VALARM
END:VEVENT
BEGIN:VEVENT
UID:missoula-73273277-20260304T204500@quickscores.com
DTSTAMP:20260422T112500Z
DTSTART;TZID=America/Denver:20260304T204500
DURATION:PT0H15M0S
SUMMARY:Breakout Session vs. The Cornballers
DESCRIPTION:2nd Winter Cornhole League 2026 - Missoula Parks & Recreation
LOCATION:Lowell Grade School Court 3
CATEGORIES:QuickScores, Cornhole Game
TRANSP:OPAQUE
BEGIN:VALARM
TRIGGER:-PT2H
ACTION:DISPLAY
DESCRIPTION:Breakout Session vs. The Cornballers
END:VALARM
END:VEVENT
BEGIN:VEVENT
UID:missoula-73273266-20260304T210000@quickscores.com
DTSTAMP:20260422T112500Z
DTSTART;TZID=America/Denver:20260304T210000
DURATION:PT0H15M0S
SUMMARY:Cornhub vs. The Cornballers
DESCRIPTION:2nd Winter Cornhole League 2026 - Missoula Parks & Recreation
LOCATION:Lowell Grade School Court 1
CATEGORIES:QuickScores, Cornhole Game
TRANSP:OPAQUE
BEGIN:VALARM
TRIGGER:-PT2H
ACTION:DISPLAY
DESCRIPTION:Cornhub vs. The Cornballers
END:VALARM
END:VEVENT
BEGIN:VEVENT
UID:missoula-73273281-20260304T211500@quickscores.com
DTSTAMP:20260422T112500Z
DTSTART;TZID=America/Denver:20260304T211500
DURATION:PT0H15M0S
SUMMARY:The Cornballers vs. Bagging and Bragging
DESCRIPTION:2nd Winter Cornhole League 2026 - Missoula Parks & Recreation
LOCATION:Lowell Grade School Court 5
CATEGORIES:QuickScores, Cornhole Game
TRANSP:OPAQUE
BEGIN:VALARM
TRIGGER:-PT2H
ACTION:DISPLAY
DESCRIPTION:The Cornballers vs. Bagging and Bragging
END:VALARM
END:VEVENT
BEGIN:VEVENT
UID:missoula-73273332-20260311T194500@quickscores.com
DTSTAMP:20260422T112500Z
DTSTART;TZID=America/Denver:20260311T194500
DURATION:PT0H15M0S
SUMMARY:The Cornballers vs. Breakout Session
DESCRIPTION:2nd Winter Cornhole League 2026 - Missoula Parks & Recreation
LOCATION:Lowell Grade School Court 3
CATEGORIES:QuickScores, Cornhole Game
TRANSP:OPAQUE
BEGIN:VALARM
TRIGGER:-PT2H
ACTION:DISPLAY
DESCRIPTION:The Cornballers vs. Breakout Session
END:VALARM
END:VEVENT
BEGIN:VEVENT
UID:missoula-73273309-20260311T200000@quickscores.com
DTSTAMP:20260422T112500Z
DTSTART;TZID=America/Denver:20260311T200000
DURATION:PT0H15M0S
SUMMARY:Wattys vs. The Cornballers
DESCRIPTION:2nd Winter Cornhole League 2026 - Missoula Parks & Recreation
LOCATION:Lowell Grade School Court 5
CATEGORIES:QuickScores, Cornhole Game
TRANSP:OPAQUE
BEGIN:VALARM
TRIGGER:-PT2H
ACTION:DISPLAY
DESCRIPTION:Wattys vs. The Cornballers
END:VALARM
END:VEVENT
BEGIN:VEVENT
UID:missoula-73273313-20260311T201500@quickscores.com
DTSTAMP:20260422T112500Z
DTSTART;TZID=America/Denver:20260311T201500
DURATION:PT0H15M0S
SUMMARY:The Cornballers vs. The Wildcats
DESCRIPTION:2nd Winter Cornhole League 2026 - Missoula Parks & Recreation
LOCATION:Lowell Grade School Court 4
CATEGORIES:QuickScores, Cornhole Game
TRANSP:OPAQUE
BEGIN:VALARM
TRIGGER:-PT2H
ACTION:DISPLAY
DESCRIPTION:The Cornballers vs. The Wildcats
END:VALARM
END:VEVENT
BEGIN:VEVENT
UID:missoula-73273319-20260311T203000@quickscores.com
DTSTAMP:20260422T112500Z
DTSTART;TZID=America/Denver:20260311T203000
DURATION:PT0H15M0S
SUMMARY:The Cornballers vs. Cobbfathers
DESCRIPTION:2nd Winter Cornhole League 2026 - Missoula Parks & Recreation
LOCATION:Lowell Grade School Court 5
CATEGORIES:QuickScores, Cornhole Game
TRANSP:OPAQUE
BEGIN:VALARM
TRIGGER:-PT2H
ACTION:DISPLAY
DESCRIPTION:The Cornballers vs. Cobbfathers
END:VALARM
END:VEVENT
BEGIN:VEVENT
UID:missoula-73273321-20260311T204500@quickscores.com
DTSTAMP:20260422T112500Z
DTSTART;TZID=America/Denver:20260311T204500
DURATION:PT0H15M0S
SUMMARY:The Cornballers vs. Cornhub
DESCRIPTION:2nd Winter Cornhole League 2026 - Missoula Parks & Recreation
LOCATION:Lowell Grade School Court 2
CATEGORIES:QuickScores, Cornhole Game
TRANSP:OPAQUE
BEGIN:VALARM
TRIGGER:-PT2H
ACTION:DISPLAY
DESCRIPTION:The Cornballers vs. Cornhub
END:VALARM
END:VEVENT
BEGIN:VEVENT
UID:missoula-73273325-20260311T210000@quickscores.com
DTSTAMP:20260422T112500Z
DTSTART;TZID=America/Denver:20260311T210000
DURATION:PT0H15M0S
SUMMARY:Lolo vs. The Cornballers
DESCRIPTION:2nd Winter Cornhole League 2026 - Missoula Parks & Recreation
LOCATION:Lowell Grade School Court 1
CATEGORIES:QuickScores, Cornhole Game
TRANSP:OPAQUE
BEGIN:VALARM
TRIGGER:-PT2H
ACTION:DISPLAY
DESCRIPTION:Lolo vs. The Cornballers
END:VALARM
END:VEVENT
BEGIN:VEVENT
UID:missoula-73273302-20260311T211500@quickscores.com
DTSTAMP:20260422T112500Z
DTSTART;TZID=America/Denver:20260311T211500
DURATION:PT0H15M0S
SUMMARY:The Cornballers vs. Corn to be Wild
DESCRIPTION:2nd Winter Cornhole League 2026 - Missoula Parks & Recreation
LOCATION:Lowell Grade School Court 5
CATEGORIES:QuickScores, Cornhole Game
TRANSP:OPAQUE
BEGIN:VALARM
TRIGGER:-PT2H
ACTION:DISPLAY
DESCRIPTION:The Cornballers vs. Corn to be Wild
END:VALARM
END:VEVENT
BEGIN:VEVENT
UID:missoula-73273347-20260318T194500@quickscores.com
DTSTAMP:20260422T112500Z
DTSTART;TZID=America/Denver:20260318T194500
DURATION:PT0H15M0S
SUMMARY:Corn Supremacy vs. The Cornballers
DESCRIPTION:2nd Winter Cornhole League 2026 - Missoula Parks & Recreation
LOCATION:Lowell Grade School Court 5
CATEGORIES:QuickScores, Cornhole Game
TRANSP:OPAQUE
BEGIN:VALARM
TRIGGER:-PT2H
ACTION:DISPLAY
DESCRIPTION:Corn Supremacy vs. The Cornballers
END:VALARM
END:VEVENT
BEGIN:VEVENT
UID:missoula-73273353-20260318T200000@quickscores.com
DTSTAMP:20260422T112500Z
DTSTART;TZID=America/Denver:20260318T200000
DURATION:PT0H15M0S
SUMMARY:The Cornballers vs. Corn Supremacy
DESCRIPTION:2nd Winter Cornhole League 2026 - Missoula Parks & Recreation
LOCATION:Lowell Grade School Court 4
CATEGORIES:QuickScores, Cornhole Game
TRANSP:OPAQUE
BEGIN:VALARM
TRIGGER:-PT2H
ACTION:DISPLAY
DESCRIPTION:The Cornballers vs. Corn Supremacy
END:VALARM
END:VEVENT
BEGIN:VEVENT
UID:missoula-73273357-20260318T201500@quickscores.com
DTSTAMP:20260422T112500Z
DTSTART;TZID=America/Denver:20260318T201500
DURATION:PT0H15M0S
SUMMARY:Corn to be Wild vs. The Cornballers
DESCRIPTION:2nd Winter Cornhole League 2026 - Missoula Parks & Recreation
LOCATION:Lowell Grade School Court 4
CATEGORIES:QuickScores, Cornhole Game
TRANSP:OPAQUE
BEGIN:VALARM
TRIGGER:-PT2H
ACTION:DISPLAY
DESCRIPTION:Corn to be Wild vs. The Cornballers
END:VALARM
END:VEVENT
BEGIN:VEVENT
UID:missoula-73273364-20260318T203000@quickscores.com
DTSTAMP:20260422T112500Z
DTSTART;TZID=America/Denver:20260318T203000
DURATION:PT0H15M0S
SUMMARY:The Cornballers vs. Wattys
DESCRIPTION:2nd Winter Cornhole League 2026 - Missoula Parks & Recreation
LOCATION:Lowell Grade School Court 1
CATEGORIES:QuickScores, Cornhole Game
TRANSP:OPAQUE
BEGIN:VALARM
TRIGGER:-PT2H
ACTION:DISPLAY
DESCRIPTION:The Cornballers vs. Wattys
END:VALARM
END:VEVENT
BEGIN:VEVENT
UID:missoula-73273368-20260318T204500@quickscores.com
DTSTAMP:20260422T112500Z
DTSTART;TZID=America/Denver:20260318T204500
DURATION:PT0H15M0S
SUMMARY:The Wildcats vs. The Cornballers
DESCRIPTION:2nd Winter Cornhole League 2026 - Missoula Parks & Recreation
LOCATION:Lowell Grade School Court 4
CATEGORIES:QuickScores, Cornhole Game
TRANSP:OPAQUE
BEGIN:VALARM
TRIGGER:-PT2H
ACTION:DISPLAY
DESCRIPTION:The Wildcats vs. The Cornballers
END:VALARM
END:VEVENT
BEGIN:VEVENT
UID:missoula-73273339-20260318T210000@quickscores.com
DTSTAMP:20260422T112500Z
DTSTART;TZID=America/Denver:20260318T210000
DURATION:PT0H15M0S
SUMMARY:Cobbfathers vs. The Cornballers
DESCRIPTION:2nd Winter Cornhole League 2026 - Missoula Parks & Recreation
LOCATION:Lowell Grade School Court 4
CATEGORIES:QuickScores, Cornhole Game
TRANSP:OPAQUE
BEGIN:VALARM
TRIGGER:-PT2H
ACTION:DISPLAY
DESCRIPTION:Cobbfathers vs. The Cornballers
END:VALARM
END:VEVENT
BEGIN:VEVENT
UID:missoula-73273346-20260318T211500@quickscores.com
DTSTAMP:20260422T112500Z
DTSTART;TZID=America/Denver:20260318T211500
DURATION:PT0H15M0S
SUMMARY:Bagging and Bragging vs. The Cornballers
DESCRIPTION:2nd Winter Cornhole League 2026 - Missoula Parks & Recreation
LOCATION:Lowell Grade School Court 2
CATEGORIES:QuickScores, Cornhole Game
TRANSP:OPAQUE
BEGIN:VALARM
TRIGGER:-PT2H
ACTION:DISPLAY
DESCRIPTION:Bagging and Bragging vs. The Cornballers
END:VALARM
END:VEVENT
BEGIN:VEVENT
UID:missoula-73273388-20260325T194500@quickscores.com
DTSTAMP:20260422T112500Z
DTSTART;TZID=America/Denver:20260325T194500
DURATION:PT0H15M0S
SUMMARY:Lolo vs. The Cornballers
DESCRIPTION:2nd Winter Cornhole League 2026 - Missoula Parks & Recreation
LOCATION:Lowell Grade School Court 2
CATEGORIES:QuickScores, Cornhole Game
TRANSP:OPAQUE
BEGIN:VALARM
TRIGGER:-PT2H
ACTION:DISPLAY
DESCRIPTION:Lolo vs. The Cornballers
END:VALARM
END:VEVENT
BEGIN:VEVENT
UID:missoula-73273377-20260325T200000@quickscores.com
DTSTAMP:20260422T112500Z
DTSTART;TZID=America/Denver:20260325T200000
DURATION:PT0H15M0S
SUMMARY:Breakout Session vs. The Cornballers
DESCRIPTION:2nd Winter Cornhole League 2026 - Missoula Parks & Recreation
LOCATION:Lowell Grade School Court 2
CATEGORIES:QuickScores, Cornhole Game
TRANSP:OPAQUE
BEGIN:VALARM
TRIGGER:-PT2H
ACTION:DISPLAY
DESCRIPTION:Breakout Session vs. The Cornballers
END:VALARM
END:VEVENT
BEGIN:VEVENT
UID:missoula-73273381-20260325T201500@quickscores.com
DTSTAMP:20260422T112500Z
DTSTART;TZID=America/Denver:20260325T201500
DURATION:PT0H15M0S
SUMMARY:The Cornballers vs. Bagging and Bragging
DESCRIPTION:2nd Winter Cornhole League 2026 - Missoula Parks & Recreation
LOCATION:Lowell Grade School Court 1
CATEGORIES:QuickScores, Cornhole Game
TRANSP:OPAQUE
BEGIN:VALARM
TRIGGER:-PT2H
ACTION:DISPLAY
DESCRIPTION:The Cornballers vs. Bagging and Bragging
END:VALARM
END:VEVENT
BEGIN:VEVENT
UID:missoula-73273403-20260325T203000@quickscores.com
DTSTAMP:20260422T112500Z
DTSTART;TZID=America/Denver:20260325T203000
DURATION:PT0H15M0S
SUMMARY:The Cornballers vs. The Wildcats
DESCRIPTION:2nd Winter Cornhole League 2026 - Missoula Parks & Recreation
LOCATION:Lowell Grade School Court 2
CATEGORIES:QuickScores, Cornhole Game
TRANSP:OPAQUE
BEGIN:VALARM
TRIGGER:-PT2H
ACTION:DISPLAY
DESCRIPTION:The Cornballers vs. The Wildcats
END:VALARM
END:VEVENT
BEGIN:VEVENT
UID:missoula-73273392-20260325T204500@quickscores.com
DTSTAMP:20260422T112500Z
DTSTART;TZID=America/Denver:20260325T204500
DURATION:PT0H15M0S
SUMMARY:The Cornballers vs. Corn to be Wild
DESCRIPTION:2nd Winter Cornhole League 2026 - Missoula Parks & Recreation
LOCATION:Lowell Grade School Court 3
CATEGORIES:QuickScores, Cornhole Game
TRANSP:OPAQUE
BEGIN:VALARM
TRIGGER:-PT2H
ACTION:DISPLAY
DESCRIPTION:The Cornballers vs. Corn to be Wild
END:VALARM
END:VEVENT
BEGIN:VEVENT
UID:missoula-73273399-20260325T210000@quickscores.com
DTSTAMP:20260422T112500Z
DTSTART;TZID=America/Denver:20260325T210000
DURATION:PT0H15M0S
SUMMARY:Wattys vs. The Cornballers
DESCRIPTION:2nd Winter Cornhole League 2026 - Missoula Parks & Recreation
LOCATION:Lowell Grade School Court 5
CATEGORIES:QuickScores, Cornhole Game
TRANSP:OPAQUE
BEGIN:VALARM
TRIGGER:-PT2H
ACTION:DISPLAY
DESCRIPTION:Wattys vs. The Cornballers
END:VALARM
END:VEVENT
BEGIN:VEVENT
UID:missoula-73273370-20260325T211500@quickscores.com
DTSTAMP:20260422T112500Z
DTSTART;TZID=America/Denver:20260325T211500
DURATION:PT0H15M0S
SUMMARY:The Cornballers vs. Lolo
DESCRIPTION:2nd Winter Cornhole League 2026 - Missoula Parks & Recreation
LOCATION:Lowell Grade School Court 3
CATEGORIES:QuickScores, Cornhole Game
TRANSP:OPAQUE
BEGIN:VALARM
TRIGGER:-PT2H
ACTION:DISPLAY
DESCRIPTION:The Cornballers vs. Lolo
END:VALARM
END:VEVENT
BEGIN:VEVENT
UID:missoula-74134401-20260401T194500@quickscores.com
DTSTAMP:20260422T112500Z
DTSTART;TZID=America/Denver:20260401T194500
DURATION:PT0H15M0S
SUMMARY:[7] The Cornballers vs. [10] Lolo
DESCRIPTION:2nd Winter Cornhole League 2026 - Missoula Parks & Recreation
LOCATION:Lowell Grade School Court 2
CATEGORIES:QuickScores, Cornhole Game
TRANSP:OPAQUE
BEGIN:VALARM
TRIGGER:-PT2H
ACTION:DISPLAY
DESCRIPTION:[7] The Cornballers vs. [10] Lolo
END:VALARM
END:VEVENT
END:VCALENDAR
