BEGIN:VCALENDAR
VERSION:2.0
PRODID:-//QuickScores.com//BQ Dynamic iCal Creator//EN
METHOD:PUBLISH
X-WR-CALNAME:Breakout Session - 2nd Winter Cornhole League 2026 - Winter 2025-2026
X-WR-CALDESC:QuickScores game calendar
X-PUBLISHED-TTL:PT24H
REFRESH-INTERVAL;VALUE=DURATION:PT24H
CALSCALE:GREGORIAN
BEGIN:VTIMEZONE
TZID:America/Denver
X-LIC-LOCATION:America/Denver
BEGIN:DAYLIGHT
TZNAME:MDT
TZOFFSETFROM:-0700
TZOFFSETTO:-0600
DTSTART:19700308T020000
RRULE:FREQ=YEARLY;BYMONTH=3;BYDAY=2SU
END:DAYLIGHT
BEGIN:STANDARD
TZNAME:MST
TZOFFSETFROM:-0600
TZOFFSETTO:-0700
DTSTART:19701101T020000
RRULE:FREQ=YEARLY;BYMONTH=11;BYDAY=1SU
END:STANDARD
END:VTIMEZONE
BEGIN:VEVENT
UID:missoula-73273233-20260225T194500@quickscores.com
DTSTAMP:20260421T180300Z
DTSTART;TZID=America/Denver:20260225T194500
DURATION:PT0H15M0S
SUMMARY:Bagging and Bragging vs. Breakout Session
DESCRIPTION:2nd Winter Cornhole League 2026 - Missoula Parks & Recreation
LOCATION:Lowell Grade School Court 4
CATEGORIES:QuickScores, Cornhole Game
TRANSP:OPAQUE
BEGIN:VALARM
TRIGGER:-PT2H
ACTION:DISPLAY
DESCRIPTION:Bagging and Bragging vs. Breakout Session
END:VALARM
END:VEVENT
BEGIN:VEVENT
UID:missoula-73273239-20260225T200000@quickscores.com
DTSTAMP:20260421T180300Z
DTSTART;TZID=America/Denver:20260225T200000
DURATION:PT0H15M0S
SUMMARY:Corn to be Wild vs. Breakout Session
DESCRIPTION:2nd Winter Cornhole League 2026 - Missoula Parks & Recreation
LOCATION:Lowell Grade School Court 4
CATEGORIES:QuickScores, Cornhole Game
TRANSP:OPAQUE
BEGIN:VALARM
TRIGGER:-PT2H
ACTION:DISPLAY
DESCRIPTION:Corn to be Wild vs. Breakout Session
END:VALARM
END:VEVENT
BEGIN:VEVENT
UID:missoula-73273242-20260225T201500@quickscores.com
DTSTAMP:20260421T180300Z
DTSTART;TZID=America/Denver:20260225T201500
DURATION:PT0H15M0S
SUMMARY:The Cornballers vs. Breakout Session
DESCRIPTION:2nd Winter Cornhole League 2026 - Missoula Parks & Recreation
LOCATION:Lowell Grade School Court 3
CATEGORIES:QuickScores, Cornhole Game
TRANSP:OPAQUE
BEGIN:VALARM
TRIGGER:-PT2H
ACTION:DISPLAY
DESCRIPTION:The Cornballers vs. Breakout Session
END:VALARM
END:VEVENT
BEGIN:VEVENT
UID:missoula-73273249-20260225T203000@quickscores.com
DTSTAMP:20260421T180300Z
DTSTART;TZID=America/Denver:20260225T203000
DURATION:PT0H15M0S
SUMMARY:Breakout Session vs. The Wildcats
DESCRIPTION:2nd Winter Cornhole League 2026 - Missoula Parks & Recreation
LOCATION:Lowell Grade School Court 5
CATEGORIES:QuickScores, Cornhole Game
TRANSP:OPAQUE
BEGIN:VALARM
TRIGGER:-PT2H
ACTION:DISPLAY
DESCRIPTION:Breakout Session vs. The Wildcats
END:VALARM
END:VEVENT
BEGIN:VEVENT
UID:missoula-73273251-20260225T204500@quickscores.com
DTSTAMP:20260421T180300Z
DTSTART;TZID=America/Denver:20260225T204500
DURATION:PT0H15M0S
SUMMARY:Cornhub vs. Breakout Session
DESCRIPTION:2nd Winter Cornhole League 2026 - Missoula Parks & Recreation
LOCATION:Lowell Grade School Court 5
CATEGORIES:QuickScores, Cornhole Game
TRANSP:OPAQUE
BEGIN:VALARM
TRIGGER:-PT2H
ACTION:DISPLAY
DESCRIPTION:Cornhub vs. Breakout Session
END:VALARM
END:VEVENT
BEGIN:VEVENT
UID:missoula-73273258-20260225T210000@quickscores.com
DTSTAMP:20260421T180300Z
DTSTART;TZID=America/Denver:20260225T210000
DURATION:PT0H15M0S
SUMMARY:Breakout Session vs. Cobbfathers
DESCRIPTION:2nd Winter Cornhole League 2026 - Missoula Parks & Recreation
LOCATION:Lowell Grade School Court 2
CATEGORIES:QuickScores, Cornhole Game
TRANSP:OPAQUE
BEGIN:VALARM
TRIGGER:-PT2H
ACTION:DISPLAY
DESCRIPTION:Breakout Session vs. Cobbfathers
END:VALARM
END:VEVENT
BEGIN:VEVENT
UID:missoula-73273260-20260225T211500@quickscores.com
DTSTAMP:20260421T180300Z
DTSTART;TZID=America/Denver:20260225T211500
DURATION:PT0H15M0S
SUMMARY:Lolo vs. Breakout Session
DESCRIPTION:2nd Winter Cornhole League 2026 - Missoula Parks & Recreation
LOCATION:Lowell Grade School Court 1
CATEGORIES:QuickScores, Cornhole Game
TRANSP:OPAQUE
BEGIN:VALARM
TRIGGER:-PT2H
ACTION:DISPLAY
DESCRIPTION:Lolo vs. Breakout Session
END:VALARM
END:VEVENT
BEGIN:VEVENT
UID:missoula-73273286-20260304T194500@quickscores.com
DTSTAMP:20260421T180300Z
DTSTART;TZID=America/Denver:20260304T194500
DURATION:PT0H15M0S
SUMMARY:Breakout Session vs. Cornhub
DESCRIPTION:2nd Winter Cornhole League 2026 - Missoula Parks & Recreation
LOCATION:Lowell Grade School Court 1
CATEGORIES:QuickScores, Cornhole Game
TRANSP:OPAQUE
BEGIN:VALARM
TRIGGER:-PT2H
ACTION:DISPLAY
DESCRIPTION:Breakout Session vs. Cornhub
END:VALARM
END:VEVENT
BEGIN:VEVENT
UID:missoula-73273296-20260304T200000@quickscores.com
DTSTAMP:20260421T180300Z
DTSTART;TZID=America/Denver:20260304T200000
DURATION:PT0H15M0S
SUMMARY:Breakout Session vs. Corn Supremacy
DESCRIPTION:2nd Winter Cornhole League 2026 - Missoula Parks & Recreation
LOCATION:Lowell Grade School Court 2
CATEGORIES:QuickScores, Cornhole Game
TRANSP:OPAQUE
BEGIN:VALARM
TRIGGER:-PT2H
ACTION:DISPLAY
DESCRIPTION:Breakout Session vs. Corn Supremacy
END:VALARM
END:VEVENT
BEGIN:VEVENT
UID:missoula-73273268-20260304T201500@quickscores.com
DTSTAMP:20260421T180300Z
DTSTART;TZID=America/Denver:20260304T201500
DURATION:PT0H15M0S
SUMMARY:Breakout Session vs. Bagging and Bragging
DESCRIPTION:2nd Winter Cornhole League 2026 - Missoula Parks & Recreation
LOCATION:Lowell Grade School Court 2
CATEGORIES:QuickScores, Cornhole Game
TRANSP:OPAQUE
BEGIN:VALARM
TRIGGER:-PT2H
ACTION:DISPLAY
DESCRIPTION:Breakout Session vs. Bagging and Bragging
END:VALARM
END:VEVENT
BEGIN:VEVENT
UID:missoula-73273274-20260304T203000@quickscores.com
DTSTAMP:20260421T180300Z
DTSTART;TZID=America/Denver:20260304T203000
DURATION:PT0H15M0S
SUMMARY:Breakout Session vs. Corn to be Wild
DESCRIPTION:2nd Winter Cornhole League 2026 - Missoula Parks & Recreation
LOCATION:Lowell Grade School Court 3
CATEGORIES:QuickScores, Cornhole Game
TRANSP:OPAQUE
BEGIN:VALARM
TRIGGER:-PT2H
ACTION:DISPLAY
DESCRIPTION:Breakout Session vs. Corn to be Wild
END:VALARM
END:VEVENT
BEGIN:VEVENT
UID:missoula-73273277-20260304T204500@quickscores.com
DTSTAMP:20260421T180300Z
DTSTART;TZID=America/Denver:20260304T204500
DURATION:PT0H15M0S
SUMMARY:Breakout Session vs. The Cornballers
DESCRIPTION:2nd Winter Cornhole League 2026 - Missoula Parks & Recreation
LOCATION:Lowell Grade School Court 3
CATEGORIES:QuickScores, Cornhole Game
TRANSP:OPAQUE
BEGIN:VALARM
TRIGGER:-PT2H
ACTION:DISPLAY
DESCRIPTION:Breakout Session vs. The Cornballers
END:VALARM
END:VEVENT
BEGIN:VEVENT
UID:missoula-73273284-20260304T210000@quickscores.com
DTSTAMP:20260421T180300Z
DTSTART;TZID=America/Denver:20260304T210000
DURATION:PT0H15M0S
SUMMARY:The Wildcats vs. Breakout Session
DESCRIPTION:2nd Winter Cornhole League 2026 - Missoula Parks & Recreation
LOCATION:Lowell Grade School Court 4
CATEGORIES:QuickScores, Cornhole Game
TRANSP:OPAQUE
BEGIN:VALARM
TRIGGER:-PT2H
ACTION:DISPLAY
DESCRIPTION:The Wildcats vs. Breakout Session
END:VALARM
END:VEVENT
BEGIN:VEVENT
UID:missoula-73273292-20260304T211500@quickscores.com
DTSTAMP:20260421T180300Z
DTSTART;TZID=America/Denver:20260304T211500
DURATION:PT0H15M0S
SUMMARY:Breakout Session vs. Wattys
DESCRIPTION:2nd Winter Cornhole League 2026 - Missoula Parks & Recreation
LOCATION:Lowell Grade School Court 4
CATEGORIES:QuickScores, Cornhole Game
TRANSP:OPAQUE
BEGIN:VALARM
TRIGGER:-PT2H
ACTION:DISPLAY
DESCRIPTION:Breakout Session vs. Wattys
END:VALARM
END:VEVENT
BEGIN:VEVENT
UID:missoula-73273332-20260311T194500@quickscores.com
DTSTAMP:20260421T180300Z
DTSTART;TZID=America/Denver:20260311T194500
DURATION:PT0H15M0S
SUMMARY:The Cornballers vs. Breakout Session
DESCRIPTION:2nd Winter Cornhole League 2026 - Missoula Parks & Recreation
LOCATION:Lowell Grade School Court 3
CATEGORIES:QuickScores, Cornhole Game
TRANSP:OPAQUE
BEGIN:VALARM
TRIGGER:-PT2H
ACTION:DISPLAY
DESCRIPTION:The Cornballers vs. Breakout Session
END:VALARM
END:VEVENT
BEGIN:VEVENT
UID:missoula-73273305-20260311T200000@quickscores.com
DTSTAMP:20260421T180300Z
DTSTART;TZID=America/Denver:20260311T200000
DURATION:PT0H15M0S
SUMMARY:Breakout Session vs. Lolo
DESCRIPTION:2nd Winter Cornhole League 2026 - Missoula Parks & Recreation
LOCATION:Lowell Grade School Court 3
CATEGORIES:QuickScores, Cornhole Game
TRANSP:OPAQUE
BEGIN:VALARM
TRIGGER:-PT2H
ACTION:DISPLAY
DESCRIPTION:Breakout Session vs. Lolo
END:VALARM
END:VEVENT
BEGIN:VEVENT
UID:missoula-73273312-20260311T201500@quickscores.com
DTSTAMP:20260421T180300Z
DTSTART;TZID=America/Denver:20260311T201500
DURATION:PT0H15M0S
SUMMARY:Wattys vs. Breakout Session
DESCRIPTION:2nd Winter Cornhole League 2026 - Missoula Parks & Recreation
LOCATION:Lowell Grade School Court 3
CATEGORIES:QuickScores, Cornhole Game
TRANSP:OPAQUE
BEGIN:VALARM
TRIGGER:-PT2H
ACTION:DISPLAY
DESCRIPTION:Wattys vs. Breakout Session
END:VALARM
END:VEVENT
BEGIN:VEVENT
UID:missoula-73273316-20260311T203000@quickscores.com
DTSTAMP:20260421T180300Z
DTSTART;TZID=America/Denver:20260311T203000
DURATION:PT0H15M0S
SUMMARY:Corn Supremacy vs. Breakout Session
DESCRIPTION:2nd Winter Cornhole League 2026 - Missoula Parks & Recreation
LOCATION:Lowell Grade School Court 3
CATEGORIES:QuickScores, Cornhole Game
TRANSP:OPAQUE
BEGIN:VALARM
TRIGGER:-PT2H
ACTION:DISPLAY
DESCRIPTION:Corn Supremacy vs. Breakout Session
END:VALARM
END:VEVENT
BEGIN:VEVENT
UID:missoula-73273323-20260311T204500@quickscores.com
DTSTAMP:20260421T180300Z
DTSTART;TZID=America/Denver:20260311T204500
DURATION:PT0H15M0S
SUMMARY:Bagging and Bragging vs. Breakout Session
DESCRIPTION:2nd Winter Cornhole League 2026 - Missoula Parks & Recreation
LOCATION:Lowell Grade School Court 4
CATEGORIES:QuickScores, Cornhole Game
TRANSP:OPAQUE
BEGIN:VALARM
TRIGGER:-PT2H
ACTION:DISPLAY
DESCRIPTION:Bagging and Bragging vs. Breakout Session
END:VALARM
END:VEVENT
BEGIN:VEVENT
UID:missoula-73273329-20260311T210000@quickscores.com
DTSTAMP:20260421T180300Z
DTSTART;TZID=America/Denver:20260311T210000
DURATION:PT0H15M0S
SUMMARY:Corn to be Wild vs. Breakout Session
DESCRIPTION:2nd Winter Cornhole League 2026 - Missoula Parks & Recreation
LOCATION:Lowell Grade School Court 3
CATEGORIES:QuickScores, Cornhole Game
TRANSP:OPAQUE
BEGIN:VALARM
TRIGGER:-PT2H
ACTION:DISPLAY
DESCRIPTION:Corn to be Wild vs. Breakout Session
END:VALARM
END:VEVENT
BEGIN:VEVENT
UID:missoula-73273303-20260311T211500@quickscores.com
DTSTAMP:20260421T180300Z
DTSTART;TZID=America/Denver:20260311T211500
DURATION:PT0H15M0S
SUMMARY:Cobbfathers vs. Breakout Session
DESCRIPTION:2nd Winter Cornhole League 2026 - Missoula Parks & Recreation
LOCATION:Lowell Grade School Court 3
CATEGORIES:QuickScores, Cornhole Game
TRANSP:OPAQUE
BEGIN:VALARM
TRIGGER:-PT2H
ACTION:DISPLAY
DESCRIPTION:Cobbfathers vs. Breakout Session
END:VALARM
END:VEVENT
BEGIN:VEVENT
UID:missoula-73273343-20260318T194500@quickscores.com
DTSTAMP:20260421T180300Z
DTSTART;TZID=America/Denver:20260318T194500
DURATION:PT0H15M0S
SUMMARY:Breakout Session vs. Bagging and Bragging
DESCRIPTION:2nd Winter Cornhole League 2026 - Missoula Parks & Recreation
LOCATION:Lowell Grade School Court 2
CATEGORIES:QuickScores, Cornhole Game
TRANSP:OPAQUE
BEGIN:VALARM
TRIGGER:-PT2H
ACTION:DISPLAY
DESCRIPTION:Breakout Session vs. Bagging and Bragging
END:VALARM
END:VEVENT
BEGIN:VEVENT
UID:missoula-73273351-20260318T200000@quickscores.com
DTSTAMP:20260421T180300Z
DTSTART;TZID=America/Denver:20260318T200000
DURATION:PT0H15M0S
SUMMARY:Cornhub vs. Breakout Session
DESCRIPTION:2nd Winter Cornhole League 2026 - Missoula Parks & Recreation
LOCATION:Lowell Grade School Court 2
CATEGORIES:QuickScores, Cornhole Game
TRANSP:OPAQUE
BEGIN:VALARM
TRIGGER:-PT2H
ACTION:DISPLAY
DESCRIPTION:Cornhub vs. Breakout Session
END:VALARM
END:VEVENT
BEGIN:VEVENT
UID:missoula-73273349-20260318T201500@quickscores.com
DTSTAMP:20260421T180300Z
DTSTART;TZID=America/Denver:20260318T201500
DURATION:PT0H15M0S
SUMMARY:Breakout Session vs. Bagging and Bragging
DESCRIPTION:2nd Winter Cornhole League 2026 - Missoula Parks & Recreation
LOCATION:Lowell Grade School Court 2
CATEGORIES:QuickScores, Cornhole Game
TRANSP:OPAQUE
BEGIN:VALARM
TRIGGER:-PT2H
ACTION:DISPLAY
DESCRIPTION:Breakout Session vs. Bagging and Bragging
END:VALARM
END:VEVENT
BEGIN:VEVENT
UID:missoula-73273360-20260318T203000@quickscores.com
DTSTAMP:20260421T180300Z
DTSTART;TZID=America/Denver:20260318T203000
DURATION:PT0H15M0S
SUMMARY:Lolo vs. Breakout Session
DESCRIPTION:2nd Winter Cornhole League 2026 - Missoula Parks & Recreation
LOCATION:Lowell Grade School Court 2
CATEGORIES:QuickScores, Cornhole Game
TRANSP:OPAQUE
BEGIN:VALARM
TRIGGER:-PT2H
ACTION:DISPLAY
DESCRIPTION:Lolo vs. Breakout Session
END:VALARM
END:VEVENT
BEGIN:VEVENT
UID:missoula-73273367-20260318T204500@quickscores.com
DTSTAMP:20260421T180300Z
DTSTART;TZID=America/Denver:20260318T204500
DURATION:PT0H15M0S
SUMMARY:Breakout Session vs. Wattys
DESCRIPTION:2nd Winter Cornhole League 2026 - Missoula Parks & Recreation
LOCATION:Lowell Grade School Court 3
CATEGORIES:QuickScores, Cornhole Game
TRANSP:OPAQUE
BEGIN:VALARM
TRIGGER:-PT2H
ACTION:DISPLAY
DESCRIPTION:Breakout Session vs. Wattys
END:VALARM
END:VEVENT
BEGIN:VEVENT
UID:missoula-73273336-20260318T210000@quickscores.com
DTSTAMP:20260421T180300Z
DTSTART;TZID=America/Denver:20260318T210000
DURATION:PT0H15M0S
SUMMARY:Corn Supremacy vs. Breakout Session
DESCRIPTION:2nd Winter Cornhole League 2026 - Missoula Parks & Recreation
LOCATION:Lowell Grade School Court 2
CATEGORIES:QuickScores, Cornhole Game
TRANSP:OPAQUE
BEGIN:VALARM
TRIGGER:-PT2H
ACTION:DISPLAY
DESCRIPTION:Corn Supremacy vs. Breakout Session
END:VALARM
END:VEVENT
BEGIN:VEVENT
UID:missoula-73273358-20260318T211500@quickscores.com
DTSTAMP:20260421T180300Z
DTSTART;TZID=America/Denver:20260318T211500
DURATION:PT0H15M0S
SUMMARY:Breakout Session vs. Cobbfathers
DESCRIPTION:2nd Winter Cornhole League 2026 - Missoula Parks & Recreation
LOCATION:Lowell Grade School Court 4
CATEGORIES:QuickScores, Cornhole Game
TRANSP:OPAQUE
BEGIN:VALARM
TRIGGER:-PT2H
ACTION:DISPLAY
DESCRIPTION:Breakout Session vs. Cobbfathers
END:VALARM
END:VEVENT
BEGIN:VEVENT
UID:missoula-73273374-20260325T194500@quickscores.com
DTSTAMP:20260421T180300Z
DTSTART;TZID=America/Denver:20260325T194500
DURATION:PT0H15M0S
SUMMARY:Breakout Session vs. Corn to be Wild
DESCRIPTION:2nd Winter Cornhole League 2026 - Missoula Parks & Recreation
LOCATION:Lowell Grade School Court 5
CATEGORIES:QuickScores, Cornhole Game
TRANSP:OPAQUE
BEGIN:VALARM
TRIGGER:-PT2H
ACTION:DISPLAY
DESCRIPTION:Breakout Session vs. Corn to be Wild
END:VALARM
END:VEVENT
BEGIN:VEVENT
UID:missoula-73273377-20260325T200000@quickscores.com
DTSTAMP:20260421T180300Z
DTSTART;TZID=America/Denver:20260325T200000
DURATION:PT0H15M0S
SUMMARY:Breakout Session vs. The Cornballers
DESCRIPTION:2nd Winter Cornhole League 2026 - Missoula Parks & Recreation
LOCATION:Lowell Grade School Court 2
CATEGORIES:QuickScores, Cornhole Game
TRANSP:OPAQUE
BEGIN:VALARM
TRIGGER:-PT2H
ACTION:DISPLAY
DESCRIPTION:Breakout Session vs. The Cornballers
END:VALARM
END:VEVENT
BEGIN:VEVENT
UID:missoula-73273384-20260325T201500@quickscores.com
DTSTAMP:20260421T180300Z
DTSTART;TZID=America/Denver:20260325T201500
DURATION:PT0H15M0S
SUMMARY:The Wildcats vs. Breakout Session
DESCRIPTION:2nd Winter Cornhole League 2026 - Missoula Parks & Recreation
LOCATION:Lowell Grade School Court 5
CATEGORIES:QuickScores, Cornhole Game
TRANSP:OPAQUE
BEGIN:VALARM
TRIGGER:-PT2H
ACTION:DISPLAY
DESCRIPTION:The Wildcats vs. Breakout Session
END:VALARM
END:VEVENT
BEGIN:VEVENT
UID:missoula-73273386-20260325T203000@quickscores.com
DTSTAMP:20260421T180300Z
DTSTART;TZID=America/Denver:20260325T203000
DURATION:PT0H15M0S
SUMMARY:Breakout Session vs. Cornhub
DESCRIPTION:2nd Winter Cornhole League 2026 - Missoula Parks & Recreation
LOCATION:Lowell Grade School Court 3
CATEGORIES:QuickScores, Cornhole Game
TRANSP:OPAQUE
BEGIN:VALARM
TRIGGER:-PT2H
ACTION:DISPLAY
DESCRIPTION:Breakout Session vs. Cornhub
END:VALARM
END:VEVENT
BEGIN:VEVENT
UID:missoula-73273393-20260325T204500@quickscores.com
DTSTAMP:20260421T180300Z
DTSTART;TZID=America/Denver:20260325T204500
DURATION:PT0H15M0S
SUMMARY:Cobbfathers vs. Breakout Session
DESCRIPTION:2nd Winter Cornhole League 2026 - Missoula Parks & Recreation
LOCATION:Lowell Grade School Court 5
CATEGORIES:QuickScores, Cornhole Game
TRANSP:OPAQUE
BEGIN:VALARM
TRIGGER:-PT2H
ACTION:DISPLAY
DESCRIPTION:Cobbfathers vs. Breakout Session
END:VALARM
END:VEVENT
BEGIN:VEVENT
UID:missoula-73273395-20260325T210000@quickscores.com
DTSTAMP:20260421T180300Z
DTSTART;TZID=America/Denver:20260325T210000
DURATION:PT0H15M0S
SUMMARY:Breakout Session vs. Lolo
DESCRIPTION:2nd Winter Cornhole League 2026 - Missoula Parks & Recreation
LOCATION:Lowell Grade School Court 2
CATEGORIES:QuickScores, Cornhole Game
TRANSP:OPAQUE
BEGIN:VALARM
TRIGGER:-PT2H
ACTION:DISPLAY
DESCRIPTION:Breakout Session vs. Lolo
END:VALARM
END:VEVENT
BEGIN:VEVENT
UID:missoula-73273402-20260325T211500@quickscores.com
DTSTAMP:20260421T180300Z
DTSTART;TZID=America/Denver:20260325T211500
DURATION:PT0H15M0S
SUMMARY:Wattys vs. Breakout Session
DESCRIPTION:2nd Winter Cornhole League 2026 - Missoula Parks & Recreation
LOCATION:Lowell Grade School Court 5
CATEGORIES:QuickScores, Cornhole Game
TRANSP:OPAQUE
BEGIN:VALARM
TRIGGER:-PT2H
ACTION:DISPLAY
DESCRIPTION:Wattys vs. Breakout Session
END:VALARM
END:VEVENT
BEGIN:VEVENT
UID:missoula-74134407-20260401T194500@quickscores.com
DTSTAMP:20260421T180300Z
DTSTART;TZID=America/Denver:20260401T194500
DURATION:PT0H15M0S
SUMMARY:[3] Cornhub vs. [6] Breakout Session
DESCRIPTION:2nd Winter Cornhole League 2026 - Missoula Parks & Recreation
LOCATION:Lowell Grade School Court 4
CATEGORIES:QuickScores, Cornhole Game
TRANSP:OPAQUE
BEGIN:VALARM
TRIGGER:-PT2H
ACTION:DISPLAY
DESCRIPTION:[3] Cornhub vs. [6] Breakout Session
END:VALARM
END:VEVENT
END:VCALENDAR
