BEGIN:VCALENDAR
VERSION:2.0
PRODID:-//QuickScores.com//BQ Dynamic iCal Creator//EN
METHOD:PUBLISH
X-WR-CALNAME:The Agents - 5 V 5 Roundball Open League - Winter 2025-2026
X-WR-CALDESC:QuickScores game calendar
X-PUBLISHED-TTL:PT24H
REFRESH-INTERVAL;VALUE=DURATION:PT24H
CALSCALE:GREGORIAN
BEGIN:VTIMEZONE
TZID:America/Denver
X-LIC-LOCATION:America/Denver
BEGIN:DAYLIGHT
TZNAME:MDT
TZOFFSETFROM:-0700
TZOFFSETTO:-0600
DTSTART:19700308T020000
RRULE:FREQ=YEARLY;BYMONTH=3;BYDAY=2SU
END:DAYLIGHT
BEGIN:STANDARD
TZNAME:MST
TZOFFSETFROM:-0600
TZOFFSETTO:-0700
DTSTART:19701101T020000
RRULE:FREQ=YEARLY;BYMONTH=11;BYDAY=1SU
END:STANDARD
END:VTIMEZONE
BEGIN:VEVENT
UID:missoula-72496100-20260111T180000@quickscores.com
DTSTAMP:20260424T100500Z
DTSTART;TZID=America/Denver:20260111T180000
DURATION:PT1H0M0S
SUMMARY:The Agents vs. Lolo Linx
DESCRIPTION:5 V 5 Roundball Open League - Missoula Parks & Recreation
LOCATION:Jefferson School Gym
CATEGORIES:QuickScores, Basketball - Adult Game
TRANSP:OPAQUE
BEGIN:VALARM
TRIGGER:-PT2H
ACTION:DISPLAY
DESCRIPTION:The Agents vs. Lolo Linx
END:VALARM
END:VEVENT
BEGIN:VEVENT
UID:missoula-72496102-20260118T170000@quickscores.com
DTSTAMP:20260424T100500Z
DTSTART;TZID=America/Denver:20260118T170000
DURATION:PT1H0M0S
SUMMARY:The Agents vs. Tavern League
DESCRIPTION:5 V 5 Roundball Open League - Missoula Parks & Recreation
LOCATION:Jefferson School Gym
CATEGORIES:QuickScores, Basketball - Adult Game
TRANSP:OPAQUE
BEGIN:VALARM
TRIGGER:-PT2H
ACTION:DISPLAY
DESCRIPTION:The Agents vs. Tavern League
END:VALARM
END:VEVENT
BEGIN:VEVENT
UID:missoula-72496106-20260125T180000@quickscores.com
DTSTAMP:20260424T100500Z
DTSTART;TZID=America/Denver:20260125T180000
DURATION:PT1H0M0S
SUMMARY:Tavern League vs. The Agents
DESCRIPTION:5 V 5 Roundball Open League - Missoula Parks & Recreation
LOCATION:Jefferson School Gym
CATEGORIES:QuickScores, Basketball - Adult Game
TRANSP:OPAQUE
BEGIN:VALARM
TRIGGER:-PT2H
ACTION:DISPLAY
DESCRIPTION:Tavern League vs. The Agents
END:VALARM
END:VEVENT
BEGIN:VEVENT
UID:missoula-72496115-20260215T180000@quickscores.com
DTSTAMP:20260424T100500Z
DTSTART;TZID=America/Denver:20260215T180000
DURATION:PT1H0M0S
SUMMARY:Lolo Linx vs. The Agents
DESCRIPTION:5 V 5 Roundball Open League - Missoula Parks & Recreation
LOCATION:Jefferson School Gym
CATEGORIES:QuickScores, Basketball - Adult Game
TRANSP:OPAQUE
BEGIN:VALARM
TRIGGER:-PT2H
ACTION:DISPLAY
DESCRIPTION:Lolo Linx vs. The Agents
END:VALARM
END:VEVENT
BEGIN:VEVENT
UID:missoula-72496117-20260222T170000@quickscores.com
DTSTAMP:20260424T100500Z
DTSTART;TZID=America/Denver:20260222T170000
DURATION:PT1H0M0S
SUMMARY:The Salamander Swishes vs. The Agents
DESCRIPTION:5 V 5 Roundball Open League - Missoula Parks & Recreation
LOCATION:Jefferson School Gym
CATEGORIES:QuickScores, Basketball - Adult Game
TRANSP:OPAQUE
BEGIN:VALARM
TRIGGER:-PT2H
ACTION:DISPLAY
DESCRIPTION:The Salamander Swishes vs. The Agents
END:VALARM
END:VEVENT
BEGIN:VEVENT
UID:missoula-72496121-20260301T180000@quickscores.com
DTSTAMP:20260424T100500Z
DTSTART;TZID=America/Denver:20260301T180000
DURATION:PT1H0M0S
SUMMARY:The Agents vs. Tavern League
DESCRIPTION:5 V 5 Roundball Open League - Missoula Parks & Recreation
LOCATION:Jefferson School Gym
CATEGORIES:QuickScores, Basketball - Adult Game
TRANSP:OPAQUE
BEGIN:VALARM
TRIGGER:-PT2H
ACTION:DISPLAY
DESCRIPTION:The Agents vs. Tavern League
END:VALARM
END:VEVENT
BEGIN:VEVENT
UID:missoula-72496123-20260308T170000@quickscores.com
DTSTAMP:20260424T100500Z
DTSTART;TZID=America/Denver:20260308T170000
DURATION:PT1H0M0S
SUMMARY:The Agents vs. Moving Mountains
DESCRIPTION:5 V 5 Roundball Open League - Missoula Parks & Recreation
LOCATION:Jefferson School Gym
CATEGORIES:QuickScores, Basketball - Adult Game
TRANSP:OPAQUE
BEGIN:VALARM
TRIGGER:-PT2H
ACTION:DISPLAY
DESCRIPTION:The Agents vs. Moving Mountains
END:VALARM
END:VEVENT
BEGIN:VEVENT
UID:missoula-72496111-20260315T170000@quickscores.com
DTSTAMP:20260424T100500Z
DTSTART;TZID=America/Denver:20260315T170000
DURATION:PT1H0M0S
SUMMARY:Moving Mountains vs. The Agents
DESCRIPTION:5 V 5 Roundball Open League - Missoula Parks & Recreation
LOCATION:Jefferson School Gym
CATEGORIES:QuickScores, Basketball - Adult Game
TRANSP:OPAQUE
BEGIN:VALARM
TRIGGER:-PT2H
ACTION:DISPLAY
DESCRIPTION:Moving Mountains vs. The Agents
END:VALARM
END:VEVENT
BEGIN:VEVENT
UID:missoula-73825217-20260322T173000@quickscores.com
DTSTAMP:20260424T100500Z
DTSTART;TZID=America/Denver:20260322T173000
DURATION:PT1H0M0S
SUMMARY:[2] The Agents vs. [3] The Salamander Swishes
DESCRIPTION:5 V 5 Roundball Open League - Missoula Parks & Recreation
LOCATION:Jefferson School Gym
CATEGORIES:QuickScores, Basketball - Adult Game
TRANSP:OPAQUE
BEGIN:VALARM
TRIGGER:-PT2H
ACTION:DISPLAY
DESCRIPTION:[2] The Agents vs. [3] The Salamander Swishes
END:VALARM
END:VEVENT
END:VCALENDAR
