BEGIN:VCALENDAR
VERSION:2.0
PRODID:-//QuickScores.com//BQ Dynamic iCal Creator//EN
METHOD:PUBLISH
X-WR-CALNAME:Big Dig Energy - Co- Rec B - Summer 2025
X-WR-CALDESC:QuickScores game calendar
X-PUBLISHED-TTL:PT24H
REFRESH-INTERVAL;VALUE=DURATION:PT24H
CALSCALE:GREGORIAN
BEGIN:VTIMEZONE
TZID:America/Denver
X-LIC-LOCATION:America/Denver
BEGIN:DAYLIGHT
TZNAME:MDT
TZOFFSETFROM:-0700
TZOFFSETTO:-0600
DTSTART:19700308T020000
RRULE:FREQ=YEARLY;BYMONTH=3;BYDAY=2SU
END:DAYLIGHT
BEGIN:STANDARD
TZNAME:MST
TZOFFSETFROM:-0600
TZOFFSETTO:-0700
DTSTART:19701101T020000
RRULE:FREQ=YEARLY;BYMONTH=11;BYDAY=1SU
END:STANDARD
END:VTIMEZONE
BEGIN:VEVENT
UID:missoula-69389911-20250611T181500@quickscores.com
DTSTAMP:20260422T034800Z
DTSTART;TZID=America/Denver:20250611T181500
DURATION:PT1H0M0S
SUMMARY:Big Dig Energy vs. Spike Patrol
DESCRIPTION:Co- Rec B - Missoula Parks & Recreation
LOCATION:Playfair Park Sand Volleyball - Court 5
CATEGORIES:QuickScores, Volleyball Game
TRANSP:OPAQUE
BEGIN:VALARM
TRIGGER:-PT2H
ACTION:DISPLAY
DESCRIPTION:Big Dig Energy vs. Spike Patrol
END:VALARM
END:VEVENT
BEGIN:VEVENT
UID:missoula-69389920-20250618T201500@quickscores.com
DTSTAMP:20260422T034800Z
DTSTART;TZID=America/Denver:20250618T201500
DURATION:PT1H0M0S
SUMMARY:Big Dig Energy vs. KaChow
DESCRIPTION:Co- Rec B - Missoula Parks & Recreation
LOCATION:Playfair Park Sand Volleyball - Court 5
CATEGORIES:QuickScores, Volleyball Game
TRANSP:OPAQUE
BEGIN:VALARM
TRIGGER:-PT2H
ACTION:DISPLAY
DESCRIPTION:Big Dig Energy vs. KaChow
END:VALARM
END:VEVENT
BEGIN:VEVENT
UID:missoula-69389926-20250625T201500@quickscores.com
DTSTAMP:20260422T034800Z
DTSTART;TZID=America/Denver:20250625T201500
DURATION:PT1H0M0S
SUMMARY:Duck it Up vs. Big Dig Energy
DESCRIPTION:Co- Rec B - Missoula Parks & Recreation
LOCATION:Playfair Park Sand Volleyball - Court 4
CATEGORIES:QuickScores, Volleyball Game
TRANSP:OPAQUE
BEGIN:VALARM
TRIGGER:-PT2H
ACTION:DISPLAY
DESCRIPTION:Duck it Up vs. Big Dig Energy
END:VALARM
END:VEVENT
BEGIN:VEVENT
UID:missoula-69389949-20250709T191500@quickscores.com
DTSTAMP:20260422T034800Z
DTSTART;TZID=America/Denver:20250709T191500
DURATION:PT1H0M0S
SUMMARY:Big Dig Energy vs. Funky Flamingos
DESCRIPTION:Co- Rec B - Missoula Parks & Recreation
LOCATION:Playfair Park Sand Volleyball - Court 5
CATEGORIES:QuickScores, Volleyball Game
TRANSP:OPAQUE
BEGIN:VALARM
TRIGGER:-PT2H
ACTION:DISPLAY
DESCRIPTION:Big Dig Energy vs. Funky Flamingos
END:VALARM
END:VEVENT
BEGIN:VEVENT
UID:missoula-69389952-20250716T191500@quickscores.com
DTSTAMP:20260422T034800Z
DTSTART;TZID=America/Denver:20250716T191500
DURATION:PT1H0M0S
SUMMARY:Set It and Forget It vs. Big Dig Energy
DESCRIPTION:Co- Rec B - Missoula Parks & Recreation
LOCATION:Playfair Park Sand Volleyball - Court 4
CATEGORIES:QuickScores, Volleyball Game
TRANSP:OPAQUE
BEGIN:VALARM
TRIGGER:-PT2H
ACTION:DISPLAY
DESCRIPTION:Set It and Forget It vs. Big Dig Energy
END:VALARM
END:VEVENT
BEGIN:VEVENT
UID:missoula-69389937-20250723T181500@quickscores.com
DTSTAMP:20260422T034800Z
DTSTART;TZID=America/Denver:20250723T181500
DURATION:PT1H0M0S
SUMMARY:Dirty Shirly and the Girls vs. Big Dig Energy
DESCRIPTION:Co- Rec B - Missoula Parks & Recreation
LOCATION:Playfair Park Sand Volleyball - Court 4
CATEGORIES:QuickScores, Volleyball Game
TRANSP:OPAQUE
BEGIN:VALARM
TRIGGER:-PT2H
ACTION:DISPLAY
DESCRIPTION:Dirty Shirly and the Girls vs. Big Dig Energy
END:VALARM
END:VEVENT
BEGIN:VEVENT
UID:missoula-69916912-20250730T181500@quickscores.com
DTSTAMP:20260422T034800Z
DTSTART;TZID=America/Denver:20250730T181500
DURATION:PT1H0M0S
SUMMARY:[2] Set It and Forget It vs. [15] Big Dig Energy
DESCRIPTION:Co- Rec B - Missoula Parks & Recreation
LOCATION:Playfair Park Sand Volleyball - Court 4
CATEGORIES:QuickScores, Volleyball Game
TRANSP:OPAQUE
BEGIN:VALARM
TRIGGER:-PT2H
ACTION:DISPLAY
DESCRIPTION:[2] Set It and Forget It vs. [15] Big Dig Energy
END:VALARM
END:VEVENT
END:VCALENDAR
