BEGIN:VCALENDAR
VERSION:2.0
PRODID:-//QuickScores.com//BQ Dynamic iCal Creator//EN
METHOD:PUBLISH
X-WR-CALNAME:Chiquitas - Women&#039;s - Spring 2025
X-WR-CALDESC:QuickScores game calendar
X-PUBLISHED-TTL:PT24H
REFRESH-INTERVAL;VALUE=DURATION:PT24H
CALSCALE:GREGORIAN
BEGIN:VTIMEZONE
TZID:America/Denver
X-LIC-LOCATION:America/Denver
BEGIN:DAYLIGHT
TZNAME:MDT
TZOFFSETFROM:-0700
TZOFFSETTO:-0600
DTSTART:19700308T020000
RRULE:FREQ=YEARLY;BYMONTH=3;BYDAY=2SU
END:DAYLIGHT
BEGIN:STANDARD
TZNAME:MST
TZOFFSETFROM:-0600
TZOFFSETTO:-0700
DTSTART:19701101T020000
RRULE:FREQ=YEARLY;BYMONTH=11;BYDAY=1SU
END:STANDARD
END:VTIMEZONE
BEGIN:VEVENT
UID:missoula-68676627-20250423T193000@quickscores.com
DTSTAMP:20260419T152300Z
DTSTART;TZID=America/Denver:20250423T193000
DURATION:PT1H0M0S
SUMMARY:Chiquitas vs. Geckos
DESCRIPTION:Women's - Missoula Parks & Recreation
LOCATION:FMRP Turf North
CATEGORIES:QuickScores, Soccer - Adult Game
TRANSP:OPAQUE
BEGIN:VALARM
TRIGGER:-PT2H
ACTION:DISPLAY
DESCRIPTION:Chiquitas vs. Geckos
END:VALARM
END:VEVENT
BEGIN:VEVENT
UID:missoula-68676628-20250430T203000@quickscores.com
DTSTAMP:20260419T152300Z
DTSTART;TZID=America/Denver:20250430T203000
DURATION:PT1H0M0S
SUMMARY:Keep it Easy vs. Chiquitas
DESCRIPTION:Women's - Missoula Parks & Recreation
LOCATION:FMRP Turf North
CATEGORIES:QuickScores, Soccer - Adult Game
TRANSP:OPAQUE
BEGIN:VALARM
TRIGGER:-PT2H
ACTION:DISPLAY
DESCRIPTION:Keep it Easy vs. Chiquitas
END:VALARM
END:VEVENT
BEGIN:VEVENT
UID:missoula-68676631-20250507T193000@quickscores.com
DTSTAMP:20260419T152300Z
DTSTART;TZID=America/Denver:20250507T193000
DURATION:PT1H0M0S
SUMMARY:Strikers vs. Chiquitas
DESCRIPTION:Women's - Missoula Parks & Recreation
LOCATION:FMRP Turf North
CATEGORIES:QuickScores, Soccer - Adult Game
TRANSP:OPAQUE
BEGIN:VALARM
TRIGGER:-PT2H
ACTION:DISPLAY
DESCRIPTION:Strikers vs. Chiquitas
END:VALARM
END:VEVENT
BEGIN:VEVENT
UID:missoula-68676633-20250514T203000@quickscores.com
DTSTAMP:20260419T152300Z
DTSTART;TZID=America/Denver:20250514T203000
DURATION:PT1H0M0S
SUMMARY:Geckos vs. Chiquitas
DESCRIPTION:Women's - Missoula Parks & Recreation
LOCATION:FMRP Turf North
CATEGORIES:QuickScores, Soccer - Adult Game
TRANSP:OPAQUE
BEGIN:VALARM
TRIGGER:-PT2H
ACTION:DISPLAY
DESCRIPTION:Geckos vs. Chiquitas
END:VALARM
END:VEVENT
BEGIN:VEVENT
UID:missoula-68676634-20250521T193000@quickscores.com
DTSTAMP:20260419T152300Z
DTSTART;TZID=America/Denver:20250521T193000
DURATION:PT1H0M0S
SUMMARY:Chiquitas vs. Keep it Easy
DESCRIPTION:Women's - Missoula Parks & Recreation
LOCATION:FMRP Turf North
CATEGORIES:QuickScores, Soccer - Adult Game
TRANSP:OPAQUE
BEGIN:VALARM
TRIGGER:-PT2H
ACTION:DISPLAY
DESCRIPTION:Chiquitas vs. Keep it Easy
END:VALARM
END:VEVENT
BEGIN:VEVENT
UID:missoula-68676637-20250528T203000@quickscores.com
DTSTAMP:20260419T152300Z
DTSTART;TZID=America/Denver:20250528T203000
DURATION:PT1H0M0S
SUMMARY:Chiquitas vs. Strikers
DESCRIPTION:Women's - Missoula Parks & Recreation
LOCATION:FMRP Turf North
CATEGORIES:QuickScores, Soccer - Adult Game
TRANSP:OPAQUE
BEGIN:VALARM
TRIGGER:-PT2H
ACTION:DISPLAY
DESCRIPTION:Chiquitas vs. Strikers
END:VALARM
END:VEVENT
END:VCALENDAR
