BEGIN:VCALENDAR
VERSION:2.0
PRODID:-//QuickScores.com//BQ Dynamic iCal Creator//EN
METHOD:PUBLISH
X-WR-CALNAME:Sprinkles United - Fall 7v7 Co-rec Soccer (tuesday B) - Fall 2024
X-WR-CALDESC:QuickScores game calendar
X-PUBLISHED-TTL:PT24H
REFRESH-INTERVAL;VALUE=DURATION:PT24H
CALSCALE:GREGORIAN
BEGIN:VTIMEZONE
TZID:America/Denver
X-LIC-LOCATION:America/Denver
BEGIN:DAYLIGHT
TZNAME:MDT
TZOFFSETFROM:-0700
TZOFFSETTO:-0600
DTSTART:19700308T020000
RRULE:FREQ=YEARLY;BYMONTH=3;BYDAY=2SU
END:DAYLIGHT
BEGIN:STANDARD
TZNAME:MST
TZOFFSETFROM:-0600
TZOFFSETTO:-0700
DTSTART:19701101T020000
RRULE:FREQ=YEARLY;BYMONTH=11;BYDAY=1SU
END:STANDARD
END:VTIMEZONE
BEGIN:VEVENT
UID:missoula-64964474-20240903T191500@quickscores.com
DTSTAMP:20260424T012000Z
DTSTART;TZID=America/Denver:20240903T191500
DURATION:PT1H0M0S
SUMMARY:Sprinkles United vs. Blue Nightshade
DESCRIPTION:Fall 7v7 Co-rec Soccer (tuesday B) - Missoula Parks & Recreation
LOCATION:FMRP Turf North
CATEGORIES:QuickScores, Soccer - Adult Game
TRANSP:OPAQUE
BEGIN:VALARM
TRIGGER:-PT2H
ACTION:DISPLAY
DESCRIPTION:Sprinkles United vs. Blue Nightshade
END:VALARM
END:VEVENT
BEGIN:VEVENT
UID:missoula-64964482-20240917T201500@quickscores.com
DTSTAMP:20260424T012000Z
DTSTART;TZID=America/Denver:20240917T201500
DURATION:PT1H0M0S
SUMMARY:Rockstars vs. Sprinkles United
DESCRIPTION:Fall 7v7 Co-rec Soccer (tuesday B) - Missoula Parks & Recreation
LOCATION:FMRP Turf North
CATEGORIES:QuickScores, Soccer - Adult Game
TRANSP:OPAQUE
BEGIN:VALARM
TRIGGER:-PT2H
ACTION:DISPLAY
DESCRIPTION:Rockstars vs. Sprinkles United
END:VALARM
END:VEVENT
BEGIN:VEVENT
UID:missoula-64964486-20240924T201500@quickscores.com
DTSTAMP:20260424T012000Z
DTSTART;TZID=America/Denver:20240924T201500
DURATION:PT1H0M0S
SUMMARY:Sprinkles United vs. Mixed Bag
DESCRIPTION:Fall 7v7 Co-rec Soccer (tuesday B) - Missoula Parks & Recreation
LOCATION:FMRP Turf South
CATEGORIES:QuickScores, Soccer - Adult Game
TRANSP:OPAQUE
BEGIN:VALARM
TRIGGER:-PT2H
ACTION:DISPLAY
DESCRIPTION:Sprinkles United vs. Mixed Bag
END:VALARM
END:VEVENT
BEGIN:VEVENT
UID:missoula-64964490-20241001T201500@quickscores.com
DTSTAMP:20260424T012000Z
DTSTART;TZID=America/Denver:20241001T201500
DURATION:PT1H0M0S
SUMMARY:Sprinkles United vs. Manchester Reunited
DESCRIPTION:Fall 7v7 Co-rec Soccer (tuesday B) - Missoula Parks & Recreation
LOCATION:FMRP Turf South
CATEGORIES:QuickScores, Soccer - Adult Game
TRANSP:OPAQUE
BEGIN:VALARM
TRIGGER:-PT2H
ACTION:DISPLAY
DESCRIPTION:Sprinkles United vs. Manchester Reunited
END:VALARM
END:VEVENT
BEGIN:VEVENT
UID:missoula-64964494-20241008T181500@quickscores.com
DTSTAMP:20260424T012000Z
DTSTART;TZID=America/Denver:20241008T181500
DURATION:PT1H0M0S
SUMMARY:Practice Squad vs. Sprinkles United
DESCRIPTION:Fall 7v7 Co-rec Soccer (tuesday B) - Missoula Parks & Recreation
LOCATION:FMRP Turf North
CATEGORIES:QuickScores, Soccer - Adult Game
TRANSP:OPAQUE
BEGIN:VALARM
TRIGGER:-PT2H
ACTION:DISPLAY
DESCRIPTION:Practice Squad vs. Sprinkles United
END:VALARM
END:VEVENT
BEGIN:VEVENT
UID:missoula-64964478-20241015T201500@quickscores.com
DTSTAMP:20260424T012000Z
DTSTART;TZID=America/Denver:20241015T201500
DURATION:PT1H0M0S
SUMMARY:The Gumby Show vs. Sprinkles United
DESCRIPTION:Fall 7v7 Co-rec Soccer (tuesday B) - Missoula Parks & Recreation
LOCATION:FMRP Turf North
CATEGORIES:QuickScores, Soccer - Adult Game
TRANSP:OPAQUE
BEGIN:VALARM
TRIGGER:-PT2H
ACTION:DISPLAY
DESCRIPTION:The Gumby Show vs. Sprinkles United
END:VALARM
END:VEVENT
BEGIN:VEVENT
UID:missoula-65714795-20241022T181500@quickscores.com
DTSTAMP:20260424T012000Z
DTSTART;TZID=America/Denver:20241022T181500
DURATION:PT1H0M0S
SUMMARY:[1] Blue Nightshade vs. [4] Sprinkles United
DESCRIPTION:Fall 7v7 Co-rec Soccer (tuesday B) - Missoula Parks & Recreation
LOCATION:McCormick 1
CATEGORIES:QuickScores, Soccer - Adult Game
TRANSP:OPAQUE
BEGIN:VALARM
TRIGGER:-PT2H
ACTION:DISPLAY
DESCRIPTION:[1] Blue Nightshade vs. [4] Sprinkles United
END:VALARM
END:VEVENT
END:VCALENDAR
