BEGIN:VCALENDAR
VERSION:2.0
PRODID:-//QuickScores.com//BQ Dynamic iCal Creator//EN
METHOD:PUBLISH
X-WR-CALNAME:The Gumby Show - Fall 7v7 Co-rec Soccer (tuesday B) - Fall 2024
X-WR-CALDESC:QuickScores game calendar
X-PUBLISHED-TTL:PT24H
REFRESH-INTERVAL;VALUE=DURATION:PT24H
CALSCALE:GREGORIAN
BEGIN:VTIMEZONE
TZID:America/Denver
X-LIC-LOCATION:America/Denver
BEGIN:DAYLIGHT
TZNAME:MDT
TZOFFSETFROM:-0700
TZOFFSETTO:-0600
DTSTART:19700308T020000
RRULE:FREQ=YEARLY;BYMONTH=3;BYDAY=2SU
END:DAYLIGHT
BEGIN:STANDARD
TZNAME:MST
TZOFFSETFROM:-0600
TZOFFSETTO:-0700
DTSTART:19701101T020000
RRULE:FREQ=YEARLY;BYMONTH=11;BYDAY=1SU
END:STANDARD
END:VTIMEZONE
BEGIN:VEVENT
UID:missoula-64964475-20240903T201500@quickscores.com
DTSTAMP:20260424T130100Z
DTSTART;TZID=America/Denver:20240903T201500
DURATION:PT1H0M0S
SUMMARY:The Gumby Show vs. Rockstars
DESCRIPTION:Fall 7v7 Co-rec Soccer (tuesday B) - Missoula Parks & Recreation
LOCATION:FMRP Turf South
CATEGORIES:QuickScores, Soccer - Adult Game
TRANSP:OPAQUE
BEGIN:VALARM
TRIGGER:-PT2H
ACTION:DISPLAY
DESCRIPTION:The Gumby Show vs. Rockstars
END:VALARM
END:VEVENT
BEGIN:VEVENT
UID:missoula-64964484-20240917T181500@quickscores.com
DTSTAMP:20260424T130100Z
DTSTART;TZID=America/Denver:20240917T181500
DURATION:PT1H0M0S
SUMMARY:The Gumby Show vs. ABCDE FC
DESCRIPTION:Fall 7v7 Co-rec Soccer (tuesday B) - Missoula Parks & Recreation
LOCATION:FMRP Turf North
CATEGORIES:QuickScores, Soccer - Adult Game
TRANSP:OPAQUE
BEGIN:VALARM
TRIGGER:-PT2H
ACTION:DISPLAY
DESCRIPTION:The Gumby Show vs. ABCDE FC
END:VALARM
END:VEVENT
BEGIN:VEVENT
UID:missoula-64964487-20240924T191500@quickscores.com
DTSTAMP:20260424T130100Z
DTSTART;TZID=America/Denver:20240924T191500
DURATION:PT1H0M0S
SUMMARY:Practice Squad vs. The Gumby Show
DESCRIPTION:Fall 7v7 Co-rec Soccer (tuesday B) - Missoula Parks & Recreation
LOCATION:FMRP Turf North
CATEGORIES:QuickScores, Soccer - Adult Game
TRANSP:OPAQUE
BEGIN:VALARM
TRIGGER:-PT2H
ACTION:DISPLAY
DESCRIPTION:Practice Squad vs. The Gumby Show
END:VALARM
END:VEVENT
BEGIN:VEVENT
UID:missoula-64964493-20241001T181500@quickscores.com
DTSTAMP:20260424T130100Z
DTSTART;TZID=America/Denver:20241001T181500
DURATION:PT1H0M0S
SUMMARY:Mixed Bag vs. The Gumby Show
DESCRIPTION:Fall 7v7 Co-rec Soccer (tuesday B) - Missoula Parks & Recreation
LOCATION:FMRP Turf North
CATEGORIES:QuickScores, Soccer - Adult Game
TRANSP:OPAQUE
BEGIN:VALARM
TRIGGER:-PT2H
ACTION:DISPLAY
DESCRIPTION:Mixed Bag vs. The Gumby Show
END:VALARM
END:VEVENT
BEGIN:VEVENT
UID:missoula-64964496-20241008T201500@quickscores.com
DTSTAMP:20260424T130100Z
DTSTART;TZID=America/Denver:20241008T201500
DURATION:PT1H0M0S
SUMMARY:Manchester Reunited vs. The Gumby Show
DESCRIPTION:Fall 7v7 Co-rec Soccer (tuesday B) - Missoula Parks & Recreation
LOCATION:FMRP Turf North
CATEGORIES:QuickScores, Soccer - Adult Game
TRANSP:OPAQUE
BEGIN:VALARM
TRIGGER:-PT2H
ACTION:DISPLAY
DESCRIPTION:Manchester Reunited vs. The Gumby Show
END:VALARM
END:VEVENT
BEGIN:VEVENT
UID:missoula-64964478-20241015T201500@quickscores.com
DTSTAMP:20260424T130100Z
DTSTART;TZID=America/Denver:20241015T201500
DURATION:PT1H0M0S
SUMMARY:The Gumby Show vs. Sprinkles United
DESCRIPTION:Fall 7v7 Co-rec Soccer (tuesday B) - Missoula Parks & Recreation
LOCATION:FMRP Turf North
CATEGORIES:QuickScores, Soccer - Adult Game
TRANSP:OPAQUE
BEGIN:VALARM
TRIGGER:-PT2H
ACTION:DISPLAY
DESCRIPTION:The Gumby Show vs. Sprinkles United
END:VALARM
END:VEVENT
BEGIN:VEVENT
UID:missoula-65714796-20241022T181500@quickscores.com
DTSTAMP:20260424T130100Z
DTSTART;TZID=America/Denver:20241022T181500
DURATION:PT1H0M0S
SUMMARY:[2] Mixed Bag vs. [3] The Gumby Show
DESCRIPTION:Fall 7v7 Co-rec Soccer (tuesday B) - Missoula Parks & Recreation
LOCATION:McCormick 2
CATEGORIES:QuickScores, Soccer - Adult Game
TRANSP:OPAQUE
BEGIN:VALARM
TRIGGER:-PT2H
ACTION:DISPLAY
DESCRIPTION:[2] Mixed Bag vs. [3] The Gumby Show
END:VALARM
END:VEVENT
END:VCALENDAR
