BEGIN:VCALENDAR
VERSION:2.0
PRODID:-//QuickScores.com//BQ Dynamic iCal Creator//EN
METHOD:PUBLISH
X-WR-CALNAME:The Little Piggies - Fall 7v7 Co-rec Soccer (monday C) - Fall 2024
X-WR-CALDESC:QuickScores game calendar
X-PUBLISHED-TTL:PT24H
REFRESH-INTERVAL;VALUE=DURATION:PT24H
CALSCALE:GREGORIAN
BEGIN:VTIMEZONE
TZID:America/Denver
X-LIC-LOCATION:America/Denver
BEGIN:DAYLIGHT
TZNAME:MDT
TZOFFSETFROM:-0700
TZOFFSETTO:-0600
DTSTART:19700308T020000
RRULE:FREQ=YEARLY;BYMONTH=3;BYDAY=2SU
END:DAYLIGHT
BEGIN:STANDARD
TZNAME:MST
TZOFFSETFROM:-0600
TZOFFSETTO:-0700
DTSTART:19701101T020000
RRULE:FREQ=YEARLY;BYMONTH=11;BYDAY=1SU
END:STANDARD
END:VTIMEZONE
BEGIN:VEVENT
UID:missoula-64964186-20240916T181500@quickscores.com
DTSTAMP:20260425T113100Z
DTSTART;TZID=America/Denver:20240916T181500
DURATION:PT1H0M0S
SUMMARY:Penguins vs. The Little Piggies
DESCRIPTION:Fall 7v7 Co-rec Soccer (monday C) - Missoula Parks & Recreation
LOCATION:FMRP Turf South
CATEGORIES:QuickScores, Soccer - Adult Game
TRANSP:OPAQUE
BEGIN:VALARM
TRIGGER:-PT2H
ACTION:DISPLAY
DESCRIPTION:Penguins vs. The Little Piggies
END:VALARM
END:VEVENT
BEGIN:VEVENT
UID:missoula-64964188-20240923T191500@quickscores.com
DTSTAMP:20260425T113100Z
DTSTART;TZID=America/Denver:20240923T191500
DURATION:PT1H0M0S
SUMMARY:The Little Piggies vs. Fliptastics
DESCRIPTION:Fall 7v7 Co-rec Soccer (monday C) - Missoula Parks & Recreation
LOCATION:FMRP Turf North
CATEGORIES:QuickScores, Soccer - Adult Game
TRANSP:OPAQUE
BEGIN:VALARM
TRIGGER:-PT2H
ACTION:DISPLAY
DESCRIPTION:The Little Piggies vs. Fliptastics
END:VALARM
END:VEVENT
BEGIN:VEVENT
UID:missoula-64964195-20240930T181500@quickscores.com
DTSTAMP:20260425T113100Z
DTSTART;TZID=America/Denver:20240930T181500
DURATION:PT1H0M0S
SUMMARY:Alpine PT's C-Leaguered vs. The Little Piggies
DESCRIPTION:Fall 7v7 Co-rec Soccer (monday C) - Missoula Parks & Recreation
LOCATION:FMRP Turf North
CATEGORIES:QuickScores, Soccer - Adult Game
TRANSP:OPAQUE
BEGIN:VALARM
TRIGGER:-PT2H
ACTION:DISPLAY
DESCRIPTION:Alpine PT's C-Leaguered vs. The Little Piggies
END:VALARM
END:VEVENT
BEGIN:VEVENT
UID:missoula-64964197-20241007T191500@quickscores.com
DTSTAMP:20260425T113100Z
DTSTART;TZID=America/Denver:20241007T191500
DURATION:PT1H0M0S
SUMMARY:The Little Piggies vs. parks and wrecked
DESCRIPTION:Fall 7v7 Co-rec Soccer (monday C) - Missoula Parks & Recreation
LOCATION:FMRP Turf South
CATEGORIES:QuickScores, Soccer - Adult Game
TRANSP:OPAQUE
BEGIN:VALARM
TRIGGER:-PT2H
ACTION:DISPLAY
DESCRIPTION:The Little Piggies vs. parks and wrecked
END:VALARM
END:VEVENT
BEGIN:VEVENT
UID:missoula-64964203-20241014T191500@quickscores.com
DTSTAMP:20260425T113100Z
DTSTART;TZID=America/Denver:20241014T191500
DURATION:PT1H0M0S
SUMMARY:The Little Piggies vs. Green Team 2.0
DESCRIPTION:Fall 7v7 Co-rec Soccer (monday C) - Missoula Parks & Recreation
LOCATION:FMRP Turf South
CATEGORIES:QuickScores, Soccer - Adult Game
TRANSP:OPAQUE
BEGIN:VALARM
TRIGGER:-PT2H
ACTION:DISPLAY
DESCRIPTION:The Little Piggies vs. Green Team 2.0
END:VALARM
END:VEVENT
BEGIN:VEVENT
UID:missoula-64964181-20241021T181500@quickscores.com
DTSTAMP:20260425T113100Z
DTSTART;TZID=America/Denver:20241021T181500
DURATION:PT1H0M0S
SUMMARY:Rocky Mountain Eyez vs. The Little Piggies
DESCRIPTION:Fall 7v7 Co-rec Soccer (monday C) - Missoula Parks & Recreation
LOCATION:FMRP Turf South
CATEGORIES:QuickScores, Soccer - Adult Game
TRANSP:OPAQUE
BEGIN:VALARM
TRIGGER:-PT2H
ACTION:DISPLAY
DESCRIPTION:Rocky Mountain Eyez vs. The Little Piggies
END:VALARM
END:VEVENT
END:VCALENDAR
