BEGIN:VCALENDAR
VERSION:2.0
PRODID:-//QuickScores.com//BQ Dynamic iCal Creator//EN
METHOD:PUBLISH
X-WR-CALNAME:Ctrl Alt Defeat - Fall 7v7 Co-rec Soccer (monday C) - Fall 2024
X-WR-CALDESC:QuickScores game calendar
X-PUBLISHED-TTL:PT24H
REFRESH-INTERVAL;VALUE=DURATION:PT24H
CALSCALE:GREGORIAN
BEGIN:VTIMEZONE
TZID:America/Denver
X-LIC-LOCATION:America/Denver
BEGIN:DAYLIGHT
TZNAME:MDT
TZOFFSETFROM:-0700
TZOFFSETTO:-0600
DTSTART:19700308T020000
RRULE:FREQ=YEARLY;BYMONTH=3;BYDAY=2SU
END:DAYLIGHT
BEGIN:STANDARD
TZNAME:MST
TZOFFSETFROM:-0600
TZOFFSETTO:-0700
DTSTART:19701101T020000
RRULE:FREQ=YEARLY;BYMONTH=11;BYDAY=1SU
END:STANDARD
END:VTIMEZONE
BEGIN:VEVENT
UID:missoula-64964185-20240916T181500@quickscores.com
DTSTAMP:20260424T223700Z
DTSTART;TZID=America/Denver:20240916T181500
DURATION:PT1H0M0S
SUMMARY:Ctrl Alt Defeat vs. Green Team 2.0
DESCRIPTION:Fall 7v7 Co-rec Soccer (monday C) - Missoula Parks & Recreation
LOCATION:FMRP Turf North
CATEGORIES:QuickScores, Soccer - Adult Game
TRANSP:OPAQUE
BEGIN:VALARM
TRIGGER:-PT2H
ACTION:DISPLAY
DESCRIPTION:Ctrl Alt Defeat vs. Green Team 2.0
END:VALARM
END:VEVENT
BEGIN:VEVENT
UID:missoula-64964191-20240923T191500@quickscores.com
DTSTAMP:20260424T223700Z
DTSTART;TZID=America/Denver:20240923T191500
DURATION:PT1H0M0S
SUMMARY:Ctrl Alt Defeat vs. Penguins
DESCRIPTION:Fall 7v7 Co-rec Soccer (monday C) - Missoula Parks & Recreation
LOCATION:FMRP Turf South
CATEGORIES:QuickScores, Soccer - Adult Game
TRANSP:OPAQUE
BEGIN:VALARM
TRIGGER:-PT2H
ACTION:DISPLAY
DESCRIPTION:Ctrl Alt Defeat vs. Penguins
END:VALARM
END:VEVENT
BEGIN:VEVENT
UID:missoula-64964192-20240930T181500@quickscores.com
DTSTAMP:20260424T223700Z
DTSTART;TZID=America/Denver:20240930T181500
DURATION:PT1H0M0S
SUMMARY:Fliptastics vs. Ctrl Alt Defeat
DESCRIPTION:Fall 7v7 Co-rec Soccer (monday C) - Missoula Parks & Recreation
LOCATION:FMRP Turf South
CATEGORIES:QuickScores, Soccer - Adult Game
TRANSP:OPAQUE
BEGIN:VALARM
TRIGGER:-PT2H
ACTION:DISPLAY
DESCRIPTION:Fliptastics vs. Ctrl Alt Defeat
END:VALARM
END:VEVENT
BEGIN:VEVENT
UID:missoula-64964199-20241007T181500@quickscores.com
DTSTAMP:20260424T223700Z
DTSTART;TZID=America/Denver:20241007T181500
DURATION:PT1H0M0S
SUMMARY:Rocky Mountain Eyez vs. Ctrl Alt Defeat
DESCRIPTION:Fall 7v7 Co-rec Soccer (monday C) - Missoula Parks & Recreation
LOCATION:FMRP Turf North
CATEGORIES:QuickScores, Soccer - Adult Game
TRANSP:OPAQUE
BEGIN:VALARM
TRIGGER:-PT2H
ACTION:DISPLAY
DESCRIPTION:Rocky Mountain Eyez vs. Ctrl Alt Defeat
END:VALARM
END:VEVENT
BEGIN:VEVENT
UID:missoula-64964201-20241014T181500@quickscores.com
DTSTAMP:20260424T223700Z
DTSTART;TZID=America/Denver:20241014T181500
DURATION:PT1H0M0S
SUMMARY:parks and wrecked vs. Ctrl Alt Defeat
DESCRIPTION:Fall 7v7 Co-rec Soccer (monday C) - Missoula Parks & Recreation
LOCATION:FMRP Turf South
CATEGORIES:QuickScores, Soccer - Adult Game
TRANSP:OPAQUE
BEGIN:VALARM
TRIGGER:-PT2H
ACTION:DISPLAY
DESCRIPTION:parks and wrecked vs. Ctrl Alt Defeat
END:VALARM
END:VEVENT
BEGIN:VEVENT
UID:missoula-64964182-20241021T191500@quickscores.com
DTSTAMP:20260424T223700Z
DTSTART;TZID=America/Denver:20241021T191500
DURATION:PT1H0M0S
SUMMARY:Ctrl Alt Defeat vs. Alpine PT's C-Leaguered
DESCRIPTION:Fall 7v7 Co-rec Soccer (monday C) - Missoula Parks & Recreation
LOCATION:FMRP Turf North
CATEGORIES:QuickScores, Soccer - Adult Game
TRANSP:OPAQUE
BEGIN:VALARM
TRIGGER:-PT2H
ACTION:DISPLAY
DESCRIPTION:Ctrl Alt Defeat vs. Alpine PT's C-Leaguered
END:VALARM
END:VEVENT
BEGIN:VEVENT
UID:missoula-65771439-20241028T181500@quickscores.com
DTSTAMP:20260424T223700Z
DTSTART;TZID=America/Denver:20241028T181500
DURATION:PT1H0M0S
SUMMARY:[2] Alpine PT's C-Leaguered vs. [3] Ctrl Alt Defeat
DESCRIPTION:Fall 7v7 Co-rec Soccer (monday C) - Missoula Parks & Recreation
LOCATION:FMRP Turf South
CATEGORIES:QuickScores, Soccer - Adult Game
TRANSP:OPAQUE
BEGIN:VALARM
TRIGGER:-PT2H
ACTION:DISPLAY
DESCRIPTION:[2] Alpine PT's C-Leaguered vs. [3] Ctrl Alt Defeat
END:VALARM
END:VEVENT
BEGIN:VEVENT
UID:missoula-65771440-20241104T181500@quickscores.com
DTSTAMP:20260424T223700Z
DTSTART;TZID=America/Denver:20241104T181500
DURATION:PT1H0M0S
SUMMARY:[1] Rocky Mountain Eyez vs. [3] Ctrl Alt Defeat
DESCRIPTION:Fall 7v7 Co-rec Soccer (monday C) - Missoula Parks & Recreation
LOCATION:McCormick 2
CATEGORIES:QuickScores, Soccer - Adult Game
TRANSP:OPAQUE
BEGIN:VALARM
TRIGGER:-PT2H
ACTION:DISPLAY
DESCRIPTION:[1] Rocky Mountain Eyez vs. [3] Ctrl Alt Defeat
END:VALARM
END:VEVENT
END:VCALENDAR
