BEGIN:VCALENDAR
VERSION:2.0
PRODID:-//QuickScores.com//BQ Dynamic iCal Creator//EN
METHOD:PUBLISH
X-WR-CALNAME:Old and Young - Summer 7v7 Men&#039;s Soccer (wednesday) - Summer 2024
X-WR-CALDESC:QuickScores game calendar
X-PUBLISHED-TTL:PT24H
REFRESH-INTERVAL;VALUE=DURATION:PT24H
CALSCALE:GREGORIAN
BEGIN:VTIMEZONE
TZID:America/Denver
X-LIC-LOCATION:America/Denver
BEGIN:DAYLIGHT
TZNAME:MDT
TZOFFSETFROM:-0700
TZOFFSETTO:-0600
DTSTART:19700308T020000
RRULE:FREQ=YEARLY;BYMONTH=3;BYDAY=2SU
END:DAYLIGHT
BEGIN:STANDARD
TZNAME:MST
TZOFFSETFROM:-0600
TZOFFSETTO:-0700
DTSTART:19701101T020000
RRULE:FREQ=YEARLY;BYMONTH=11;BYDAY=1SU
END:STANDARD
END:VTIMEZONE
BEGIN:VEVENT
UID:missoula-63790594-20240612T181500@quickscores.com
DTSTAMP:20260420T030900Z
DTSTART;TZID=America/Denver:20240612T181500
DURATION:PT1H0M0S
SUMMARY:All Nations vs. Old and Young
DESCRIPTION:Summer 7v7 Men's Soccer (wednesday) - Missoula Parks & Recreation
LOCATION:FMRP Turf North
CATEGORIES:QuickScores, Soccer - Adult Game
TRANSP:OPAQUE
BEGIN:VALARM
TRIGGER:-PT2H
ACTION:DISPLAY
DESCRIPTION:All Nations vs. Old and Young
END:VALARM
END:VEVENT
BEGIN:VEVENT
UID:missoula-63790596-20240619T191500@quickscores.com
DTSTAMP:20260420T030900Z
DTSTART;TZID=America/Denver:20240619T191500
DURATION:PT1H0M0S
SUMMARY:Old and Young vs. Richmond Reserves
DESCRIPTION:Summer 7v7 Men's Soccer (wednesday) - Missoula Parks & Recreation
LOCATION:FMRP Turf North
CATEGORIES:QuickScores, Soccer - Adult Game
TRANSP:OPAQUE
BEGIN:VALARM
TRIGGER:-PT2H
ACTION:DISPLAY
DESCRIPTION:Old and Young vs. Richmond Reserves
END:VALARM
END:VEVENT
BEGIN:VEVENT
UID:missoula-63790603-20240710T181500@quickscores.com
DTSTAMP:20260420T030900Z
DTSTART;TZID=America/Denver:20240710T181500
DURATION:PT1H0M0S
SUMMARY:Kickers vs. Old and Young
DESCRIPTION:Summer 7v7 Men's Soccer (wednesday) - Missoula Parks & Recreation
LOCATION:FMRP 9 South
CATEGORIES:QuickScores, Soccer - Adult Game
TRANSP:OPAQUE
BEGIN:VALARM
TRIGGER:-PT2H
ACTION:DISPLAY
DESCRIPTION:Kickers vs. Old and Young
END:VALARM
END:VEVENT
BEGIN:VEVENT
UID:missoula-63790604-20240717T201500@quickscores.com
DTSTAMP:20260420T030900Z
DTSTART;TZID=America/Denver:20240717T201500
DURATION:PT1H0M0S
SUMMARY:Old and Young vs. Richmond Reserves
DESCRIPTION:Summer 7v7 Men's Soccer (wednesday) - Missoula Parks & Recreation
LOCATION:FMRP 9 South
CATEGORIES:QuickScores, Soccer - Adult Game
TRANSP:OPAQUE
BEGIN:VALARM
TRIGGER:-PT2H
ACTION:DISPLAY
DESCRIPTION:Old and Young vs. Richmond Reserves
END:VALARM
END:VEVENT
BEGIN:VEVENT
UID:missoula-63872632-20240724T181500@quickscores.com
DTSTAMP:20260420T030900Z
DTSTART;TZID=America/Denver:20240724T181500
DURATION:PT1H0M0S
SUMMARY:Old and Young vs. Team 6
DESCRIPTION:Summer 7v7 Men's Soccer (wednesday) - Missoula Parks & Recreation
LOCATION:FMRP 9 South
CATEGORIES:QuickScores, Soccer - Adult Game
TRANSP:OPAQUE
BEGIN:VALARM
TRIGGER:-PT2H
ACTION:DISPLAY
DESCRIPTION:Old and Young vs. Team 6
END:VALARM
END:VEVENT
BEGIN:VEVENT
UID:missoula-63790608-20240731T181500@quickscores.com
DTSTAMP:20260420T030900Z
DTSTART;TZID=America/Denver:20240731T181500
DURATION:PT1H0M0S
SUMMARY:Old and Young vs. All Nations
DESCRIPTION:Summer 7v7 Men's Soccer (wednesday) - Missoula Parks & Recreation
LOCATION:FMRP 9 South
CATEGORIES:QuickScores, Soccer - Adult Game
TRANSP:OPAQUE
BEGIN:VALARM
TRIGGER:-PT2H
ACTION:DISPLAY
DESCRIPTION:Old and Young vs. All Nations
END:VALARM
END:VEVENT
BEGIN:VEVENT
UID:missoula-63790601-20240807T181500@quickscores.com
DTSTAMP:20260420T030900Z
DTSTART;TZID=America/Denver:20240807T181500
DURATION:PT1H0M0S
SUMMARY:Old and Young vs. Missoula Mavericks
DESCRIPTION:Summer 7v7 Men's Soccer (wednesday) - Missoula Parks & Recreation
LOCATION:FMRP Turf South
CATEGORIES:QuickScores, Soccer - Adult Game
TRANSP:OPAQUE
BEGIN:VALARM
TRIGGER:-PT2H
ACTION:DISPLAY
DESCRIPTION:Old and Young vs. Missoula Mavericks
END:VALARM
END:VEVENT
BEGIN:VEVENT
UID:missoula-63872533-20240814T201500@quickscores.com
DTSTAMP:20260420T030900Z
DTSTART;TZID=America/Denver:20240814T201500
DURATION:PT1H0M0S
SUMMARY:Team 6 vs. Old and Young
DESCRIPTION:Summer 7v7 Men's Soccer (wednesday) - Missoula Parks & Recreation
LOCATION:FMRP Turf South
CATEGORIES:QuickScores, Soccer - Adult Game
TRANSP:OPAQUE
BEGIN:VALARM
TRIGGER:-PT2H
ACTION:DISPLAY
DESCRIPTION:Team 6 vs. Old and Young
END:VALARM
END:VEVENT
BEGIN:VEVENT
UID:missoula-64724129-20240821T181500@quickscores.com
DTSTAMP:20260420T030900Z
DTSTART;TZID=America/Denver:20240821T181500
DURATION:PT1H0M0S
SUMMARY:[1] All Nations vs. [2] Old and Young
DESCRIPTION:Summer 7v7 Men's Soccer (wednesday) - Missoula Parks & Recreation
LOCATION:FMRP Turf South
CATEGORIES:QuickScores, Soccer - Adult Game
TRANSP:OPAQUE
BEGIN:VALARM
TRIGGER:-PT2H
ACTION:DISPLAY
DESCRIPTION:[1] All Nations vs. [2] Old and Young
END:VALARM
END:VEVENT
END:VCALENDAR
