BEGIN:VCALENDAR
VERSION:2.0
PRODID:-//QuickScores.com//BQ Dynamic iCal Creator//EN
METHOD:PUBLISH
X-WR-CALNAME:Ctrl Alt Defeat - Summer 11v11 Open Soccer (monday C) - Summer 2024
X-WR-CALDESC:QuickScores game calendar
X-PUBLISHED-TTL:PT24H
REFRESH-INTERVAL;VALUE=DURATION:PT24H
CALSCALE:GREGORIAN
BEGIN:VTIMEZONE
TZID:America/Denver
X-LIC-LOCATION:America/Denver
BEGIN:DAYLIGHT
TZNAME:MDT
TZOFFSETFROM:-0700
TZOFFSETTO:-0600
DTSTART:19700308T020000
RRULE:FREQ=YEARLY;BYMONTH=3;BYDAY=2SU
END:DAYLIGHT
BEGIN:STANDARD
TZNAME:MST
TZOFFSETFROM:-0600
TZOFFSETTO:-0700
DTSTART:19701101T020000
RRULE:FREQ=YEARLY;BYMONTH=11;BYDAY=1SU
END:STANDARD
END:VTIMEZONE
BEGIN:VEVENT
UID:missoula-63668479-20240603T181500@quickscores.com
DTSTAMP:20260419T183700Z
DTSTART;TZID=America/Denver:20240603T181500
DURATION:PT1H0M0S
SUMMARY:Ctrl Alt Defeat vs. Alpine PT's C-Leaguered
DESCRIPTION:Sportsmanship - 4's --- Summer 11v11 Open Soccer (monday C) - Missoula Parks & Recreation
LOCATION:Bella Vista Full Turf
CATEGORIES:QuickScores, Soccer - Adult Game
TRANSP:OPAQUE
BEGIN:VALARM
TRIGGER:-PT2H
ACTION:DISPLAY
DESCRIPTION:Ctrl Alt Defeat vs. Alpine PT's C-Leaguered
END:VALARM
END:VEVENT
BEGIN:VEVENT
UID:missoula-63668486-20240617T194500@quickscores.com
DTSTAMP:20260419T183700Z
DTSTART;TZID=America/Denver:20240617T194500
DURATION:PT1H0M0S
SUMMARY:Ctrl Alt Defeat vs. Green Team 2.0
DESCRIPTION:Summer 11v11 Open Soccer (monday C) - Missoula Parks & Recreation
LOCATION:Bella Vista Full Turf
CATEGORIES:QuickScores, Soccer - Adult Game
TRANSP:OPAQUE
BEGIN:VALARM
TRIGGER:-PT2H
ACTION:DISPLAY
DESCRIPTION:Ctrl Alt Defeat vs. Green Team 2.0
END:VALARM
END:VEVENT
BEGIN:VEVENT
UID:missoula-63668488-20240624T181500@quickscores.com
DTSTAMP:20260419T183700Z
DTSTART;TZID=America/Denver:20240624T181500
DURATION:PT1H0M0S
SUMMARY:Rocky Mountain Eye vs. Ctrl Alt Defeat
DESCRIPTION:Summer 11v11 Open Soccer (monday C) - Missoula Parks & Recreation
LOCATION:FMRP Bowl Field 8
CATEGORIES:QuickScores, Soccer - Adult Game
TRANSP:OPAQUE
BEGIN:VALARM
TRIGGER:-PT2H
ACTION:DISPLAY
DESCRIPTION:Rocky Mountain Eye vs. Ctrl Alt Defeat
END:VALARM
END:VEVENT
BEGIN:VEVENT
UID:missoula-63668495-20240708T194500@quickscores.com
DTSTAMP:20260419T183700Z
DTSTART;TZID=America/Denver:20240708T194500
DURATION:PT1H0M0S
SUMMARY:Green Team 2.0 vs. Ctrl Alt Defeat
DESCRIPTION:Summer 11v11 Open Soccer (monday C) - Missoula Parks & Recreation
LOCATION:FMRP Bowl Field 8
CATEGORIES:QuickScores, Soccer - Adult Game
TRANSP:OPAQUE
BEGIN:VALARM
TRIGGER:-PT2H
ACTION:DISPLAY
DESCRIPTION:Green Team 2.0 vs. Ctrl Alt Defeat
END:VALARM
END:VEVENT
BEGIN:VEVENT
UID:missoula-63668497-20240715T181500@quickscores.com
DTSTAMP:20260419T183700Z
DTSTART;TZID=America/Denver:20240715T181500
DURATION:PT1H0M0S
SUMMARY:Ctrl Alt Defeat vs. Rocky Mountain Eye
DESCRIPTION:Summer 11v11 Open Soccer (monday C) - Missoula Parks & Recreation
LOCATION:FMRP Bowl Field 8
CATEGORIES:QuickScores, Soccer - Adult Game
TRANSP:OPAQUE
BEGIN:VALARM
TRIGGER:-PT2H
ACTION:DISPLAY
DESCRIPTION:Ctrl Alt Defeat vs. Rocky Mountain Eye
END:VALARM
END:VEVENT
BEGIN:VEVENT
UID:missoula-63668500-20240812T181500@quickscores.com
DTSTAMP:20260419T183700Z
DTSTART;TZID=America/Denver:20240812T181500
DURATION:PT1H0M0S
SUMMARY:Alpine PT's C-Leaguered vs. Ctrl Alt Defeat
DESCRIPTION:Summer 11v11 Open Soccer (monday C) - Missoula Parks & Recreation
LOCATION:FMRP Bowl Field 8
CATEGORIES:QuickScores, Soccer - Adult Game
TRANSP:OPAQUE
BEGIN:VALARM
TRIGGER:-PT2H
ACTION:DISPLAY
DESCRIPTION:Alpine PT's C-Leaguered vs. Ctrl Alt Defeat
END:VALARM
END:VEVENT
BEGIN:VEVENT
UID:missoula-63668492-20240813T190000@quickscores.com
DTSTAMP:20260419T183700Z
DTSTART;TZID=America/Denver:20240813T190000
DURATION:PT1H0M0S
SUMMARY:Leisure League Legends vs. Ctrl Alt Defeat
DESCRIPTION:Summer 11v11 Open Soccer (monday C) - Missoula Parks & Recreation
LOCATION:Bella Vista Full Turf
CATEGORIES:QuickScores, Soccer - Adult Game
TRANSP:OPAQUE
BEGIN:VALARM
TRIGGER:-PT2H
ACTION:DISPLAY
DESCRIPTION:Leisure League Legends vs. Ctrl Alt Defeat
END:VALARM
END:VEVENT
BEGIN:VEVENT
UID:missoula-64569575-20240819T061500@quickscores.com
DTSTAMP:20260419T183700Z
DTSTART;TZID=America/Denver:20240819T061500
DURATION:PT1H0M0S
SUMMARY:[1] Rocky Mountain Eye vs. [2] Ctrl Alt Defeat
DESCRIPTION:Summer 11v11 Open Soccer (monday C) - Missoula Parks & Recreation
LOCATION:Bella Vista Full Turf
CATEGORIES:QuickScores, Soccer - Adult Game
TRANSP:OPAQUE
BEGIN:VALARM
TRIGGER:-PT2H
ACTION:DISPLAY
DESCRIPTION:[1] Rocky Mountain Eye vs. [2] Ctrl Alt Defeat
END:VALARM
END:VEVENT
END:VCALENDAR
