BEGIN:VCALENDAR
VERSION:2.0
PRODID:-//QuickScores.com//BQ Dynamic iCal Creator//EN
METHOD:PUBLISH
X-WR-CALNAME:Ponytail Express - Mixed Spring 2026 - 2026 Spring Season
X-WR-CALDESC:QuickScores game calendar
X-PUBLISHED-TTL:PT24H
REFRESH-INTERVAL;VALUE=DURATION:PT24H
CALSCALE:GREGORIAN
BEGIN:VTIMEZONE
TZID:America/Chicago
X-LIC-LOCATION:America/Chicago
BEGIN:DAYLIGHT
TZNAME:CDT
TZOFFSETFROM:-0600
TZOFFSETTO:-0500
DTSTART:19700308T020000
RRULE:FREQ=YEARLY;BYMONTH=3;BYDAY=2SU
END:DAYLIGHT
BEGIN:STANDARD
TZNAME:CST
TZOFFSETFROM:-0500
TZOFFSETTO:-0600
DTSTART:19701101T020000
RRULE:FREQ=YEARLY;BYMONTH=11;BYDAY=1SU
END:STANDARD
END:VTIMEZONE
BEGIN:VEVENT
UID:mgsasoftball-73031751-20260228T111500@quickscores.com
DTSTAMP:20260419T152400Z
DTSTART;TZID=America/Chicago:20260228T111500
DURATION:PT1H15M0S
SUMMARY:Ponytail Express vs. Diamond Dolls
DESCRIPTION:Mixed Spring 2026 - Montgomery Girls Sports Association
LOCATION:MGSA Field 9
CATEGORIES:QuickScores, Softball - Fastpitch Game
TRANSP:OPAQUE
BEGIN:VALARM
TRIGGER:-PT2H
ACTION:DISPLAY
DESCRIPTION:Ponytail Express vs. Diamond Dolls
END:VALARM
END:VEVENT
BEGIN:VEVENT
UID:mgsasoftball-73031755-20260303T191500@quickscores.com
DTSTAMP:20260419T152400Z
DTSTART;TZID=America/Chicago:20260303T191500
DURATION:PT1H15M0S
SUMMARY:Ponytail Express vs. Savages
DESCRIPTION:Mixed Spring 2026 - Montgomery Girls Sports Association
LOCATION:MGSA Field 8
CATEGORIES:QuickScores, Softball - Fastpitch Game
TRANSP:OPAQUE
BEGIN:VALARM
TRIGGER:-PT2H
ACTION:DISPLAY
DESCRIPTION:Ponytail Express vs. Savages
END:VALARM
END:VEVENT
BEGIN:VEVENT
UID:mgsasoftball-73031757-20260305T191500@quickscores.com
DTSTAMP:20260419T152400Z
DTSTART;TZID=America/Chicago:20260305T191500
DURATION:PT1H15M0S
SUMMARY:Ponytail Express vs. Thunder
DESCRIPTION:Mixed Spring 2026 - Montgomery Girls Sports Association
LOCATION:MGSA Field 9
CATEGORIES:QuickScores, Softball - Fastpitch Game
TRANSP:OPAQUE
BEGIN:VALARM
TRIGGER:-PT2H
ACTION:DISPLAY
DESCRIPTION:Ponytail Express vs. Thunder
END:VALARM
END:VEVENT
BEGIN:VEVENT
UID:mgsasoftball-73031759-20260310T180000@quickscores.com
DTSTAMP:20260419T152400Z
DTSTART;TZID=America/Chicago:20260310T180000
DURATION:PT1H15M0S
SUMMARY:Savages vs. Ponytail Express
DESCRIPTION:Mixed Spring 2026 - Montgomery Girls Sports Association
LOCATION:MGSA Field 8
CATEGORIES:QuickScores, Softball - Fastpitch Game
TRANSP:OPAQUE
BEGIN:VALARM
TRIGGER:-PT2H
ACTION:DISPLAY
DESCRIPTION:Savages vs. Ponytail Express
END:VALARM
END:VEVENT
BEGIN:VEVENT
UID:mgsasoftball-73031761-20260312T180000@quickscores.com
DTSTAMP:20260419T152400Z
DTSTART;TZID=America/Chicago:20260312T180000
DURATION:PT1H15M0S
SUMMARY:Thunder vs. Ponytail Express
DESCRIPTION:Mixed Spring 2026 - Montgomery Girls Sports Association
LOCATION:MGSA Field 9
CATEGORIES:QuickScores, Softball - Fastpitch Game
TRANSP:OPAQUE
BEGIN:VALARM
TRIGGER:-PT2H
ACTION:DISPLAY
DESCRIPTION:Thunder vs. Ponytail Express
END:VALARM
END:VEVENT
BEGIN:VEVENT
UID:mgsasoftball-73031763-20260324T191500@quickscores.com
DTSTAMP:20260419T152400Z
DTSTART;TZID=America/Chicago:20260324T191500
DURATION:PT1H15M0S
SUMMARY:Ponytail Express vs. Diamond Dolls
DESCRIPTION:Mixed Spring 2026 - Montgomery Girls Sports Association
LOCATION:MGSA Field 8
CATEGORIES:QuickScores, Softball - Fastpitch Game
TRANSP:OPAQUE
BEGIN:VALARM
TRIGGER:-PT2H
ACTION:DISPLAY
DESCRIPTION:Ponytail Express vs. Diamond Dolls
END:VALARM
END:VEVENT
BEGIN:VEVENT
UID:mgsasoftball-73031765-20260326T180000@quickscores.com
DTSTAMP:20260419T152400Z
DTSTART;TZID=America/Chicago:20260326T180000
DURATION:PT1H15M0S
SUMMARY:Ponytail Express vs. Savages
DESCRIPTION:Mixed Spring 2026 - Montgomery Girls Sports Association
LOCATION:MGSA Field 9
CATEGORIES:QuickScores, Softball - Fastpitch Game
TRANSP:OPAQUE
BEGIN:VALARM
TRIGGER:-PT2H
ACTION:DISPLAY
DESCRIPTION:Ponytail Express vs. Savages
END:VALARM
END:VEVENT
BEGIN:VEVENT
UID:mgsasoftball-73031769-20260331T191500@quickscores.com
DTSTAMP:20260419T152400Z
DTSTART;TZID=America/Chicago:20260331T191500
DURATION:PT1H15M0S
SUMMARY:Ponytail Express vs. Thunder
DESCRIPTION:Mixed Spring 2026 - Montgomery Girls Sports Association
LOCATION:MGSA Field 8
CATEGORIES:QuickScores, Softball - Fastpitch Game
TRANSP:OPAQUE
BEGIN:VALARM
TRIGGER:-PT2H
ACTION:DISPLAY
DESCRIPTION:Ponytail Express vs. Thunder
END:VALARM
END:VEVENT
BEGIN:VEVENT
UID:mgsasoftball-73031773-20260407T180000@quickscores.com
DTSTAMP:20260419T152400Z
DTSTART;TZID=America/Chicago:20260407T180000
DURATION:PT1H15M0S
SUMMARY:Thunder vs. Ponytail Express
DESCRIPTION:Mixed Spring 2026 - Montgomery Girls Sports Association
LOCATION:MGSA Field 8
CATEGORIES:QuickScores, Softball - Fastpitch Game
TRANSP:OPAQUE
BEGIN:VALARM
TRIGGER:-PT2H
ACTION:DISPLAY
DESCRIPTION:Thunder vs. Ponytail Express
END:VALARM
END:VEVENT
BEGIN:VEVENT
UID:mgsasoftball-73031771-20260409T180000@quickscores.com
DTSTAMP:20260419T152400Z
DTSTART;TZID=America/Chicago:20260409T180000
DURATION:PT1H15M0S
SUMMARY:Savages vs. Ponytail Express
DESCRIPTION:Mixed Spring 2026 - Montgomery Girls Sports Association
LOCATION:MGSA Field 9
CATEGORIES:QuickScores, Softball - Fastpitch Game
TRANSP:OPAQUE
BEGIN:VALARM
TRIGGER:-PT2H
ACTION:DISPLAY
DESCRIPTION:Savages vs. Ponytail Express
END:VALARM
END:VEVENT
BEGIN:VEVENT
UID:mgsasoftball-73031753-20260414T180000@quickscores.com
DTSTAMP:20260419T152400Z
DTSTART;TZID=America/Chicago:20260414T180000
DURATION:PT1H15M0S
SUMMARY:Diamond Dolls vs. Ponytail Express
DESCRIPTION:Mixed Spring 2026 - Montgomery Girls Sports Association
LOCATION:MGSA Field 9
CATEGORIES:QuickScores, Softball - Fastpitch Game
TRANSP:OPAQUE
BEGIN:VALARM
TRIGGER:-PT2H
ACTION:DISPLAY
DESCRIPTION:Diamond Dolls vs. Ponytail Express
END:VALARM
END:VEVENT
BEGIN:VEVENT
UID:mgsasoftball-73031767-20260416T180000@quickscores.com
DTSTAMP:20260419T152400Z
DTSTART;TZID=America/Chicago:20260416T180000
DURATION:PT1H15M0S
SUMMARY:Diamond Dolls vs. Ponytail Express
DESCRIPTION:RAIN OUT - RESCHEDULE FROM 4/2 --- Mixed Spring 2026 - Montgomery Girls Sports Association
LOCATION:MGSA Field 9
CATEGORIES:QuickScores, Softball - Fastpitch Game
TRANSP:OPAQUE
BEGIN:VALARM
TRIGGER:-PT2H
ACTION:DISPLAY
DESCRIPTION:Diamond Dolls vs. Ponytail Express
END:VALARM
END:VEVENT
END:VCALENDAR
