BEGIN:VCALENDAR
VERSION:2.0
PRODID:-//QuickScores.com//BQ Dynamic iCal Creator//EN
METHOD:PUBLISH
X-WR-CALNAME:Dugout Dawgs - 12u Mixed Fall 2025 - Fall 2025
X-WR-CALDESC:QuickScores game calendar
X-PUBLISHED-TTL:PT24H
REFRESH-INTERVAL;VALUE=DURATION:PT24H
CALSCALE:GREGORIAN
BEGIN:VTIMEZONE
TZID:America/Chicago
X-LIC-LOCATION:America/Chicago
BEGIN:DAYLIGHT
TZNAME:CDT
TZOFFSETFROM:-0600
TZOFFSETTO:-0500
DTSTART:19700308T020000
RRULE:FREQ=YEARLY;BYMONTH=3;BYDAY=2SU
END:DAYLIGHT
BEGIN:STANDARD
TZNAME:CST
TZOFFSETFROM:-0500
TZOFFSETTO:-0600
DTSTART:19701101T020000
RRULE:FREQ=YEARLY;BYMONTH=11;BYDAY=1SU
END:STANDARD
END:VTIMEZONE
BEGIN:VEVENT
UID:mgsasoftball-70792964-20250915T180000@quickscores.com
DTSTAMP:20260421T002900Z
DTSTART;TZID=America/Chicago:20250915T180000
DURATION:PT1H15M0S
SUMMARY:Dugout Dawgs vs. Ponytail Express
DESCRIPTION:12u Mixed Fall 2025 - Montgomery Girls Sports Association
LOCATION:MGSA Field 8
CATEGORIES:QuickScores, Softball - Fastpitch Game
TRANSP:OPAQUE
BEGIN:VALARM
TRIGGER:-PT2H
ACTION:DISPLAY
DESCRIPTION:Dugout Dawgs vs. Ponytail Express
END:VALARM
END:VEVENT
BEGIN:VEVENT
UID:mgsasoftball-70792962-20250918T180000@quickscores.com
DTSTAMP:20260421T002900Z
DTSTART;TZID=America/Chicago:20250918T180000
DURATION:PT1H15M0S
SUMMARY:Dugout Dawgs vs. Dazzling Dynamites
DESCRIPTION:12u Mixed Fall 2025 - Montgomery Girls Sports Association
LOCATION:MGSA Field 8
CATEGORIES:QuickScores, Softball - Fastpitch Game
TRANSP:OPAQUE
BEGIN:VALARM
TRIGGER:-PT2H
ACTION:DISPLAY
DESCRIPTION:Dugout Dawgs vs. Dazzling Dynamites
END:VALARM
END:VEVENT
BEGIN:VEVENT
UID:mgsasoftball-70792969-20250923T191500@quickscores.com
DTSTAMP:20260421T002900Z
DTSTART;TZID=America/Chicago:20250923T191500
DURATION:PT1H15M0S
SUMMARY:Sandlot Sisters vs. Dugout Dawgs
DESCRIPTION:12u Mixed Fall 2025 - Montgomery Girls Sports Association
LOCATION:MGSA Field 8
CATEGORIES:QuickScores, Softball - Fastpitch Game
TRANSP:OPAQUE
BEGIN:VALARM
TRIGGER:-PT2H
ACTION:DISPLAY
DESCRIPTION:Sandlot Sisters vs. Dugout Dawgs
END:VALARM
END:VEVENT
BEGIN:VEVENT
UID:mgsasoftball-70792966-20250925T191500@quickscores.com
DTSTAMP:20260421T002900Z
DTSTART;TZID=America/Chicago:20250925T191500
DURATION:PT1H15M0S
SUMMARY:Ponytail Express vs. Dugout Dawgs
DESCRIPTION:12u Mixed Fall 2025 - Montgomery Girls Sports Association
LOCATION:MGSA Field 8
CATEGORIES:QuickScores, Softball - Fastpitch Game
TRANSP:OPAQUE
BEGIN:VALARM
TRIGGER:-PT2H
ACTION:DISPLAY
DESCRIPTION:Ponytail Express vs. Dugout Dawgs
END:VALARM
END:VEVENT
BEGIN:VEVENT
UID:mgsasoftball-70792978-20250929T180000@quickscores.com
DTSTAMP:20260421T002900Z
DTSTART;TZID=America/Chicago:20250929T180000
DURATION:PT1H15M0S
SUMMARY:Dugout Dawgs vs. Southern Dingers
DESCRIPTION:12u Mixed Fall 2025 - Montgomery Girls Sports Association
LOCATION:MGSA Field 8
CATEGORIES:QuickScores, Softball - Fastpitch Game
TRANSP:OPAQUE
BEGIN:VALARM
TRIGGER:-PT2H
ACTION:DISPLAY
DESCRIPTION:Dugout Dawgs vs. Southern Dingers
END:VALARM
END:VEVENT
BEGIN:VEVENT
UID:mgsasoftball-70792977-20250930T191500@quickscores.com
DTSTAMP:20260421T002900Z
DTSTART;TZID=America/Chicago:20250930T191500
DURATION:PT1H15M0S
SUMMARY:Angels vs. Dugout Dawgs
DESCRIPTION:12u Mixed Fall 2025 - Montgomery Girls Sports Association
LOCATION:MGSA Field 8
CATEGORIES:QuickScores, Softball - Fastpitch Game
TRANSP:OPAQUE
BEGIN:VALARM
TRIGGER:-PT2H
ACTION:DISPLAY
DESCRIPTION:Angels vs. Dugout Dawgs
END:VALARM
END:VEVENT
BEGIN:VEVENT
UID:mgsasoftball-70792981-20251006T191500@quickscores.com
DTSTAMP:20260421T002900Z
DTSTART;TZID=America/Chicago:20251006T191500
DURATION:PT1H15M0S
SUMMARY:Storm vs. Dugout Dawgs
DESCRIPTION:12u Mixed Fall 2025 - Montgomery Girls Sports Association
LOCATION:MGSA Field 8
CATEGORIES:QuickScores, Softball - Fastpitch Game
TRANSP:OPAQUE
BEGIN:VALARM
TRIGGER:-PT2H
ACTION:DISPLAY
DESCRIPTION:Storm vs. Dugout Dawgs
END:VALARM
END:VEVENT
BEGIN:VEVENT
UID:mgsasoftball-70792979-20251007T180000@quickscores.com
DTSTAMP:20260421T002900Z
DTSTART;TZID=America/Chicago:20251007T180000
DURATION:PT1H15M0S
SUMMARY:Dugout Dawgs vs. Angels
DESCRIPTION:12u Mixed Fall 2025 - Montgomery Girls Sports Association
LOCATION:MGSA Field 8
CATEGORIES:QuickScores, Softball - Fastpitch Game
TRANSP:OPAQUE
BEGIN:VALARM
TRIGGER:-PT2H
ACTION:DISPLAY
DESCRIPTION:Dugout Dawgs vs. Angels
END:VALARM
END:VEVENT
BEGIN:VEVENT
UID:mgsasoftball-70792984-20251014T180000@quickscores.com
DTSTAMP:20260421T002900Z
DTSTART;TZID=America/Chicago:20251014T180000
DURATION:PT1H15M0S
SUMMARY:Dugout Dawgs vs. Storm
DESCRIPTION:12u Mixed Fall 2025 - Montgomery Girls Sports Association
LOCATION:MGSA Field 8
CATEGORIES:QuickScores, Softball - Fastpitch Game
TRANSP:OPAQUE
BEGIN:VALARM
TRIGGER:-PT2H
ACTION:DISPLAY
DESCRIPTION:Dugout Dawgs vs. Storm
END:VALARM
END:VEVENT
BEGIN:VEVENT
UID:mgsasoftball-70792988-20251020T191500@quickscores.com
DTSTAMP:20260421T002900Z
DTSTART;TZID=America/Chicago:20251020T191500
DURATION:PT1H15M0S
SUMMARY:Dazzling Dynamites vs. Dugout Dawgs
DESCRIPTION:12u Mixed Fall 2025 - Montgomery Girls Sports Association
LOCATION:MGSA Field 8
CATEGORIES:QuickScores, Softball - Fastpitch Game
TRANSP:OPAQUE
BEGIN:VALARM
TRIGGER:-PT2H
ACTION:DISPLAY
DESCRIPTION:Dazzling Dynamites vs. Dugout Dawgs
END:VALARM
END:VEVENT
BEGIN:VEVENT
UID:mgsasoftball-70792992-20251021T191500@quickscores.com
DTSTAMP:20260421T002900Z
DTSTART;TZID=America/Chicago:20251021T191500
DURATION:PT1H15M0S
SUMMARY:Dugout Dawgs vs. Sandlot Sisters
DESCRIPTION:12u Mixed Fall 2025 - Montgomery Girls Sports Association
LOCATION:MGSA Field 8
CATEGORIES:QuickScores, Softball - Fastpitch Game
TRANSP:OPAQUE
BEGIN:VALARM
TRIGGER:-PT2H
ACTION:DISPLAY
DESCRIPTION:Dugout Dawgs vs. Sandlot Sisters
END:VALARM
END:VEVENT
BEGIN:VEVENT
UID:mgsasoftball-70792994-20251028T180000@quickscores.com
DTSTAMP:20260421T002900Z
DTSTART;TZID=America/Chicago:20251028T180000
DURATION:PT1H15M0S
SUMMARY:Southern Dingers vs. Dugout Dawgs
DESCRIPTION:12u Mixed Fall 2025 - Montgomery Girls Sports Association
LOCATION:MGSA Field 8
CATEGORIES:QuickScores, Softball - Fastpitch Game
TRANSP:OPAQUE
BEGIN:VALARM
TRIGGER:-PT2H
ACTION:DISPLAY
DESCRIPTION:Southern Dingers vs. Dugout Dawgs
END:VALARM
END:VEVENT
END:VCALENDAR
