BEGIN:VCALENDAR
VERSION:2.0
PRODID:-//QuickScores.com//BQ Dynamic iCal Creator//EN
METHOD:PUBLISH
X-WR-CALNAME:Dazzling Dynamites - 12u Mixed Fall 2025 - Fall 2025
X-WR-CALDESC:QuickScores game calendar
X-PUBLISHED-TTL:PT24H
REFRESH-INTERVAL;VALUE=DURATION:PT24H
CALSCALE:GREGORIAN
BEGIN:VTIMEZONE
TZID:America/Chicago
X-LIC-LOCATION:America/Chicago
BEGIN:DAYLIGHT
TZNAME:CDT
TZOFFSETFROM:-0600
TZOFFSETTO:-0500
DTSTART:19700308T020000
RRULE:FREQ=YEARLY;BYMONTH=3;BYDAY=2SU
END:DAYLIGHT
BEGIN:STANDARD
TZNAME:CST
TZOFFSETFROM:-0500
TZOFFSETTO:-0600
DTSTART:19701101T020000
RRULE:FREQ=YEARLY;BYMONTH=11;BYDAY=1SU
END:STANDARD
END:VTIMEZONE
BEGIN:VEVENT
UID:mgsasoftball-70792957-20250916T191500@quickscores.com
DTSTAMP:20260420T224300Z
DTSTART;TZID=America/Chicago:20250916T191500
DURATION:PT1H15M0S
SUMMARY:Ponytail Express vs. Dazzling Dynamites
DESCRIPTION:12u Mixed Fall 2025 - Montgomery Girls Sports Association
LOCATION:MGSA Field 9
CATEGORIES:QuickScores, Softball - Fastpitch Game
TRANSP:OPAQUE
BEGIN:VALARM
TRIGGER:-PT2H
ACTION:DISPLAY
DESCRIPTION:Ponytail Express vs. Dazzling Dynamites
END:VALARM
END:VEVENT
BEGIN:VEVENT
UID:mgsasoftball-70792962-20250918T180000@quickscores.com
DTSTAMP:20260420T224300Z
DTSTART;TZID=America/Chicago:20250918T180000
DURATION:PT1H15M0S
SUMMARY:Dugout Dawgs vs. Dazzling Dynamites
DESCRIPTION:12u Mixed Fall 2025 - Montgomery Girls Sports Association
LOCATION:MGSA Field 8
CATEGORIES:QuickScores, Softball - Fastpitch Game
TRANSP:OPAQUE
BEGIN:VALARM
TRIGGER:-PT2H
ACTION:DISPLAY
DESCRIPTION:Dugout Dawgs vs. Dazzling Dynamites
END:VALARM
END:VEVENT
BEGIN:VEVENT
UID:mgsasoftball-70792971-20250922T191500@quickscores.com
DTSTAMP:20260420T224300Z
DTSTART;TZID=America/Chicago:20250922T191500
DURATION:PT1H15M0S
SUMMARY:Angels vs. Dazzling Dynamites
DESCRIPTION:12u Mixed Fall 2025 - Montgomery Girls Sports Association
LOCATION:MGSA Field 8
CATEGORIES:QuickScores, Softball - Fastpitch Game
TRANSP:OPAQUE
BEGIN:VALARM
TRIGGER:-PT2H
ACTION:DISPLAY
DESCRIPTION:Angels vs. Dazzling Dynamites
END:VALARM
END:VEVENT
BEGIN:VEVENT
UID:mgsasoftball-70792970-20250923T180000@quickscores.com
DTSTAMP:20260420T224300Z
DTSTART;TZID=America/Chicago:20250923T180000
DURATION:PT1H15M0S
SUMMARY:Dazzling Dynamites vs. Sandlot Sisters
DESCRIPTION:12u Mixed Fall 2025 - Montgomery Girls Sports Association
LOCATION:MGSA Field 8
CATEGORIES:QuickScores, Softball - Fastpitch Game
TRANSP:OPAQUE
BEGIN:VALARM
TRIGGER:-PT2H
ACTION:DISPLAY
DESCRIPTION:Dazzling Dynamites vs. Sandlot Sisters
END:VALARM
END:VEVENT
BEGIN:VEVENT
UID:mgsasoftball-70792976-20250930T180000@quickscores.com
DTSTAMP:20260420T224300Z
DTSTART;TZID=America/Chicago:20250930T180000
DURATION:PT1H15M0S
SUMMARY:Sandlot Sisters vs. Dazzling Dynamites
DESCRIPTION:12u Mixed Fall 2025 - Montgomery Girls Sports Association
LOCATION:MGSA Field 8
CATEGORIES:QuickScores, Softball - Fastpitch Game
TRANSP:OPAQUE
BEGIN:VALARM
TRIGGER:-PT2H
ACTION:DISPLAY
DESCRIPTION:Sandlot Sisters vs. Dazzling Dynamites
END:VALARM
END:VEVENT
BEGIN:VEVENT
UID:mgsasoftball-70792973-20251002T180000@quickscores.com
DTSTAMP:20260420T224300Z
DTSTART;TZID=America/Chicago:20251002T180000
DURATION:PT1H15M0S
SUMMARY:Dazzling Dynamites vs. Ponytail Express
DESCRIPTION:12u Mixed Fall 2025 - Montgomery Girls Sports Association
LOCATION:MGSA Field 8
CATEGORIES:QuickScores, Softball - Fastpitch Game
TRANSP:OPAQUE
BEGIN:VALARM
TRIGGER:-PT2H
ACTION:DISPLAY
DESCRIPTION:Dazzling Dynamites vs. Ponytail Express
END:VALARM
END:VEVENT
BEGIN:VEVENT
UID:mgsasoftball-70792980-20251007T191500@quickscores.com
DTSTAMP:20260420T224300Z
DTSTART;TZID=America/Chicago:20251007T191500
DURATION:PT1H15M0S
SUMMARY:Dazzling Dynamites vs. Southern Dingers
DESCRIPTION:12u Mixed Fall 2025 - Montgomery Girls Sports Association
LOCATION:MGSA Field 8
CATEGORIES:QuickScores, Softball - Fastpitch Game
TRANSP:OPAQUE
BEGIN:VALARM
TRIGGER:-PT2H
ACTION:DISPLAY
DESCRIPTION:Dazzling Dynamites vs. Southern Dingers
END:VALARM
END:VEVENT
BEGIN:VEVENT
UID:mgsasoftball-70792986-20251016T191500@quickscores.com
DTSTAMP:20260420T224300Z
DTSTART;TZID=America/Chicago:20251016T191500
DURATION:PT1H15M0S
SUMMARY:Dazzling Dynamites vs. Storm
DESCRIPTION:12u Mixed Fall 2025 - Montgomery Girls Sports Association
LOCATION:MGSA Field 8
CATEGORIES:QuickScores, Softball - Fastpitch Game
TRANSP:OPAQUE
BEGIN:VALARM
TRIGGER:-PT2H
ACTION:DISPLAY
DESCRIPTION:Dazzling Dynamites vs. Storm
END:VALARM
END:VEVENT
BEGIN:VEVENT
UID:mgsasoftball-70792988-20251020T191500@quickscores.com
DTSTAMP:20260420T224300Z
DTSTART;TZID=America/Chicago:20251020T191500
DURATION:PT1H15M0S
SUMMARY:Dazzling Dynamites vs. Dugout Dawgs
DESCRIPTION:12u Mixed Fall 2025 - Montgomery Girls Sports Association
LOCATION:MGSA Field 8
CATEGORIES:QuickScores, Softball - Fastpitch Game
TRANSP:OPAQUE
BEGIN:VALARM
TRIGGER:-PT2H
ACTION:DISPLAY
DESCRIPTION:Dazzling Dynamites vs. Dugout Dawgs
END:VALARM
END:VEVENT
BEGIN:VEVENT
UID:mgsasoftball-70792993-20251027T180000@quickscores.com
DTSTAMP:20260420T224300Z
DTSTART;TZID=America/Chicago:20251027T180000
DURATION:PT1H15M0S
SUMMARY:Dazzling Dynamites vs. Angels
DESCRIPTION:12u Mixed Fall 2025 - Montgomery Girls Sports Association
LOCATION:MGSA Field 8
CATEGORIES:QuickScores, Softball - Fastpitch Game
TRANSP:OPAQUE
BEGIN:VALARM
TRIGGER:-PT2H
ACTION:DISPLAY
DESCRIPTION:Dazzling Dynamites vs. Angels
END:VALARM
END:VEVENT
BEGIN:VEVENT
UID:mgsasoftball-70792998-20251028T191500@quickscores.com
DTSTAMP:20260420T224300Z
DTSTART;TZID=America/Chicago:20251028T191500
DURATION:PT1H15M0S
SUMMARY:Storm vs. Dazzling Dynamites
DESCRIPTION:12u Mixed Fall 2025 - Montgomery Girls Sports Association
LOCATION:MGSA Field 8
CATEGORIES:QuickScores, Softball - Fastpitch Game
TRANSP:OPAQUE
BEGIN:VALARM
TRIGGER:-PT2H
ACTION:DISPLAY
DESCRIPTION:Storm vs. Dazzling Dynamites
END:VALARM
END:VEVENT
BEGIN:VEVENT
UID:mgsasoftball-70792995-20251030T191500@quickscores.com
DTSTAMP:20260420T224300Z
DTSTART;TZID=America/Chicago:20251030T191500
DURATION:PT1H15M0S
SUMMARY:Southern Dingers vs. Dazzling Dynamites
DESCRIPTION:12u Mixed Fall 2025 - Montgomery Girls Sports Association
LOCATION:MGSA Field 8
CATEGORIES:QuickScores, Softball - Fastpitch Game
TRANSP:OPAQUE
BEGIN:VALARM
TRIGGER:-PT2H
ACTION:DISPLAY
DESCRIPTION:Southern Dingers vs. Dazzling Dynamites
END:VALARM
END:VEVENT
END:VCALENDAR
