BEGIN:VCALENDAR
VERSION:2.0
PRODID:-//QuickScores.com//BQ Dynamic iCal Creator//EN
METHOD:PUBLISH
X-WR-CALNAME:Storm - 12u Mixed Fall 2025 - Fall 2025
X-WR-CALDESC:QuickScores game calendar
X-PUBLISHED-TTL:PT24H
REFRESH-INTERVAL;VALUE=DURATION:PT24H
CALSCALE:GREGORIAN
BEGIN:VTIMEZONE
TZID:America/Chicago
X-LIC-LOCATION:America/Chicago
BEGIN:DAYLIGHT
TZNAME:CDT
TZOFFSETFROM:-0600
TZOFFSETTO:-0500
DTSTART:19700308T020000
RRULE:FREQ=YEARLY;BYMONTH=3;BYDAY=2SU
END:DAYLIGHT
BEGIN:STANDARD
TZNAME:CST
TZOFFSETFROM:-0500
TZOFFSETTO:-0600
DTSTART:19701101T020000
RRULE:FREQ=YEARLY;BYMONTH=11;BYDAY=1SU
END:STANDARD
END:VTIMEZONE
BEGIN:VEVENT
UID:mgsasoftball-70792959-20250916T180000@quickscores.com
DTSTAMP:20260420T224400Z
DTSTART;TZID=America/Chicago:20250916T180000
DURATION:PT1H15M0S
SUMMARY:Storm vs. Ponytail Express
DESCRIPTION:12u Mixed Fall 2025 - Montgomery Girls Sports Association
LOCATION:MGSA Field 8
CATEGORIES:QuickScores, Softball - Fastpitch Game
TRANSP:OPAQUE
BEGIN:VALARM
TRIGGER:-PT2H
ACTION:DISPLAY
DESCRIPTION:Storm vs. Ponytail Express
END:VALARM
END:VEVENT
BEGIN:VEVENT
UID:mgsasoftball-70792960-20250916T191500@quickscores.com
DTSTAMP:20260420T224400Z
DTSTART;TZID=America/Chicago:20250916T191500
DURATION:PT1H15M0S
SUMMARY:Southern Dingers vs. Storm
DESCRIPTION:12u Mixed Fall 2025 - Montgomery Girls Sports Association
LOCATION:MGSA Field 8
CATEGORIES:QuickScores, Softball - Fastpitch Game
TRANSP:OPAQUE
BEGIN:VALARM
TRIGGER:-PT2H
ACTION:DISPLAY
DESCRIPTION:Southern Dingers vs. Storm
END:VALARM
END:VEVENT
BEGIN:VEVENT
UID:mgsasoftball-70792961-20250918T191500@quickscores.com
DTSTAMP:20260420T224400Z
DTSTART;TZID=America/Chicago:20250918T191500
DURATION:PT1H15M0S
SUMMARY:Sandlot Sisters vs. Storm
DESCRIPTION:12u Mixed Fall 2025 - Montgomery Girls Sports Association
LOCATION:MGSA Field 8
CATEGORIES:QuickScores, Softball - Fastpitch Game
TRANSP:OPAQUE
BEGIN:VALARM
TRIGGER:-PT2H
ACTION:DISPLAY
DESCRIPTION:Sandlot Sisters vs. Storm
END:VALARM
END:VEVENT
BEGIN:VEVENT
UID:mgsasoftball-70792965-20250922T180000@quickscores.com
DTSTAMP:20260420T224400Z
DTSTART;TZID=America/Chicago:20250922T180000
DURATION:PT1H15M0S
SUMMARY:Storm vs. Southern Dingers
DESCRIPTION:12u Mixed Fall 2025 - Montgomery Girls Sports Association
LOCATION:MGSA Field 8
CATEGORIES:QuickScores, Softball - Fastpitch Game
TRANSP:OPAQUE
BEGIN:VALARM
TRIGGER:-PT2H
ACTION:DISPLAY
DESCRIPTION:Storm vs. Southern Dingers
END:VALARM
END:VEVENT
BEGIN:VEVENT
UID:mgsasoftball-70792967-20250923T191500@quickscores.com
DTSTAMP:20260420T224400Z
DTSTART;TZID=America/Chicago:20250923T191500
DURATION:PT1H15M0S
SUMMARY:Storm vs. Angels
DESCRIPTION:12u Mixed Fall 2025 - Montgomery Girls Sports Association
LOCATION:MGSA Field 9
CATEGORIES:QuickScores, Softball - Fastpitch Game
TRANSP:OPAQUE
BEGIN:VALARM
TRIGGER:-PT2H
ACTION:DISPLAY
DESCRIPTION:Storm vs. Angels
END:VALARM
END:VEVENT
BEGIN:VEVENT
UID:mgsasoftball-70792975-20250929T191500@quickscores.com
DTSTAMP:20260420T224400Z
DTSTART;TZID=America/Chicago:20250929T191500
DURATION:PT1H15M0S
SUMMARY:Ponytail Express vs. Storm
DESCRIPTION:12u Mixed Fall 2025 - Montgomery Girls Sports Association
LOCATION:MGSA Field 8
CATEGORIES:QuickScores, Softball - Fastpitch Game
TRANSP:OPAQUE
BEGIN:VALARM
TRIGGER:-PT2H
ACTION:DISPLAY
DESCRIPTION:Ponytail Express vs. Storm
END:VALARM
END:VEVENT
BEGIN:VEVENT
UID:mgsasoftball-70792981-20251006T191500@quickscores.com
DTSTAMP:20260420T224400Z
DTSTART;TZID=America/Chicago:20251006T191500
DURATION:PT1H15M0S
SUMMARY:Storm vs. Dugout Dawgs
DESCRIPTION:12u Mixed Fall 2025 - Montgomery Girls Sports Association
LOCATION:MGSA Field 8
CATEGORIES:QuickScores, Softball - Fastpitch Game
TRANSP:OPAQUE
BEGIN:VALARM
TRIGGER:-PT2H
ACTION:DISPLAY
DESCRIPTION:Storm vs. Dugout Dawgs
END:VALARM
END:VEVENT
BEGIN:VEVENT
UID:mgsasoftball-70792984-20251014T180000@quickscores.com
DTSTAMP:20260420T224400Z
DTSTART;TZID=America/Chicago:20251014T180000
DURATION:PT1H15M0S
SUMMARY:Dugout Dawgs vs. Storm
DESCRIPTION:12u Mixed Fall 2025 - Montgomery Girls Sports Association
LOCATION:MGSA Field 8
CATEGORIES:QuickScores, Softball - Fastpitch Game
TRANSP:OPAQUE
BEGIN:VALARM
TRIGGER:-PT2H
ACTION:DISPLAY
DESCRIPTION:Dugout Dawgs vs. Storm
END:VALARM
END:VEVENT
BEGIN:VEVENT
UID:mgsasoftball-70792986-20251016T191500@quickscores.com
DTSTAMP:20260420T224400Z
DTSTART;TZID=America/Chicago:20251016T191500
DURATION:PT1H15M0S
SUMMARY:Dazzling Dynamites vs. Storm
DESCRIPTION:12u Mixed Fall 2025 - Montgomery Girls Sports Association
LOCATION:MGSA Field 8
CATEGORIES:QuickScores, Softball - Fastpitch Game
TRANSP:OPAQUE
BEGIN:VALARM
TRIGGER:-PT2H
ACTION:DISPLAY
DESCRIPTION:Dazzling Dynamites vs. Storm
END:VALARM
END:VEVENT
BEGIN:VEVENT
UID:mgsasoftball-70792987-20251020T180000@quickscores.com
DTSTAMP:20260420T224400Z
DTSTART;TZID=America/Chicago:20251020T180000
DURATION:PT1H15M0S
SUMMARY:Storm vs. Sandlot Sisters
DESCRIPTION:12u Mixed Fall 2025 - Montgomery Girls Sports Association
LOCATION:MGSA Field 8
CATEGORIES:QuickScores, Softball - Fastpitch Game
TRANSP:OPAQUE
BEGIN:VALARM
TRIGGER:-PT2H
ACTION:DISPLAY
DESCRIPTION:Storm vs. Sandlot Sisters
END:VALARM
END:VEVENT
BEGIN:VEVENT
UID:mgsasoftball-70792990-20251023T180000@quickscores.com
DTSTAMP:20260420T224400Z
DTSTART;TZID=America/Chicago:20251023T180000
DURATION:PT1H15M0S
SUMMARY:Angels vs. Storm
DESCRIPTION:12u Mixed Fall 2025 - Montgomery Girls Sports Association
LOCATION:MGSA Field 8
CATEGORIES:QuickScores, Softball - Fastpitch Game
TRANSP:OPAQUE
BEGIN:VALARM
TRIGGER:-PT2H
ACTION:DISPLAY
DESCRIPTION:Angels vs. Storm
END:VALARM
END:VEVENT
BEGIN:VEVENT
UID:mgsasoftball-70792998-20251028T191500@quickscores.com
DTSTAMP:20260420T224400Z
DTSTART;TZID=America/Chicago:20251028T191500
DURATION:PT1H15M0S
SUMMARY:Storm vs. Dazzling Dynamites
DESCRIPTION:12u Mixed Fall 2025 - Montgomery Girls Sports Association
LOCATION:MGSA Field 8
CATEGORIES:QuickScores, Softball - Fastpitch Game
TRANSP:OPAQUE
BEGIN:VALARM
TRIGGER:-PT2H
ACTION:DISPLAY
DESCRIPTION:Storm vs. Dazzling Dynamites
END:VALARM
END:VEVENT
END:VCALENDAR
