BEGIN:VCALENDAR
VERSION:2.0
PRODID:-//QuickScores.com//BQ Dynamic iCal Creator//EN
METHOD:PUBLISH
X-WR-CALNAME:Pink Sharks - 8u Fall 2025 - Fall 2025
X-WR-CALDESC:QuickScores game calendar
X-PUBLISHED-TTL:PT24H
REFRESH-INTERVAL;VALUE=DURATION:PT24H
CALSCALE:GREGORIAN
BEGIN:VTIMEZONE
TZID:America/Chicago
X-LIC-LOCATION:America/Chicago
BEGIN:DAYLIGHT
TZNAME:CDT
TZOFFSETFROM:-0600
TZOFFSETTO:-0500
DTSTART:19700308T020000
RRULE:FREQ=YEARLY;BYMONTH=3;BYDAY=2SU
END:DAYLIGHT
BEGIN:STANDARD
TZNAME:CST
TZOFFSETFROM:-0500
TZOFFSETTO:-0600
DTSTART:19701101T020000
RRULE:FREQ=YEARLY;BYMONTH=11;BYDAY=1SU
END:STANDARD
END:VTIMEZONE
BEGIN:VEVENT
UID:mgsasoftball-70792729-20250918T180000@quickscores.com
DTSTAMP:20260421T002000Z
DTSTART;TZID=America/Chicago:20250918T180000
DURATION:PT1H15M0S
SUMMARY:Pink Sharks vs. Party Animals
DESCRIPTION:8u Fall 2025 - Montgomery Girls Sports Association
LOCATION:MGSA Field 7
CATEGORIES:QuickScores, Softball - Fastpitch Game
TRANSP:OPAQUE
BEGIN:VALARM
TRIGGER:-PT2H
ACTION:DISPLAY
DESCRIPTION:Pink Sharks vs. Party Animals
END:VALARM
END:VEVENT
BEGIN:VEVENT
UID:mgsasoftball-70792735-20250922T180000@quickscores.com
DTSTAMP:20260421T002000Z
DTSTART;TZID=America/Chicago:20250922T180000
DURATION:PT1H15M0S
SUMMARY:Mud Hens vs. Pink Sharks
DESCRIPTION:8u Fall 2025 - Montgomery Girls Sports Association
LOCATION:MGSA Field 7
CATEGORIES:QuickScores, Softball - Fastpitch Game
TRANSP:OPAQUE
BEGIN:VALARM
TRIGGER:-PT2H
ACTION:DISPLAY
DESCRIPTION:Mud Hens vs. Pink Sharks
END:VALARM
END:VEVENT
BEGIN:VEVENT
UID:mgsasoftball-70792731-20250923T180000@quickscores.com
DTSTAMP:20260421T002000Z
DTSTART;TZID=America/Chicago:20250923T180000
DURATION:PT1H15M0S
SUMMARY:Party Animals vs. Pink Sharks
DESCRIPTION:8u Fall 2025 - Montgomery Girls Sports Association
LOCATION:MGSA Field 7
CATEGORIES:QuickScores, Softball - Fastpitch Game
TRANSP:OPAQUE
BEGIN:VALARM
TRIGGER:-PT2H
ACTION:DISPLAY
DESCRIPTION:Party Animals vs. Pink Sharks
END:VALARM
END:VEVENT
BEGIN:VEVENT
UID:mgsasoftball-70792734-20250923T191500@quickscores.com
DTSTAMP:20260421T002000Z
DTSTART;TZID=America/Chicago:20250923T191500
DURATION:PT1H15M0S
SUMMARY:Dino-Mites vs. Pink Sharks
DESCRIPTION:8u Fall 2025 - Montgomery Girls Sports Association
LOCATION:MGSA Field 7
CATEGORIES:QuickScores, Softball - Fastpitch Game
TRANSP:OPAQUE
BEGIN:VALARM
TRIGGER:-PT2H
ACTION:DISPLAY
DESCRIPTION:Dino-Mites vs. Pink Sharks
END:VALARM
END:VEVENT
BEGIN:VEVENT
UID:mgsasoftball-70792742-20250930T191500@quickscores.com
DTSTAMP:20260421T002000Z
DTSTART;TZID=America/Chicago:20250930T191500
DURATION:PT1H15M0S
SUMMARY:Pink Sharks vs. Dino-Mites
DESCRIPTION:8u Fall 2025 - Montgomery Girls Sports Association
LOCATION:MGSA Field 6
CATEGORIES:QuickScores, Softball - Fastpitch Game
TRANSP:OPAQUE
BEGIN:VALARM
TRIGGER:-PT2H
ACTION:DISPLAY
DESCRIPTION:Pink Sharks vs. Dino-Mites
END:VALARM
END:VEVENT
BEGIN:VEVENT
UID:mgsasoftball-70792741-20251002T180000@quickscores.com
DTSTAMP:20260421T002000Z
DTSTART;TZID=America/Chicago:20251002T180000
DURATION:PT1H15M0S
SUMMARY:Pink Sharks vs. Shooting Stars
DESCRIPTION:8u Fall 2025 - Montgomery Girls Sports Association
LOCATION:MGSA Field 7
CATEGORIES:QuickScores, Softball - Fastpitch Game
TRANSP:OPAQUE
BEGIN:VALARM
TRIGGER:-PT2H
ACTION:DISPLAY
DESCRIPTION:Pink Sharks vs. Shooting Stars
END:VALARM
END:VEVENT
BEGIN:VEVENT
UID:mgsasoftball-70792749-20251006T191500@quickscores.com
DTSTAMP:20260421T002000Z
DTSTART;TZID=America/Chicago:20251006T191500
DURATION:PT1H15M0S
SUMMARY:Pink Sharks vs. The Enforcers
DESCRIPTION:8u Fall 2025 - Montgomery Girls Sports Association
LOCATION:MGSA Field 7
CATEGORIES:QuickScores, Softball - Fastpitch Game
TRANSP:OPAQUE
BEGIN:VALARM
TRIGGER:-PT2H
ACTION:DISPLAY
DESCRIPTION:Pink Sharks vs. The Enforcers
END:VALARM
END:VEVENT
BEGIN:VEVENT
UID:mgsasoftball-70792754-20251014T180000@quickscores.com
DTSTAMP:20260421T002000Z
DTSTART;TZID=America/Chicago:20251014T180000
DURATION:PT1H15M0S
SUMMARY:Sod Poodles vs. Pink Sharks
DESCRIPTION:8u Fall 2025 - Montgomery Girls Sports Association
LOCATION:MGSA Field 7
CATEGORIES:QuickScores, Softball - Fastpitch Game
TRANSP:OPAQUE
BEGIN:VALARM
TRIGGER:-PT2H
ACTION:DISPLAY
DESCRIPTION:Sod Poodles vs. Pink Sharks
END:VALARM
END:VEVENT
BEGIN:VEVENT
UID:mgsasoftball-70792752-20251016T180000@quickscores.com
DTSTAMP:20260421T002000Z
DTSTART;TZID=America/Chicago:20251016T180000
DURATION:PT1H15M0S
SUMMARY:The Enforcers vs. Pink Sharks
DESCRIPTION:8u Fall 2025 - Montgomery Girls Sports Association
LOCATION:MGSA Field 7
CATEGORIES:QuickScores, Softball - Fastpitch Game
TRANSP:OPAQUE
BEGIN:VALARM
TRIGGER:-PT2H
ACTION:DISPLAY
DESCRIPTION:The Enforcers vs. Pink Sharks
END:VALARM
END:VEVENT
BEGIN:VEVENT
UID:mgsasoftball-70792760-20251020T180000@quickscores.com
DTSTAMP:20260421T002000Z
DTSTART;TZID=America/Chicago:20251020T180000
DURATION:PT1H15M0S
SUMMARY:Shooting Stars vs. Pink Sharks
DESCRIPTION:8u Fall 2025 - Montgomery Girls Sports Association
LOCATION:MGSA Field 7
CATEGORIES:QuickScores, Softball - Fastpitch Game
TRANSP:OPAQUE
BEGIN:VALARM
TRIGGER:-PT2H
ACTION:DISPLAY
DESCRIPTION:Shooting Stars vs. Pink Sharks
END:VALARM
END:VEVENT
BEGIN:VEVENT
UID:mgsasoftball-70792755-20251023T180000@quickscores.com
DTSTAMP:20260421T002000Z
DTSTART;TZID=America/Chicago:20251023T180000
DURATION:PT1H15M0S
SUMMARY:Pink Sharks vs. Mud Hens
DESCRIPTION:8u Fall 2025 - Montgomery Girls Sports Association
LOCATION:MGSA Field 7
CATEGORIES:QuickScores, Softball - Fastpitch Game
TRANSP:OPAQUE
BEGIN:VALARM
TRIGGER:-PT2H
ACTION:DISPLAY
DESCRIPTION:Pink Sharks vs. Mud Hens
END:VALARM
END:VEVENT
BEGIN:VEVENT
UID:mgsasoftball-70792761-20251028T180000@quickscores.com
DTSTAMP:20260421T002000Z
DTSTART;TZID=America/Chicago:20251028T180000
DURATION:PT1H15M0S
SUMMARY:Pink Sharks vs. Sod Poodles
DESCRIPTION:8u Fall 2025 - Montgomery Girls Sports Association
LOCATION:MGSA Field 7
CATEGORIES:QuickScores, Softball - Fastpitch Game
TRANSP:OPAQUE
BEGIN:VALARM
TRIGGER:-PT2H
ACTION:DISPLAY
DESCRIPTION:Pink Sharks vs. Sod Poodles
END:VALARM
END:VEVENT
END:VCALENDAR
