BEGIN:VCALENDAR
VERSION:2.0
PRODID:-//QuickScores.com//BQ Dynamic iCal Creator//EN
METHOD:PUBLISH
X-WR-CALNAME:Shooting Stars - 8u Fall 2025 - Fall 2025
X-WR-CALDESC:QuickScores game calendar
X-PUBLISHED-TTL:PT24H
REFRESH-INTERVAL;VALUE=DURATION:PT24H
CALSCALE:GREGORIAN
BEGIN:VTIMEZONE
TZID:America/Chicago
X-LIC-LOCATION:America/Chicago
BEGIN:DAYLIGHT
TZNAME:CDT
TZOFFSETFROM:-0600
TZOFFSETTO:-0500
DTSTART:19700308T020000
RRULE:FREQ=YEARLY;BYMONTH=3;BYDAY=2SU
END:DAYLIGHT
BEGIN:STANDARD
TZNAME:CST
TZOFFSETFROM:-0500
TZOFFSETTO:-0600
DTSTART:19701101T020000
RRULE:FREQ=YEARLY;BYMONTH=11;BYDAY=1SU
END:STANDARD
END:VTIMEZONE
BEGIN:VEVENT
UID:mgsasoftball-70792725-20250915T180000@quickscores.com
DTSTAMP:20260421T002900Z
DTSTART;TZID=America/Chicago:20250915T180000
DURATION:PT1H15M0S
SUMMARY:Shooting Stars vs. The Enforcers
DESCRIPTION:8u Fall 2025 - Montgomery Girls Sports Association
LOCATION:MGSA Field 7
CATEGORIES:QuickScores, Softball - Fastpitch Game
TRANSP:OPAQUE
BEGIN:VALARM
TRIGGER:-PT2H
ACTION:DISPLAY
DESCRIPTION:Shooting Stars vs. The Enforcers
END:VALARM
END:VEVENT
BEGIN:VEVENT
UID:mgsasoftball-70792730-20250918T191500@quickscores.com
DTSTAMP:20260421T002900Z
DTSTART;TZID=America/Chicago:20250918T191500
DURATION:PT1H15M0S
SUMMARY:Mud Hens vs. Shooting Stars
DESCRIPTION:8u Fall 2025 - Montgomery Girls Sports Association
LOCATION:MGSA Field 7
CATEGORIES:QuickScores, Softball - Fastpitch Game
TRANSP:OPAQUE
BEGIN:VALARM
TRIGGER:-PT2H
ACTION:DISPLAY
DESCRIPTION:Mud Hens vs. Shooting Stars
END:VALARM
END:VEVENT
BEGIN:VEVENT
UID:mgsasoftball-70792733-20250923T180000@quickscores.com
DTSTAMP:20260421T002900Z
DTSTART;TZID=America/Chicago:20250923T180000
DURATION:PT1H15M0S
SUMMARY:Shooting Stars vs. Mud Hens
DESCRIPTION:8u Fall 2025 - Montgomery Girls Sports Association
LOCATION:MGSA Field 6
CATEGORIES:QuickScores, Softball - Fastpitch Game
TRANSP:OPAQUE
BEGIN:VALARM
TRIGGER:-PT2H
ACTION:DISPLAY
DESCRIPTION:Shooting Stars vs. Mud Hens
END:VALARM
END:VEVENT
BEGIN:VEVENT
UID:mgsasoftball-70792737-20250925T180000@quickscores.com
DTSTAMP:20260421T002900Z
DTSTART;TZID=America/Chicago:20250925T180000
DURATION:PT1H15M0S
SUMMARY:Dino-Mites vs. Shooting Stars
DESCRIPTION:8u Fall 2025 - Montgomery Girls Sports Association
LOCATION:MGSA Field 7
CATEGORIES:QuickScores, Softball - Fastpitch Game
TRANSP:OPAQUE
BEGIN:VALARM
TRIGGER:-PT2H
ACTION:DISPLAY
DESCRIPTION:Dino-Mites vs. Shooting Stars
END:VALARM
END:VEVENT
BEGIN:VEVENT
UID:mgsasoftball-70792745-20250929T180000@quickscores.com
DTSTAMP:20260421T002900Z
DTSTART;TZID=America/Chicago:20250929T180000
DURATION:PT1H15M0S
SUMMARY:Shooting Stars vs. Sod Poodles
DESCRIPTION:8u Fall 2025 - Montgomery Girls Sports Association
LOCATION:MGSA Field 7
CATEGORIES:QuickScores, Softball - Fastpitch Game
TRANSP:OPAQUE
BEGIN:VALARM
TRIGGER:-PT2H
ACTION:DISPLAY
DESCRIPTION:Shooting Stars vs. Sod Poodles
END:VALARM
END:VEVENT
BEGIN:VEVENT
UID:mgsasoftball-70792741-20251002T180000@quickscores.com
DTSTAMP:20260421T002900Z
DTSTART;TZID=America/Chicago:20251002T180000
DURATION:PT1H15M0S
SUMMARY:Pink Sharks vs. Shooting Stars
DESCRIPTION:8u Fall 2025 - Montgomery Girls Sports Association
LOCATION:MGSA Field 7
CATEGORIES:QuickScores, Softball - Fastpitch Game
TRANSP:OPAQUE
BEGIN:VALARM
TRIGGER:-PT2H
ACTION:DISPLAY
DESCRIPTION:Pink Sharks vs. Shooting Stars
END:VALARM
END:VEVENT
BEGIN:VEVENT
UID:mgsasoftball-70792747-20251007T180000@quickscores.com
DTSTAMP:20260421T002900Z
DTSTART;TZID=America/Chicago:20251007T180000
DURATION:PT1H15M0S
SUMMARY:The Enforcers vs. Shooting Stars
DESCRIPTION:8u Fall 2025 - Montgomery Girls Sports Association
LOCATION:MGSA Field 7
CATEGORIES:QuickScores, Softball - Fastpitch Game
TRANSP:OPAQUE
BEGIN:VALARM
TRIGGER:-PT2H
ACTION:DISPLAY
DESCRIPTION:The Enforcers vs. Shooting Stars
END:VALARM
END:VEVENT
BEGIN:VEVENT
UID:mgsasoftball-70792751-20251016T191500@quickscores.com
DTSTAMP:20260421T002900Z
DTSTART;TZID=America/Chicago:20251016T191500
DURATION:PT1H15M0S
SUMMARY:Shooting Stars vs. Party Animals
DESCRIPTION:8u Fall 2025 - Montgomery Girls Sports Association
LOCATION:MGSA Field 7
CATEGORIES:QuickScores, Softball - Fastpitch Game
TRANSP:OPAQUE
BEGIN:VALARM
TRIGGER:-PT2H
ACTION:DISPLAY
DESCRIPTION:Shooting Stars vs. Party Animals
END:VALARM
END:VEVENT
BEGIN:VEVENT
UID:mgsasoftball-70792760-20251020T180000@quickscores.com
DTSTAMP:20260421T002900Z
DTSTART;TZID=America/Chicago:20251020T180000
DURATION:PT1H15M0S
SUMMARY:Shooting Stars vs. Pink Sharks
DESCRIPTION:8u Fall 2025 - Montgomery Girls Sports Association
LOCATION:MGSA Field 7
CATEGORIES:QuickScores, Softball - Fastpitch Game
TRANSP:OPAQUE
BEGIN:VALARM
TRIGGER:-PT2H
ACTION:DISPLAY
DESCRIPTION:Shooting Stars vs. Pink Sharks
END:VALARM
END:VEVENT
BEGIN:VEVENT
UID:mgsasoftball-70792757-20251021T180000@quickscores.com
DTSTAMP:20260421T002900Z
DTSTART;TZID=America/Chicago:20251021T180000
DURATION:PT1H15M0S
SUMMARY:Shooting Stars vs. Dino-Mites
DESCRIPTION:8u Fall 2025 - Montgomery Girls Sports Association
LOCATION:MGSA Field 7
CATEGORIES:QuickScores, Softball - Fastpitch Game
TRANSP:OPAQUE
BEGIN:VALARM
TRIGGER:-PT2H
ACTION:DISPLAY
DESCRIPTION:Shooting Stars vs. Dino-Mites
END:VALARM
END:VEVENT
BEGIN:VEVENT
UID:mgsasoftball-70792762-20251027T191500@quickscores.com
DTSTAMP:20260421T002900Z
DTSTART;TZID=America/Chicago:20251027T191500
DURATION:PT1H15M0S
SUMMARY:Sod Poodles vs. Shooting Stars
DESCRIPTION:8u Fall 2025 - Montgomery Girls Sports Association
LOCATION:MGSA Field 7
CATEGORIES:QuickScores, Softball - Fastpitch Game
TRANSP:OPAQUE
BEGIN:VALARM
TRIGGER:-PT2H
ACTION:DISPLAY
DESCRIPTION:Sod Poodles vs. Shooting Stars
END:VALARM
END:VEVENT
BEGIN:VEVENT
UID:mgsasoftball-70792763-20251030T180000@quickscores.com
DTSTAMP:20260421T002900Z
DTSTART;TZID=America/Chicago:20251030T180000
DURATION:PT1H15M0S
SUMMARY:Party Animals vs. Shooting Stars
DESCRIPTION:8u Fall 2025 - Montgomery Girls Sports Association
LOCATION:MGSA Field 7
CATEGORIES:QuickScores, Softball - Fastpitch Game
TRANSP:OPAQUE
BEGIN:VALARM
TRIGGER:-PT2H
ACTION:DISPLAY
DESCRIPTION:Party Animals vs. Shooting Stars
END:VALARM
END:VEVENT
END:VCALENDAR
