BEGIN:VCALENDAR
VERSION:2.0
PRODID:-//QuickScores.com//BQ Dynamic iCal Creator//EN
METHOD:PUBLISH
X-WR-CALNAME:Supernova Softball - 6u Fall 2025 - Fall 2025
X-WR-CALDESC:QuickScores game calendar
X-PUBLISHED-TTL:PT24H
REFRESH-INTERVAL;VALUE=DURATION:PT24H
CALSCALE:GREGORIAN
BEGIN:VTIMEZONE
TZID:America/Chicago
X-LIC-LOCATION:America/Chicago
BEGIN:DAYLIGHT
TZNAME:CDT
TZOFFSETFROM:-0600
TZOFFSETTO:-0500
DTSTART:19700308T020000
RRULE:FREQ=YEARLY;BYMONTH=3;BYDAY=2SU
END:DAYLIGHT
BEGIN:STANDARD
TZNAME:CST
TZOFFSETFROM:-0500
TZOFFSETTO:-0600
DTSTART:19701101T020000
RRULE:FREQ=YEARLY;BYMONTH=11;BYDAY=1SU
END:STANDARD
END:VTIMEZONE
BEGIN:VEVENT
UID:mgsasoftball-70792653-20250915T191500@quickscores.com
DTSTAMP:20260422T013500Z
DTSTART;TZID=America/Chicago:20250915T191500
DURATION:PT1H15M0S
SUMMARY:Fireflies vs. Supernova Softball
DESCRIPTION:6u Fall 2025 - Montgomery Girls Sports Association
LOCATION:MGSA Field 6
CATEGORIES:QuickScores, Softball - Fastpitch Game
TRANSP:OPAQUE
BEGIN:VALARM
TRIGGER:-PT2H
ACTION:DISPLAY
DESCRIPTION:Fireflies vs. Supernova Softball
END:VALARM
END:VEVENT
BEGIN:VEVENT
UID:mgsasoftball-70792655-20250918T180000@quickscores.com
DTSTAMP:20260422T013500Z
DTSTART;TZID=America/Chicago:20250918T180000
DURATION:PT1H15M0S
SUMMARY:Supernova Softball vs. Cyclones
DESCRIPTION:6u Fall 2025 - Montgomery Girls Sports Association
LOCATION:MGSA Field 6
CATEGORIES:QuickScores, Softball - Fastpitch Game
TRANSP:OPAQUE
BEGIN:VALARM
TRIGGER:-PT2H
ACTION:DISPLAY
DESCRIPTION:Supernova Softball vs. Cyclones
END:VALARM
END:VEVENT
BEGIN:VEVENT
UID:mgsasoftball-70792656-20250922T191500@quickscores.com
DTSTAMP:20260422T013500Z
DTSTART;TZID=America/Chicago:20250922T191500
DURATION:PT1H15M0S
SUMMARY:Slugging Unicorns vs. Supernova Softball
DESCRIPTION:6u Fall 2025 - Montgomery Girls Sports Association
LOCATION:MGSA Field 6
CATEGORIES:QuickScores, Softball - Fastpitch Game
TRANSP:OPAQUE
BEGIN:VALARM
TRIGGER:-PT2H
ACTION:DISPLAY
DESCRIPTION:Slugging Unicorns vs. Supernova Softball
END:VALARM
END:VEVENT
BEGIN:VEVENT
UID:mgsasoftball-70792658-20250925T191500@quickscores.com
DTSTAMP:20260422T013500Z
DTSTART;TZID=America/Chicago:20250925T191500
DURATION:PT1H15M0S
SUMMARY:Supernova Softball vs. Texas Tornados
DESCRIPTION:6u Fall 2025 - Montgomery Girls Sports Association
LOCATION:MGSA Field 6
CATEGORIES:QuickScores, Softball - Fastpitch Game
TRANSP:OPAQUE
BEGIN:VALARM
TRIGGER:-PT2H
ACTION:DISPLAY
DESCRIPTION:Supernova Softball vs. Texas Tornados
END:VALARM
END:VEVENT
BEGIN:VEVENT
UID:mgsasoftball-70792661-20251002T191500@quickscores.com
DTSTAMP:20260422T013500Z
DTSTART;TZID=America/Chicago:20251002T191500
DURATION:PT1H15M0S
SUMMARY:Supernova Softball vs. Fireflies
DESCRIPTION:6u Fall 2025 - Montgomery Girls Sports Association
LOCATION:MGSA Field 6
CATEGORIES:QuickScores, Softball - Fastpitch Game
TRANSP:OPAQUE
BEGIN:VALARM
TRIGGER:-PT2H
ACTION:DISPLAY
DESCRIPTION:Supernova Softball vs. Fireflies
END:VALARM
END:VEVENT
BEGIN:VEVENT
UID:mgsasoftball-70792665-20251006T191500@quickscores.com
DTSTAMP:20260422T013500Z
DTSTART;TZID=America/Chicago:20251006T191500
DURATION:PT1H15M0S
SUMMARY:Cyclones vs. Supernova Softball
DESCRIPTION:6u Fall 2025 - Montgomery Girls Sports Association
LOCATION:MGSA Field 6
CATEGORIES:QuickScores, Softball - Fastpitch Game
TRANSP:OPAQUE
BEGIN:VALARM
TRIGGER:-PT2H
ACTION:DISPLAY
DESCRIPTION:Cyclones vs. Supernova Softball
END:VALARM
END:VEVENT
BEGIN:VEVENT
UID:mgsasoftball-70792666-20251007T180000@quickscores.com
DTSTAMP:20260422T013500Z
DTSTART;TZID=America/Chicago:20251007T180000
DURATION:PT1H15M0S
SUMMARY:Supernova Softball vs. Slugging Unicorns
DESCRIPTION:6u Fall 2025 - Montgomery Girls Sports Association
LOCATION:MGSA Field 6
CATEGORIES:QuickScores, Softball - Fastpitch Game
TRANSP:OPAQUE
BEGIN:VALARM
TRIGGER:-PT2H
ACTION:DISPLAY
DESCRIPTION:Supernova Softball vs. Slugging Unicorns
END:VALARM
END:VEVENT
BEGIN:VEVENT
UID:mgsasoftball-70792668-20251016T180000@quickscores.com
DTSTAMP:20260422T013500Z
DTSTART;TZID=America/Chicago:20251016T180000
DURATION:PT1H15M0S
SUMMARY:Texas Tornados vs. Supernova Softball
DESCRIPTION:6u Fall 2025 - Montgomery Girls Sports Association
LOCATION:MGSA Field 6
CATEGORIES:QuickScores, Softball - Fastpitch Game
TRANSP:OPAQUE
BEGIN:VALARM
TRIGGER:-PT2H
ACTION:DISPLAY
DESCRIPTION:Texas Tornados vs. Supernova Softball
END:VALARM
END:VEVENT
BEGIN:VEVENT
UID:mgsasoftball-70792672-20251021T191500@quickscores.com
DTSTAMP:20260422T013500Z
DTSTART;TZID=America/Chicago:20251021T191500
DURATION:PT1H15M0S
SUMMARY:Fireflies vs. Supernova Softball
DESCRIPTION:6u Fall 2025 - Montgomery Girls Sports Association
LOCATION:MGSA Field 6
CATEGORIES:QuickScores, Softball - Fastpitch Game
TRANSP:OPAQUE
BEGIN:VALARM
TRIGGER:-PT2H
ACTION:DISPLAY
DESCRIPTION:Fireflies vs. Supernova Softball
END:VALARM
END:VEVENT
BEGIN:VEVENT
UID:mgsasoftball-70792674-20251023T191500@quickscores.com
DTSTAMP:20260422T013500Z
DTSTART;TZID=America/Chicago:20251023T191500
DURATION:PT1H15M0S
SUMMARY:Supernova Softball vs. Cyclones
DESCRIPTION:6u Fall 2025 - Montgomery Girls Sports Association
LOCATION:MGSA Field 6
CATEGORIES:QuickScores, Softball - Fastpitch Game
TRANSP:OPAQUE
BEGIN:VALARM
TRIGGER:-PT2H
ACTION:DISPLAY
DESCRIPTION:Supernova Softball vs. Cyclones
END:VALARM
END:VEVENT
BEGIN:VEVENT
UID:mgsasoftball-70792677-20251027T180000@quickscores.com
DTSTAMP:20260422T013500Z
DTSTART;TZID=America/Chicago:20251027T180000
DURATION:PT1H15M0S
SUMMARY:Slugging Unicorns vs. Supernova Softball
DESCRIPTION:6u Fall 2025 - Montgomery Girls Sports Association
LOCATION:MGSA Field 6
CATEGORIES:QuickScores, Softball - Fastpitch Game
TRANSP:OPAQUE
BEGIN:VALARM
TRIGGER:-PT2H
ACTION:DISPLAY
DESCRIPTION:Slugging Unicorns vs. Supernova Softball
END:VALARM
END:VEVENT
BEGIN:VEVENT
UID:mgsasoftball-70792679-20251028T180000@quickscores.com
DTSTAMP:20260422T013500Z
DTSTART;TZID=America/Chicago:20251028T180000
DURATION:PT1H15M0S
SUMMARY:Supernova Softball vs. Texas Tornados
DESCRIPTION:6u Fall 2025 - Montgomery Girls Sports Association
LOCATION:MGSA Field 6
CATEGORIES:QuickScores, Softball - Fastpitch Game
TRANSP:OPAQUE
BEGIN:VALARM
TRIGGER:-PT2H
ACTION:DISPLAY
DESCRIPTION:Supernova Softball vs. Texas Tornados
END:VALARM
END:VEVENT
END:VCALENDAR
