BEGIN:VCALENDAR
VERSION:2.0
PRODID:-//QuickScores.com//BQ Dynamic iCal Creator//EN
METHOD:PUBLISH
X-WR-CALNAME:Arctic Blast - 12u Mixed Fall 2024 - Fall 2024
X-WR-CALDESC:QuickScores game calendar
X-PUBLISHED-TTL:PT24H
REFRESH-INTERVAL;VALUE=DURATION:PT24H
CALSCALE:GREGORIAN
BEGIN:VTIMEZONE
TZID:America/Chicago
X-LIC-LOCATION:America/Chicago
BEGIN:DAYLIGHT
TZNAME:CDT
TZOFFSETFROM:-0600
TZOFFSETTO:-0500
DTSTART:19700308T020000
RRULE:FREQ=YEARLY;BYMONTH=3;BYDAY=2SU
END:DAYLIGHT
BEGIN:STANDARD
TZNAME:CST
TZOFFSETFROM:-0500
TZOFFSETTO:-0600
DTSTART:19701101T020000
RRULE:FREQ=YEARLY;BYMONTH=11;BYDAY=1SU
END:STANDARD
END:VTIMEZONE
BEGIN:VEVENT
UID:mgsasoftball-64916991-20240916T180000@quickscores.com
DTSTAMP:20260420T003700Z
DTSTART;TZID=America/Chicago:20240916T180000
DURATION:PT1H15M0S
SUMMARY:Iron Pigs vs. Arctic Blast
DESCRIPTION:12u Mixed Fall 2024 - Montgomery Girls Sports Association
LOCATION:MGSA Field 8
CATEGORIES:QuickScores, Softball - Fastpitch Game
TRANSP:OPAQUE
BEGIN:VALARM
TRIGGER:-PT2H
ACTION:DISPLAY
DESCRIPTION:Iron Pigs vs. Arctic Blast
END:VALARM
END:VEVENT
BEGIN:VEVENT
UID:mgsasoftball-64916995-20240919T191500@quickscores.com
DTSTAMP:20260420T003700Z
DTSTART;TZID=America/Chicago:20240919T191500
DURATION:PT1H15M0S
SUMMARY:Space Cowgirls vs. Arctic Blast
DESCRIPTION:12u Mixed Fall 2024 - Montgomery Girls Sports Association
LOCATION:MGSA Field 9
CATEGORIES:QuickScores, Softball - Fastpitch Game
TRANSP:OPAQUE
BEGIN:VALARM
TRIGGER:-PT2H
ACTION:DISPLAY
DESCRIPTION:Space Cowgirls vs. Arctic Blast
END:VALARM
END:VEVENT
BEGIN:VEVENT
UID:mgsasoftball-64916998-20240923T191500@quickscores.com
DTSTAMP:20260420T003700Z
DTSTART;TZID=America/Chicago:20240923T191500
DURATION:PT1H15M0S
SUMMARY:Smokin Bases vs. Arctic Blast
DESCRIPTION:12u Mixed Fall 2024 - Montgomery Girls Sports Association
LOCATION:MGSA Field 9
CATEGORIES:QuickScores, Softball - Fastpitch Game
TRANSP:OPAQUE
BEGIN:VALARM
TRIGGER:-PT2H
ACTION:DISPLAY
DESCRIPTION:Smokin Bases vs. Arctic Blast
END:VALARM
END:VEVENT
BEGIN:VEVENT
UID:mgsasoftball-64917005-20240926T180000@quickscores.com
DTSTAMP:20260420T003700Z
DTSTART;TZID=America/Chicago:20240926T180000
DURATION:PT1H15M0S
SUMMARY:Coach Williams vs. Arctic Blast
DESCRIPTION:12u Mixed Fall 2024 - Montgomery Girls Sports Association
LOCATION:MGSA Field 9
CATEGORIES:QuickScores, Softball - Fastpitch Game
TRANSP:OPAQUE
BEGIN:VALARM
TRIGGER:-PT2H
ACTION:DISPLAY
DESCRIPTION:Coach Williams vs. Arctic Blast
END:VALARM
END:VEVENT
BEGIN:VEVENT
UID:mgsasoftball-64917007-20240930T191500@quickscores.com
DTSTAMP:20260420T003700Z
DTSTART;TZID=America/Chicago:20240930T191500
DURATION:PT1H15M0S
SUMMARY:Arctic Blast vs. Avalanche
DESCRIPTION:12u Mixed Fall 2024 - Montgomery Girls Sports Association
LOCATION:MGSA Field 8
CATEGORIES:QuickScores, Softball - Fastpitch Game
TRANSP:OPAQUE
BEGIN:VALARM
TRIGGER:-PT2H
ACTION:DISPLAY
DESCRIPTION:Arctic Blast vs. Avalanche
END:VALARM
END:VEVENT
BEGIN:VEVENT
UID:mgsasoftball-64917010-20241003T180000@quickscores.com
DTSTAMP:20260420T003700Z
DTSTART;TZID=America/Chicago:20241003T180000
DURATION:PT1H15M0S
SUMMARY:Arctic Blast vs. Bombers
DESCRIPTION:12u Mixed Fall 2024 - Montgomery Girls Sports Association
LOCATION:MGSA Field 9
CATEGORIES:QuickScores, Softball - Fastpitch Game
TRANSP:OPAQUE
BEGIN:VALARM
TRIGGER:-PT2H
ACTION:DISPLAY
DESCRIPTION:Arctic Blast vs. Bombers
END:VALARM
END:VEVENT
BEGIN:VEVENT
UID:mgsasoftball-64917021-20241007T191500@quickscores.com
DTSTAMP:20260420T003700Z
DTSTART;TZID=America/Chicago:20241007T191500
DURATION:PT1H15M0S
SUMMARY:Arctic Blast vs. Thunder
DESCRIPTION:12u Mixed Fall 2024 - Montgomery Girls Sports Association
LOCATION:MGSA Field 9
CATEGORIES:QuickScores, Softball - Fastpitch Game
TRANSP:OPAQUE
BEGIN:VALARM
TRIGGER:-PT2H
ACTION:DISPLAY
DESCRIPTION:Arctic Blast vs. Thunder
END:VALARM
END:VEVENT
BEGIN:VEVENT
UID:mgsasoftball-64917016-20241008T180000@quickscores.com
DTSTAMP:20260420T003700Z
DTSTART;TZID=America/Chicago:20241008T180000
DURATION:PT1H15M0S
SUMMARY:Arctic Blast vs. Iron Pigs
DESCRIPTION:12u Mixed Fall 2024 - Montgomery Girls Sports Association
LOCATION:MGSA Field 8
CATEGORIES:QuickScores, Softball - Fastpitch Game
TRANSP:OPAQUE
BEGIN:VALARM
TRIGGER:-PT2H
ACTION:DISPLAY
DESCRIPTION:Arctic Blast vs. Iron Pigs
END:VALARM
END:VEVENT
BEGIN:VEVENT
UID:mgsasoftball-64917024-20241017T191500@quickscores.com
DTSTAMP:20260420T003700Z
DTSTART;TZID=America/Chicago:20241017T191500
DURATION:PT1H15M0S
SUMMARY:Arctic Blast vs. Space Cowgirls
DESCRIPTION:12u Mixed Fall 2024 - Montgomery Girls Sports Association
LOCATION:MGSA Field 8
CATEGORIES:QuickScores, Softball - Fastpitch Game
TRANSP:OPAQUE
BEGIN:VALARM
TRIGGER:-PT2H
ACTION:DISPLAY
DESCRIPTION:Arctic Blast vs. Space Cowgirls
END:VALARM
END:VEVENT
BEGIN:VEVENT
UID:mgsasoftball-64917026-20241021T180000@quickscores.com
DTSTAMP:20260420T003700Z
DTSTART;TZID=America/Chicago:20241021T180000
DURATION:PT1H15M0S
SUMMARY:Arctic Blast vs. Smokin Bases
DESCRIPTION:12u Mixed Fall 2024 - Montgomery Girls Sports Association
LOCATION:MGSA Field 9
CATEGORIES:QuickScores, Softball - Fastpitch Game
TRANSP:OPAQUE
BEGIN:VALARM
TRIGGER:-PT2H
ACTION:DISPLAY
DESCRIPTION:Arctic Blast vs. Smokin Bases
END:VALARM
END:VEVENT
BEGIN:VEVENT
UID:mgsasoftball-64917033-20241022T191500@quickscores.com
DTSTAMP:20260420T003700Z
DTSTART;TZID=America/Chicago:20241022T191500
DURATION:PT1H15M0S
SUMMARY:Arctic Blast vs. Coach Williams
DESCRIPTION:12u Mixed Fall 2024 - Montgomery Girls Sports Association
LOCATION:MGSA Field 8
CATEGORIES:QuickScores, Softball - Fastpitch Game
TRANSP:OPAQUE
BEGIN:VALARM
TRIGGER:-PT2H
ACTION:DISPLAY
DESCRIPTION:Arctic Blast vs. Coach Williams
END:VALARM
END:VEVENT
BEGIN:VEVENT
UID:mgsasoftball-64917035-20241024T180000@quickscores.com
DTSTAMP:20260420T003700Z
DTSTART;TZID=America/Chicago:20241024T180000
DURATION:PT1H15M0S
SUMMARY:Avalanche vs. Arctic Blast
DESCRIPTION:12u Mixed Fall 2024 - Montgomery Girls Sports Association
LOCATION:MGSA Field 9
CATEGORIES:QuickScores, Softball - Fastpitch Game
TRANSP:OPAQUE
BEGIN:VALARM
TRIGGER:-PT2H
ACTION:DISPLAY
DESCRIPTION:Avalanche vs. Arctic Blast
END:VALARM
END:VEVENT
BEGIN:VEVENT
UID:mgsasoftball-64917040-20241028T191500@quickscores.com
DTSTAMP:20260420T003700Z
DTSTART;TZID=America/Chicago:20241028T191500
DURATION:PT1H15M0S
SUMMARY:Bombers vs. Arctic Blast
DESCRIPTION:12u Mixed Fall 2024 - Montgomery Girls Sports Association
LOCATION:MGSA Field 9
CATEGORIES:QuickScores, Softball - Fastpitch Game
TRANSP:OPAQUE
BEGIN:VALARM
TRIGGER:-PT2H
ACTION:DISPLAY
DESCRIPTION:Bombers vs. Arctic Blast
END:VALARM
END:VEVENT
BEGIN:VEVENT
UID:mgsasoftball-64917045-20241029T191500@quickscores.com
DTSTAMP:20260420T003700Z
DTSTART;TZID=America/Chicago:20241029T191500
DURATION:PT1H15M0S
SUMMARY:Thunder vs. Arctic Blast
DESCRIPTION:12u Mixed Fall 2024 - Montgomery Girls Sports Association
LOCATION:MGSA Field 9
CATEGORIES:QuickScores, Softball - Fastpitch Game
TRANSP:OPAQUE
BEGIN:VALARM
TRIGGER:-PT2H
ACTION:DISPLAY
DESCRIPTION:Thunder vs. Arctic Blast
END:VALARM
END:VEVENT
END:VCALENDAR
