BEGIN:VCALENDAR
VERSION:2.0
PRODID:-//QuickScores.com//BQ Dynamic iCal Creator//EN
METHOD:PUBLISH
X-WR-CALNAME:Texas Trouble - Mgsa Spring 2026 - 10u - Spring 2026
X-WR-CALDESC:QuickScores game calendar
X-PUBLISHED-TTL:PT24H
REFRESH-INTERVAL;VALUE=DURATION:PT24H
CALSCALE:GREGORIAN
BEGIN:VTIMEZONE
TZID:America/Chicago
X-LIC-LOCATION:America/Chicago
BEGIN:DAYLIGHT
TZNAME:CDT
TZOFFSETFROM:-0600
TZOFFSETTO:-0500
DTSTART:19700308T020000
RRULE:FREQ=YEARLY;BYMONTH=3;BYDAY=2SU
END:DAYLIGHT
BEGIN:STANDARD
TZNAME:CST
TZOFFSETFROM:-0500
TZOFFSETTO:-0600
DTSTART:19701101T020000
RRULE:FREQ=YEARLY;BYMONTH=11;BYDAY=1SU
END:STANDARD
END:VTIMEZONE
BEGIN:VEVENT
UID:mansfieldgsa-73207606-20260321T103000@quickscores.com
DTSTAMP:20260425T150500Z
DTSTART;TZID=America/Chicago:20260321T103000
DURATION:PT1H0M0S
SUMMARY:Texas Trouble vs. Mansfield Peaches
DESCRIPTION:Mgsa Spring 2026 - 10u - Mansfield Girls Softball Association
LOCATION:McKnight Park - Field 3
CATEGORIES:QuickScores, Softball - Fastpitch Game
TRANSP:OPAQUE
BEGIN:VALARM
TRIGGER:-PT2H
ACTION:DISPLAY
DESCRIPTION:Texas Trouble vs. Mansfield Peaches
END:VALARM
END:VEVENT
BEGIN:VEVENT
UID:mansfieldgsa-73207611-20260328T120000@quickscores.com
DTSTAMP:20260425T150500Z
DTSTART;TZID=America/Chicago:20260328T120000
DURATION:PT1H0M0S
SUMMARY:Texas Trouble vs. Storm
DESCRIPTION:Mgsa Spring 2026 - 10u - Mansfield Girls Softball Association
LOCATION:McKnight Park - Field 3
CATEGORIES:QuickScores, Softball - Fastpitch Game
TRANSP:OPAQUE
BEGIN:VALARM
TRIGGER:-PT2H
ACTION:DISPLAY
DESCRIPTION:Texas Trouble vs. Storm
END:VALARM
END:VEVENT
BEGIN:VEVENT
UID:mansfieldgsa-73207613-20260328T133000@quickscores.com
DTSTAMP:20260425T150500Z
DTSTART;TZID=America/Chicago:20260328T133000
DURATION:PT1H0M0S
SUMMARY:Elite vs. Texas Trouble
DESCRIPTION:Mgsa Spring 2026 - 10u - Mansfield Girls Softball Association
LOCATION:McKnight Park - Field 3
CATEGORIES:QuickScores, Softball - Fastpitch Game
TRANSP:OPAQUE
BEGIN:VALARM
TRIGGER:-PT2H
ACTION:DISPLAY
DESCRIPTION:Elite vs. Texas Trouble
END:VALARM
END:VEVENT
BEGIN:VEVENT
UID:mansfieldgsa-73207633-20260409T180000@quickscores.com
DTSTAMP:20260425T150500Z
DTSTART;TZID=America/Chicago:20260409T180000
DURATION:PT1H0M0S
SUMMARY:Lady Rangers vs. Texas Trouble
DESCRIPTION:Mgsa Spring 2026 - 10u - Mansfield Girls Softball Association
LOCATION:McKnight Park - Field 2
CATEGORIES:QuickScores, Softball - Fastpitch Game
TRANSP:OPAQUE
BEGIN:VALARM
TRIGGER:-PT2H
ACTION:DISPLAY
DESCRIPTION:Lady Rangers vs. Texas Trouble
END:VALARM
END:VEVENT
BEGIN:VEVENT
UID:mansfieldgsa-73207626-20260411T090000@quickscores.com
DTSTAMP:20260425T150500Z
DTSTART;TZID=America/Chicago:20260411T090000
DURATION:PT1H0M0S
SUMMARY:Texas Trouble vs. Diamond Divas
DESCRIPTION:Mgsa Spring 2026 - 10u - Mansfield Girls Softball Association
LOCATION:McKnight Park - Field 2
CATEGORIES:QuickScores, Softball - Fastpitch Game
TRANSP:OPAQUE
BEGIN:VALARM
TRIGGER:-PT2H
ACTION:DISPLAY
DESCRIPTION:Texas Trouble vs. Diamond Divas
END:VALARM
END:VEVENT
BEGIN:VEVENT
UID:mansfieldgsa-73207619-20260414T180000@quickscores.com
DTSTAMP:20260425T150500Z
DTSTART;TZID=America/Chicago:20260414T180000
DURATION:PT1H0M0S
SUMMARY:Bratz with Bats vs. Texas Trouble
DESCRIPTION:Game rescheduled from Thu 4/2/26, 6:00 PM at McKnight Park - Field 3 due to weather --- Mgsa Spring 2026 - 10u - Mansfield Girls Softball Association
LOCATION:McKnight Park - Field 3
CATEGORIES:QuickScores, Softball - Fastpitch Game
TRANSP:OPAQUE
BEGIN:VALARM
TRIGGER:-PT2H
ACTION:DISPLAY
DESCRIPTION:Bratz with Bats vs. Texas Trouble
END:VALARM
END:VEVENT
BEGIN:VEVENT
UID:mansfieldgsa-73207642-20260416T193000@quickscores.com
DTSTAMP:20260425T150500Z
DTSTART;TZID=America/Chicago:20260416T193000
DURATION:PT1H0M0S
SUMMARY:Thunder vs. Texas Trouble
DESCRIPTION:Mgsa Spring 2026 - 10u - Mansfield Girls Softball Association
LOCATION:McKnight Park - Field 3
CATEGORIES:QuickScores, Softball - Fastpitch Game
TRANSP:OPAQUE
BEGIN:VALARM
TRIGGER:-PT2H
ACTION:DISPLAY
DESCRIPTION:Thunder vs. Texas Trouble
END:VALARM
END:VEVENT
BEGIN:VEVENT
UID:mansfieldgsa-73207635-20260422T193000@quickscores.com
DTSTAMP:20260425T150500Z
DTSTART;TZID=America/Chicago:20260422T193000
DURATION:PT1H0M0S
SUMMARY:Texas Trouble vs. Crushers
DESCRIPTION:Rescheduled from 4/18 & 4/21 --- Mgsa Spring 2026 - 10u - Mansfield Girls Softball Association
LOCATION:Fields at Station 63 - Field 02
CATEGORIES:QuickScores, Softball - Fastpitch Game
TRANSP:OPAQUE
BEGIN:VALARM
TRIGGER:-PT2H
ACTION:DISPLAY
DESCRIPTION:Texas Trouble vs. Crushers
END:VALARM
END:VEVENT
END:VCALENDAR
