BEGIN:VCALENDAR
VERSION:2.0
PRODID:-//QuickScores.com//BQ Dynamic iCal Creator//EN
METHOD:PUBLISH
X-WR-CALNAME:Purple - Tball - Spring 2026
X-WR-CALDESC:QuickScores game calendar
X-PUBLISHED-TTL:PT24H
REFRESH-INTERVAL;VALUE=DURATION:PT24H
CALSCALE:GREGORIAN
BEGIN:VTIMEZONE
TZID:America/Chicago
X-LIC-LOCATION:America/Chicago
BEGIN:DAYLIGHT
TZNAME:CDT
TZOFFSETFROM:-0600
TZOFFSETTO:-0500
DTSTART:19700308T020000
RRULE:FREQ=YEARLY;BYMONTH=3;BYDAY=2SU
END:DAYLIGHT
BEGIN:STANDARD
TZNAME:CST
TZOFFSETFROM:-0500
TZOFFSETTO:-0600
DTSTART:19701101T020000
RRULE:FREQ=YEARLY;BYMONTH=11;BYDAY=1SU
END:STANDARD
END:VTIMEZONE
BEGIN:VEVENT
UID:manhattanpd-73617628-20260425T090000@quickscores.com
DTSTAMP:20260425T123200Z
DTSTART;TZID=America/Chicago:20260425T090000
DURATION:PT1H0M0S
SUMMARY:Purple vs. Yellow
DESCRIPTION:Tball - Manhattan Park District
LOCATION:TBall Field 1 - Smith Rd
CATEGORIES:QuickScores, T-Ball Game
TRANSP:OPAQUE
BEGIN:VALARM
TRIGGER:-PT2H
ACTION:DISPLAY
DESCRIPTION:Purple vs. Yellow
END:VALARM
END:VEVENT
BEGIN:VEVENT
UID:manhattanpd-73617632-20260502T090000@quickscores.com
DTSTAMP:20260425T123200Z
DTSTART;TZID=America/Chicago:20260502T090000
DURATION:PT1H0M0S
SUMMARY:Yellow vs. Purple
DESCRIPTION:Tball - Manhattan Park District
LOCATION:TBall Field 1 - Smith Rd
CATEGORIES:QuickScores, T-Ball Game
TRANSP:OPAQUE
BEGIN:VALARM
TRIGGER:-PT2H
ACTION:DISPLAY
DESCRIPTION:Yellow vs. Purple
END:VALARM
END:VEVENT
BEGIN:VEVENT
UID:manhattanpd-73617646-20260509T090000@quickscores.com
DTSTAMP:20260425T123200Z
DTSTART;TZID=America/Chicago:20260509T090000
DURATION:PT1H0M0S
SUMMARY:Purple vs. Yellow
DESCRIPTION:Tball - Manhattan Park District
LOCATION:TBall Field 2 - Smith Rd
CATEGORIES:QuickScores, T-Ball Game
TRANSP:OPAQUE
BEGIN:VALARM
TRIGGER:-PT2H
ACTION:DISPLAY
DESCRIPTION:Purple vs. Yellow
END:VALARM
END:VEVENT
BEGIN:VEVENT
UID:manhattanpd-73617640-20260516T100000@quickscores.com
DTSTAMP:20260425T123200Z
DTSTART;TZID=America/Chicago:20260516T100000
DURATION:PT1H0M0S
SUMMARY:Yellow vs. Purple
DESCRIPTION:Tball - Manhattan Park District
LOCATION:TBall Field 2 - Smith Rd
CATEGORIES:QuickScores, T-Ball Game
TRANSP:OPAQUE
BEGIN:VALARM
TRIGGER:-PT2H
ACTION:DISPLAY
DESCRIPTION:Yellow vs. Purple
END:VALARM
END:VEVENT
BEGIN:VEVENT
UID:manhattanpd-73617635-20260530T100000@quickscores.com
DTSTAMP:20260425T123200Z
DTSTART;TZID=America/Chicago:20260530T100000
DURATION:PT1H0M0S
SUMMARY:Purple vs. Orange
DESCRIPTION:Tball - Manhattan Park District
LOCATION:TBall Field 2 - Smith Rd
CATEGORIES:QuickScores, T-Ball Game
TRANSP:OPAQUE
BEGIN:VALARM
TRIGGER:-PT2H
ACTION:DISPLAY
DESCRIPTION:Purple vs. Orange
END:VALARM
END:VEVENT
BEGIN:VEVENT
UID:manhattanpd-73617642-20260606T090000@quickscores.com
DTSTAMP:20260425T123200Z
DTSTART;TZID=America/Chicago:20260606T090000
DURATION:PT1H0M0S
SUMMARY:Lt Blue vs. Purple
DESCRIPTION:Tball - Manhattan Park District
LOCATION:TBall Field 2 - Smith Rd
CATEGORIES:QuickScores, T-Ball Game
TRANSP:OPAQUE
BEGIN:VALARM
TRIGGER:-PT2H
ACTION:DISPLAY
DESCRIPTION:Lt Blue vs. Purple
END:VALARM
END:VEVENT
BEGIN:VEVENT
UID:manhattanpd-73617630-20260613T090000@quickscores.com
DTSTAMP:20260425T123200Z
DTSTART;TZID=America/Chicago:20260613T090000
DURATION:PT1H0M0S
SUMMARY:Purple vs. Maroon
DESCRIPTION:Tball - Manhattan Park District
LOCATION:TBall Field 2 - Smith Rd
CATEGORIES:QuickScores, T-Ball Game
TRANSP:OPAQUE
BEGIN:VALARM
TRIGGER:-PT2H
ACTION:DISPLAY
DESCRIPTION:Purple vs. Maroon
END:VALARM
END:VEVENT
BEGIN:VEVENT
UID:manhattanpd-73617648-20260620T090000@quickscores.com
DTSTAMP:20260425T123200Z
DTSTART;TZID=America/Chicago:20260620T090000
DURATION:PT1H0M0S
SUMMARY:Navy vs. Purple
DESCRIPTION:Tball - Manhattan Park District
LOCATION:TBall Field 1 - Smith Rd
CATEGORIES:QuickScores, T-Ball Game
TRANSP:OPAQUE
BEGIN:VALARM
TRIGGER:-PT2H
ACTION:DISPLAY
DESCRIPTION:Navy vs. Purple
END:VALARM
END:VEVENT
END:VCALENDAR
