BEGIN:VCALENDAR
VERSION:2.0
PRODID:-//QuickScores.com//BQ Dynamic iCal Creator//EN
METHOD:PUBLISH
X-WR-CALNAME:AM286077 - U7b - Spring 2026
X-WR-CALDESC:QuickScores game calendar
X-PUBLISHED-TTL:PT24H
REFRESH-INTERVAL;VALUE=DURATION:PT24H
CALSCALE:GREGORIAN
BEGIN:VTIMEZONE
TZID:America/New_York
X-LIC-LOCATION:America/New_York
BEGIN:DAYLIGHT
TZNAME:EDT
TZOFFSETFROM:-0500
TZOFFSETTO:-0400
DTSTART:19700308T020000
RRULE:FREQ=YEARLY;BYMONTH=3;BYDAY=2SU
END:DAYLIGHT
BEGIN:STANDARD
TZNAME:EST
TZOFFSETFROM:-0400
TZOFFSETTO:-0500
DTSTART:19701101T020000
RRULE:FREQ=YEARLY;BYMONTH=11;BYDAY=1SU
END:STANDARD
END:VTIMEZONE
BEGIN:VEVENT
UID:loraincountysoccer-73871719-20260425T113000@quickscores.com
DTSTAMP:20260421T165100Z
DTSTART;TZID=America/New_York:20260425T113000
DURATION:PT1H0M0S
SUMMARY:VR533009 vs. AM286077
DESCRIPTION:U7b - Lorain County Soccer League
LOCATION:VR A
CATEGORIES:QuickScores, Soccer - Youth Game
TRANSP:OPAQUE
BEGIN:VALARM
TRIGGER:-PT2H
ACTION:DISPLAY
DESCRIPTION:VR533009 vs. AM286077
END:VALARM
END:VEVENT
BEGIN:VEVENT
UID:loraincountysoccer-73871714-20260428T180000@quickscores.com
DTSTAMP:20260421T165100Z
DTSTART;TZID=America/New_York:20260428T180000
DURATION:PT1H0M0S
SUMMARY:MV039117 vs. AM286077
DESCRIPTION:U7b - Lorain County Soccer League
LOCATION:MVI
CATEGORIES:QuickScores, Soccer - Youth Game
TRANSP:OPAQUE
BEGIN:VALARM
TRIGGER:-PT2H
ACTION:DISPLAY
DESCRIPTION:MV039117 vs. AM286077
END:VALARM
END:VEVENT
BEGIN:VEVENT
UID:loraincountysoccer-73871721-20260502T113000@quickscores.com
DTSTAMP:20260421T165100Z
DTSTART;TZID=America/New_York:20260502T113000
DURATION:PT1H0M0S
SUMMARY:AM286077 vs. OB343417
DESCRIPTION:U7b - Lorain County Soccer League
LOCATION:AM 2
CATEGORIES:QuickScores, Soccer - Youth Game
TRANSP:OPAQUE
BEGIN:VALARM
TRIGGER:-PT2H
ACTION:DISPLAY
DESCRIPTION:AM286077 vs. OB343417
END:VALARM
END:VEVENT
BEGIN:VEVENT
UID:loraincountysoccer-73871728-20260509T113000@quickscores.com
DTSTAMP:20260421T165100Z
DTSTART;TZID=America/New_York:20260509T113000
DURATION:PT1H0M0S
SUMMARY:AM286007 vs. AM286077
DESCRIPTION:U7b - Lorain County Soccer League
LOCATION:AM 1
CATEGORIES:QuickScores, Soccer - Youth Game
TRANSP:OPAQUE
BEGIN:VALARM
TRIGGER:-PT2H
ACTION:DISPLAY
DESCRIPTION:AM286007 vs. AM286077
END:VALARM
END:VEVENT
BEGIN:VEVENT
UID:loraincountysoccer-73871730-20260516T113000@quickscores.com
DTSTAMP:20260421T165100Z
DTSTART;TZID=America/New_York:20260516T113000
DURATION:PT1H0M0S
SUMMARY:AM286077 vs. MV039118
DESCRIPTION:U7b - Lorain County Soccer League
LOCATION:AM 2
CATEGORIES:QuickScores, Soccer - Youth Game
TRANSP:OPAQUE
BEGIN:VALARM
TRIGGER:-PT2H
ACTION:DISPLAY
DESCRIPTION:AM286077 vs. MV039118
END:VALARM
END:VEVENT
BEGIN:VEVENT
UID:loraincountysoccer-73871736-20260523T113000@quickscores.com
DTSTAMP:20260421T165100Z
DTSTART;TZID=America/New_York:20260523T113000
DURATION:PT1H0M0S
SUMMARY:WE287009 vs. AM286077
DESCRIPTION:U7b - Lorain County Soccer League
LOCATION:WE 1
CATEGORIES:QuickScores, Soccer - Youth Game
TRANSP:OPAQUE
BEGIN:VALARM
TRIGGER:-PT2H
ACTION:DISPLAY
DESCRIPTION:WE287009 vs. AM286077
END:VALARM
END:VEVENT
BEGIN:VEVENT
UID:loraincountysoccer-73871739-20260530T113000@quickscores.com
DTSTAMP:20260421T165100Z
DTSTART;TZID=America/New_York:20260530T113000
DURATION:PT1H0M0S
SUMMARY:AM286077 vs. FS229712
DESCRIPTION:U7b - Lorain County Soccer League
LOCATION:AM 2
CATEGORIES:QuickScores, Soccer - Youth Game
TRANSP:OPAQUE
BEGIN:VALARM
TRIGGER:-PT2H
ACTION:DISPLAY
DESCRIPTION:AM286077 vs. FS229712
END:VALARM
END:VEVENT
BEGIN:VEVENT
UID:loraincountysoccer-73871742-20260606T101500@quickscores.com
DTSTAMP:20260421T165100Z
DTSTART;TZID=America/New_York:20260606T101500
DURATION:PT1H0M0S
SUMMARY:AM286077 vs. MV039117
DESCRIPTION:U7b - Lorain County Soccer League
LOCATION:AM 2
CATEGORIES:QuickScores, Soccer - Youth Game
TRANSP:OPAQUE
BEGIN:VALARM
TRIGGER:-PT2H
ACTION:DISPLAY
DESCRIPTION:AM286077 vs. MV039117
END:VALARM
END:VEVENT
END:VCALENDAR
