BEGIN:VCALENDAR
VERSION:2.0
PRODID:-//QuickScores.com//BQ Dynamic iCal Creator//EN
METHOD:PUBLISH
X-WR-CALNAME:LA123007 - U7a - Spring 2026
X-WR-CALDESC:QuickScores game calendar
X-PUBLISHED-TTL:PT24H
REFRESH-INTERVAL;VALUE=DURATION:PT24H
CALSCALE:GREGORIAN
BEGIN:VTIMEZONE
TZID:America/New_York
X-LIC-LOCATION:America/New_York
BEGIN:DAYLIGHT
TZNAME:EDT
TZOFFSETFROM:-0500
TZOFFSETTO:-0400
DTSTART:19700308T020000
RRULE:FREQ=YEARLY;BYMONTH=3;BYDAY=2SU
END:DAYLIGHT
BEGIN:STANDARD
TZNAME:EST
TZOFFSETFROM:-0400
TZOFFSETTO:-0500
DTSTART:19701101T020000
RRULE:FREQ=YEARLY;BYMONTH=11;BYDAY=1SU
END:STANDARD
END:VTIMEZONE
BEGIN:VEVENT
UID:loraincountysoccer-73873354-20260425T101500@quickscores.com
DTSTAMP:20260425T081000Z
DTSTART;TZID=America/New_York:20260425T101500
DURATION:PT1H0M0S
SUMMARY:EL/OD209 vs. LA123007
DESCRIPTION:U7a - Lorain County Soccer League
LOCATION:EF3
CATEGORIES:QuickScores, Soccer - Youth Game
TRANSP:OPAQUE
BEGIN:VALARM
TRIGGER:-PT2H
ACTION:DISPLAY
DESCRIPTION:EL/OD209 vs. LA123007
END:VALARM
END:VEVENT
BEGIN:VEVENT
UID:loraincountysoccer-73873358-20260502T101500@quickscores.com
DTSTAMP:20260425T081000Z
DTSTART;TZID=America/New_York:20260502T101500
DURATION:PT1H0M0S
SUMMARY:LA123007 vs. VR533008
DESCRIPTION:U7a - Lorain County Soccer League
LOCATION:LA 1
CATEGORIES:QuickScores, Soccer - Youth Game
TRANSP:OPAQUE
BEGIN:VALARM
TRIGGER:-PT2H
ACTION:DISPLAY
DESCRIPTION:LA123007 vs. VR533008
END:VALARM
END:VEVENT
BEGIN:VEVENT
UID:loraincountysoccer-73873363-20260509T101500@quickscores.com
DTSTAMP:20260425T081000Z
DTSTART;TZID=America/New_York:20260509T101500
DURATION:PT1H0M0S
SUMMARY:LO330708 vs. LA123007
DESCRIPTION:U7a - Lorain County Soccer League
LOCATION:LO 1
CATEGORIES:QuickScores, Soccer - Youth Game
TRANSP:OPAQUE
BEGIN:VALARM
TRIGGER:-PT2H
ACTION:DISPLAY
DESCRIPTION:LO330708 vs. LA123007
END:VALARM
END:VEVENT
BEGIN:VEVENT
UID:loraincountysoccer-73873367-20260516T101500@quickscores.com
DTSTAMP:20260425T081000Z
DTSTART;TZID=America/New_York:20260516T101500
DURATION:PT1H0M0S
SUMMARY:LA123007 vs. EL/OD222
DESCRIPTION:U7a - Lorain County Soccer League
LOCATION:LA 1
CATEGORIES:QuickScores, Soccer - Youth Game
TRANSP:OPAQUE
BEGIN:VALARM
TRIGGER:-PT2H
ACTION:DISPLAY
DESCRIPTION:LA123007 vs. EL/OD222
END:VALARM
END:VEVENT
BEGIN:VEVENT
UID:loraincountysoccer-73873382-20260519T181500@quickscores.com
DTSTAMP:20260425T081000Z
DTSTART;TZID=America/New_York:20260519T181500
DURATION:PT1H0M0S
SUMMARY:LA123007 vs. EL/OD209
DESCRIPTION:U7a - Lorain County Soccer League
LOCATION:LA 1
CATEGORIES:QuickScores, Soccer - Youth Game
TRANSP:OPAQUE
BEGIN:VALARM
TRIGGER:-PT2H
ACTION:DISPLAY
DESCRIPTION:LA123007 vs. EL/OD209
END:VALARM
END:VEVENT
BEGIN:VEVENT
UID:loraincountysoccer-73873372-20260523T101500@quickscores.com
DTSTAMP:20260425T081000Z
DTSTART;TZID=America/New_York:20260523T101500
DURATION:PT1H0M0S
SUMMARY:FS229701 vs. LA123007
DESCRIPTION:U7a - Lorain County Soccer League
LOCATION:FS 1
CATEGORIES:QuickScores, Soccer - Youth Game
TRANSP:OPAQUE
BEGIN:VALARM
TRIGGER:-PT2H
ACTION:DISPLAY
DESCRIPTION:FS229701 vs. LA123007
END:VALARM
END:VEVENT
BEGIN:VEVENT
UID:loraincountysoccer-73873386-20260526T181500@quickscores.com
DTSTAMP:20260425T081000Z
DTSTART;TZID=America/New_York:20260526T181500
DURATION:PT1H0M0S
SUMMARY:WE287007 vs. LA123007
DESCRIPTION:U7a - Lorain County Soccer League
LOCATION:WE 1
CATEGORIES:QuickScores, Soccer - Youth Game
TRANSP:OPAQUE
BEGIN:VALARM
TRIGGER:-PT2H
ACTION:DISPLAY
DESCRIPTION:WE287007 vs. LA123007
END:VALARM
END:VEVENT
BEGIN:VEVENT
UID:loraincountysoccer-73873376-20260530T101500@quickscores.com
DTSTAMP:20260425T081000Z
DTSTART;TZID=America/New_York:20260530T101500
DURATION:PT1H0M0S
SUMMARY:LA123007 vs. WE287007
DESCRIPTION:U7a - Lorain County Soccer League
LOCATION:LA 1
CATEGORIES:QuickScores, Soccer - Youth Game
TRANSP:OPAQUE
BEGIN:VALARM
TRIGGER:-PT2H
ACTION:DISPLAY
DESCRIPTION:LA123007 vs. WE287007
END:VALARM
END:VEVENT
END:VCALENDAR
