BEGIN:VCALENDAR
VERSION:2.0
PRODID:-//QuickScores.com//BQ Dynamic iCal Creator//EN
METHOD:PUBLISH
X-WR-CALNAME:AM286714 - U12b - Spring 2026
X-WR-CALDESC:QuickScores game calendar
X-PUBLISHED-TTL:PT24H
REFRESH-INTERVAL;VALUE=DURATION:PT24H
CALSCALE:GREGORIAN
BEGIN:VTIMEZONE
TZID:America/New_York
X-LIC-LOCATION:America/New_York
BEGIN:DAYLIGHT
TZNAME:EDT
TZOFFSETFROM:-0500
TZOFFSETTO:-0400
DTSTART:19700308T020000
RRULE:FREQ=YEARLY;BYMONTH=3;BYDAY=2SU
END:DAYLIGHT
BEGIN:STANDARD
TZNAME:EST
TZOFFSETFROM:-0400
TZOFFSETTO:-0500
DTSTART:19701101T020000
RRULE:FREQ=YEARLY;BYMONTH=11;BYDAY=1SU
END:STANDARD
END:VTIMEZONE
BEGIN:VEVENT
UID:loraincountysoccer-73873611-20260418@quickscores.com
DTSTAMP:20260419T095800Z
DTSTART;TZID=America/New_York:20260418
SUMMARY:AM286714 vs. EL317212
DESCRIPTION:Cancelled/ --- U12b - Lorain County Soccer League
LOCATION:AM 8 BEAVER CREEK
CATEGORIES:QuickScores, Soccer - Youth Game
TRANSP:OPAQUE
BEGIN:VALARM
TRIGGER:-PT2H
ACTION:DISPLAY
DESCRIPTION:AM286714 vs. EL317212
END:VALARM
END:VEVENT
BEGIN:VEVENT
UID:loraincountysoccer-73873614-20260425T103000@quickscores.com
DTSTAMP:20260419T095800Z
DTSTART;TZID=America/New_York:20260425T103000
DURATION:PT1H0M0S
SUMMARY:AM286714 vs. VR533402
DESCRIPTION:U12b - Lorain County Soccer League
LOCATION:AM 8 BEAVER CREEK
CATEGORIES:QuickScores, Soccer - Youth Game
TRANSP:OPAQUE
BEGIN:VALARM
TRIGGER:-PT2H
ACTION:DISPLAY
DESCRIPTION:AM286714 vs. VR533402
END:VALARM
END:VEVENT
BEGIN:VEVENT
UID:loraincountysoccer-73873619-20260502T090000@quickscores.com
DTSTAMP:20260419T095800Z
DTSTART;TZID=America/New_York:20260502T090000
DURATION:PT1H0M0S
SUMMARY:AM286714 vs. EL317122
DESCRIPTION:U12b - Lorain County Soccer League
LOCATION:AM 8 BEAVER CREEK
CATEGORIES:QuickScores, Soccer - Youth Game
TRANSP:OPAQUE
BEGIN:VALARM
TRIGGER:-PT2H
ACTION:DISPLAY
DESCRIPTION:AM286714 vs. EL317122
END:VALARM
END:VEVENT
BEGIN:VEVENT
UID:loraincountysoccer-73873621-20260509T103000@quickscores.com
DTSTAMP:20260419T095800Z
DTSTART;TZID=America/New_York:20260509T103000
DURATION:PT1H0M0S
SUMMARY:AM286714 vs. Mv039418
DESCRIPTION:U12b - Lorain County Soccer League
LOCATION:AM 8 BEAVER CREEK
CATEGORIES:QuickScores, Soccer - Youth Game
TRANSP:OPAQUE
BEGIN:VALARM
TRIGGER:-PT2H
ACTION:DISPLAY
DESCRIPTION:AM286714 vs. Mv039418
END:VALARM
END:VEVENT
BEGIN:VEVENT
UID:loraincountysoccer-73873626-20260516T090000@quickscores.com
DTSTAMP:20260419T095800Z
DTSTART;TZID=America/New_York:20260516T090000
DURATION:PT1H0M0S
SUMMARY:WE287128 vs. AM286714
DESCRIPTION:U12b - Lorain County Soccer League
LOCATION:WE4
CATEGORIES:QuickScores, Soccer - Youth Game
TRANSP:OPAQUE
BEGIN:VALARM
TRIGGER:-PT2H
ACTION:DISPLAY
DESCRIPTION:WE287128 vs. AM286714
END:VALARM
END:VEVENT
BEGIN:VEVENT
UID:loraincountysoccer-73873642-20260519T181500@quickscores.com
DTSTAMP:20260419T095800Z
DTSTART;TZID=America/New_York:20260519T181500
DURATION:PT1H0M0S
SUMMARY:VR533402 vs. AM286714
DESCRIPTION:U12b - Lorain County Soccer League
LOCATION:VRF
CATEGORIES:QuickScores, Soccer - Youth Game
TRANSP:OPAQUE
BEGIN:VALARM
TRIGGER:-PT2H
ACTION:DISPLAY
DESCRIPTION:VR533402 vs. AM286714
END:VALARM
END:VEVENT
BEGIN:VEVENT
UID:loraincountysoccer-73873633-20260530T090000@quickscores.com
DTSTAMP:20260419T095800Z
DTSTART;TZID=America/New_York:20260530T090000
DURATION:PT1H0M0S
SUMMARY:FS229801 vs. AM286714
DESCRIPTION:U12b - Lorain County Soccer League
LOCATION:FS7 U11/12
CATEGORIES:QuickScores, Soccer - Youth Game
TRANSP:OPAQUE
BEGIN:VALARM
TRIGGER:-PT2H
ACTION:DISPLAY
DESCRIPTION:FS229801 vs. AM286714
END:VALARM
END:VEVENT
BEGIN:VEVENT
UID:loraincountysoccer-73873639-20260606T090000@quickscores.com
DTSTAMP:20260419T095800Z
DTSTART;TZID=America/New_York:20260606T090000
DURATION:PT1H0M0S
SUMMARY:EL317212 vs. AM286714
DESCRIPTION:U12b - Lorain County Soccer League
LOCATION:EF2
CATEGORIES:QuickScores, Soccer - Youth Game
TRANSP:OPAQUE
BEGIN:VALARM
TRIGGER:-PT2H
ACTION:DISPLAY
DESCRIPTION:EL317212 vs. AM286714
END:VALARM
END:VEVENT
END:VCALENDAR
