BEGIN:VCALENDAR
VERSION:2.0
PRODID:-//QuickScores.com//BQ Dynamic iCal Creator//EN
METHOD:PUBLISH
X-WR-CALNAME:Rising Starts FC - Men&rsquo;s 5 - April-May 2026 Sundays
X-WR-CALDESC:QuickScores game calendar
X-PUBLISHED-TTL:PT24H
REFRESH-INTERVAL;VALUE=DURATION:PT24H
CALSCALE:GREGORIAN
BEGIN:VTIMEZONE
TZID:America/Chicago
X-LIC-LOCATION:America/Chicago
BEGIN:DAYLIGHT
TZNAME:CDT
TZOFFSETFROM:-0600
TZOFFSETTO:-0500
DTSTART:19700308T020000
RRULE:FREQ=YEARLY;BYMONTH=3;BYDAY=2SU
END:DAYLIGHT
BEGIN:STANDARD
TZNAME:CST
TZOFFSETFROM:-0500
TZOFFSETTO:-0600
DTSTART:19701101T020000
RRULE:FREQ=YEARLY;BYMONTH=11;BYDAY=1SU
END:STANDARD
END:VTIMEZONE
BEGIN:VEVENT
UID:lnal-74331036-20260412T150000@quickscores.com
DTSTAMP:20260425T091500Z
DTSTART;TZID=America/Chicago:20260412T150000
DURATION:PT0H50M0S
SUMMARY:Vertiv vs. Rising Starts FC
DESCRIPTION:Men’s 5 - Lincoln NE Adult League
LOCATION:South
CATEGORIES:QuickScores, Soccer - Adult Game
TRANSP:OPAQUE
BEGIN:VALARM
TRIGGER:-PT2H
ACTION:DISPLAY
DESCRIPTION:Vertiv vs. Rising Starts FC
END:VALARM
END:VEVENT
BEGIN:VEVENT
UID:lnal-74331040-20260419T150000@quickscores.com
DTSTAMP:20260425T091500Z
DTSTART;TZID=America/Chicago:20260419T150000
DURATION:PT0H50M0S
SUMMARY:BHK Shooters vs. Rising Starts FC
DESCRIPTION:Men’s 5 - Lincoln NE Adult League
LOCATION:South
CATEGORIES:QuickScores, Soccer - Adult Game
TRANSP:OPAQUE
BEGIN:VALARM
TRIGGER:-PT2H
ACTION:DISPLAY
DESCRIPTION:BHK Shooters vs. Rising Starts FC
END:VALARM
END:VEVENT
BEGIN:VEVENT
UID:lnal-74331046-20260426T150000@quickscores.com
DTSTAMP:20260425T091500Z
DTSTART;TZID=America/Chicago:20260426T150000
DURATION:PT0H50M0S
SUMMARY:Rising Starts FC vs. Epoxy FC
DESCRIPTION:Men’s 5 - Lincoln NE Adult League
LOCATION:North
CATEGORIES:QuickScores, Soccer - Adult Game
TRANSP:OPAQUE
BEGIN:VALARM
TRIGGER:-PT2H
ACTION:DISPLAY
DESCRIPTION:Rising Starts FC vs. Epoxy FC
END:VALARM
END:VEVENT
BEGIN:VEVENT
UID:lnal-74331051-20260503T150000@quickscores.com
DTSTAMP:20260425T091500Z
DTSTART;TZID=America/Chicago:20260503T150000
DURATION:PT0H50M0S
SUMMARY:Cripple Buffaloes vs. Rising Starts FC
DESCRIPTION:Men’s 5 - Lincoln NE Adult League
LOCATION:South
CATEGORIES:QuickScores, Soccer - Adult Game
TRANSP:OPAQUE
BEGIN:VALARM
TRIGGER:-PT2H
ACTION:DISPLAY
DESCRIPTION:Cripple Buffaloes vs. Rising Starts FC
END:VALARM
END:VEVENT
END:VCALENDAR
