BEGIN:VCALENDAR
VERSION:2.0
PRODID:-//QuickScores.com//BQ Dynamic iCal Creator//EN
METHOD:PUBLISH
X-WR-CALNAME:Olak FC 2 - Men&rsquo;s 3 - April-May 2026 Sundays
X-WR-CALDESC:QuickScores game calendar
X-PUBLISHED-TTL:PT24H
REFRESH-INTERVAL;VALUE=DURATION:PT24H
CALSCALE:GREGORIAN
BEGIN:VTIMEZONE
TZID:America/Chicago
X-LIC-LOCATION:America/Chicago
BEGIN:DAYLIGHT
TZNAME:CDT
TZOFFSETFROM:-0600
TZOFFSETTO:-0500
DTSTART:19700308T020000
RRULE:FREQ=YEARLY;BYMONTH=3;BYDAY=2SU
END:DAYLIGHT
BEGIN:STANDARD
TZNAME:CST
TZOFFSETFROM:-0500
TZOFFSETTO:-0600
DTSTART:19701101T020000
RRULE:FREQ=YEARLY;BYMONTH=11;BYDAY=1SU
END:STANDARD
END:VTIMEZONE
BEGIN:VEVENT
UID:lnal-74327220-20260412T191000@quickscores.com
DTSTAMP:20260420T070600Z
DTSTART;TZID=America/Chicago:20260412T191000
DURATION:PT0H50M0S
SUMMARY:Team 11 vs. Olak FC 2
DESCRIPTION:Men’s 3 - Lincoln NE Adult League
LOCATION:South
CATEGORIES:QuickScores, Soccer - Adult Game
TRANSP:OPAQUE
BEGIN:VALARM
TRIGGER:-PT2H
ACTION:DISPLAY
DESCRIPTION:Team 11 vs. Olak FC 2
END:VALARM
END:VEVENT
BEGIN:VEVENT
UID:lnal-74327213-20260419T191000@quickscores.com
DTSTAMP:20260420T070600Z
DTSTART;TZID=America/Chicago:20260419T191000
DURATION:PT0H50M0S
SUMMARY:FC Cevapi vs. Olak FC 2
DESCRIPTION:Men’s 3 - Lincoln NE Adult League
LOCATION:North
CATEGORIES:QuickScores, Soccer - Adult Game
TRANSP:OPAQUE
BEGIN:VALARM
TRIGGER:-PT2H
ACTION:DISPLAY
DESCRIPTION:FC Cevapi vs. Olak FC 2
END:VALARM
END:VEVENT
BEGIN:VEVENT
UID:lnal-74327217-20260426T191000@quickscores.com
DTSTAMP:20260420T070600Z
DTSTART;TZID=America/Chicago:20260426T191000
DURATION:PT0H50M0S
SUMMARY:Olak FC 2 vs. Berklee's Boys
DESCRIPTION:Men’s 3 - Lincoln NE Adult League
LOCATION:South
CATEGORIES:QuickScores, Soccer - Adult Game
TRANSP:OPAQUE
BEGIN:VALARM
TRIGGER:-PT2H
ACTION:DISPLAY
DESCRIPTION:Olak FC 2 vs. Berklee's Boys
END:VALARM
END:VEVENT
BEGIN:VEVENT
UID:lnal-74331697-20260503T182000@quickscores.com
DTSTAMP:20260420T070600Z
DTSTART;TZID=America/Chicago:20260503T182000
DURATION:PT0H50M0S
SUMMARY:NWA vs. Olak FC 2
DESCRIPTION:Men’s 3 - Lincoln NE Adult League
LOCATION:South
CATEGORIES:QuickScores, Soccer - Adult Game
TRANSP:OPAQUE
BEGIN:VALARM
TRIGGER:-PT2H
ACTION:DISPLAY
DESCRIPTION:NWA vs. Olak FC 2
END:VALARM
END:VEVENT
END:VCALENDAR
