BEGIN:VCALENDAR
VERSION:2.0
PRODID:-//QuickScores.com//BQ Dynamic iCal Creator//EN
METHOD:PUBLISH
X-WR-CALNAME:Hexagon Agility - Coed 1 Wednesday - March-April 2026 Weeknights
X-WR-CALDESC:QuickScores game calendar
X-PUBLISHED-TTL:PT24H
REFRESH-INTERVAL;VALUE=DURATION:PT24H
CALSCALE:GREGORIAN
BEGIN:VTIMEZONE
TZID:America/Chicago
X-LIC-LOCATION:America/Chicago
BEGIN:DAYLIGHT
TZNAME:CDT
TZOFFSETFROM:-0600
TZOFFSETTO:-0500
DTSTART:19700308T020000
RRULE:FREQ=YEARLY;BYMONTH=3;BYDAY=2SU
END:DAYLIGHT
BEGIN:STANDARD
TZNAME:CST
TZOFFSETFROM:-0500
TZOFFSETTO:-0600
DTSTART:19701101T020000
RRULE:FREQ=YEARLY;BYMONTH=11;BYDAY=1SU
END:STANDARD
END:VTIMEZONE
BEGIN:VEVENT
UID:lnal-73398700-20260304T213000@quickscores.com
DTSTAMP:20260423T122700Z
DTSTART;TZID=America/Chicago:20260304T213000
DURATION:PT0H55M0S
SUMMARY:Ya Basic vs. Hexagon Agility
DESCRIPTION:Coed 1 Wednesday - Lincoln NE Adult League
LOCATION:South
CATEGORIES:QuickScores, Soccer - Adult Game
TRANSP:OPAQUE
BEGIN:VALARM
TRIGGER:-PT2H
ACTION:DISPLAY
DESCRIPTION:Ya Basic vs. Hexagon Agility
END:VALARM
END:VEVENT
BEGIN:VEVENT
UID:lnal-73398708-20260311T211000@quickscores.com
DTSTAMP:20260423T122700Z
DTSTART;TZID=America/Chicago:20260311T211000
DURATION:PT0H55M0S
SUMMARY:Hexagon Agility vs. Bears With Chainsaws
DESCRIPTION:Coed 1 Wednesday - Lincoln NE Adult League
LOCATION:South
CATEGORIES:QuickScores, Soccer - Adult Game
TRANSP:OPAQUE
BEGIN:VALARM
TRIGGER:-PT2H
ACTION:DISPLAY
DESCRIPTION:Hexagon Agility vs. Bears With Chainsaws
END:VALARM
END:VEVENT
BEGIN:VEVENT
UID:lnal-73398705-20260318T203500@quickscores.com
DTSTAMP:20260423T122700Z
DTSTART;TZID=America/Chicago:20260318T203500
DURATION:PT0H55M0S
SUMMARY:Nishtobdhota vs. Hexagon Agility
DESCRIPTION:Coed 1 Wednesday - Lincoln NE Adult League
LOCATION:South
CATEGORIES:QuickScores, Soccer - Adult Game
TRANSP:OPAQUE
BEGIN:VALARM
TRIGGER:-PT2H
ACTION:DISPLAY
DESCRIPTION:Nishtobdhota vs. Hexagon Agility
END:VALARM
END:VEVENT
BEGIN:VEVENT
UID:lnal-73398703-20260401T203500@quickscores.com
DTSTAMP:20260423T122700Z
DTSTART;TZID=America/Chicago:20260401T203500
DURATION:PT0H55M0S
SUMMARY:Hexagon Agility vs. Olak FC
DESCRIPTION:Coed 1 Wednesday - Lincoln NE Adult League
LOCATION:South
CATEGORIES:QuickScores, Soccer - Adult Game
TRANSP:OPAQUE
BEGIN:VALARM
TRIGGER:-PT2H
ACTION:DISPLAY
DESCRIPTION:Hexagon Agility vs. Olak FC
END:VALARM
END:VEVENT
BEGIN:VEVENT
UID:lnal-74379945-20260415T210000@quickscores.com
DTSTAMP:20260423T122700Z
DTSTART;TZID=America/Chicago:20260415T210000
DURATION:PT0H55M0S
SUMMARY:Hexagon Agility vs. Olak FC
DESCRIPTION:semifinal 2 vs 3, Hex 5-4 --- Coed 1 Wednesday - Lincoln NE Adult League
LOCATION:South
CATEGORIES:QuickScores, Soccer - Adult Game
TRANSP:OPAQUE
BEGIN:VALARM
TRIGGER:-PT2H
ACTION:DISPLAY
DESCRIPTION:Hexagon Agility vs. Olak FC
END:VALARM
END:VEVENT
BEGIN:VEVENT
UID:lnal-74573210-20260422T213000@quickscores.com
DTSTAMP:20260423T122700Z
DTSTART;TZID=America/Chicago:20260422T213000
DURATION:PT0H55M0S
SUMMARY:Ya Basic vs. Hexagon Agility
DESCRIPTION:final --- Coed 1 Wednesday - Lincoln NE Adult League
LOCATION:South
CATEGORIES:QuickScores, Soccer - Adult Game
TRANSP:OPAQUE
BEGIN:VALARM
TRIGGER:-PT2H
ACTION:DISPLAY
DESCRIPTION:Ya Basic vs. Hexagon Agility
END:VALARM
END:VEVENT
END:VCALENDAR
