BEGIN:VCALENDAR
VERSION:2.0
PRODID:-//QuickScores.com//BQ Dynamic iCal Creator//EN
METHOD:PUBLISH
X-WR-CALNAME:Giants - Fox [7th-9th Grade] Softball - Spring 2026
X-WR-CALDESC:QuickScores game calendar
X-PUBLISHED-TTL:PT24H
REFRESH-INTERVAL;VALUE=DURATION:PT24H
CALSCALE:GREGORIAN
BEGIN:VTIMEZONE
TZID:America/Denver
X-LIC-LOCATION:America/Denver
BEGIN:DAYLIGHT
TZNAME:MDT
TZOFFSETFROM:-0700
TZOFFSETTO:-0600
DTSTART:19700308T020000
RRULE:FREQ=YEARLY;BYMONTH=3;BYDAY=2SU
END:DAYLIGHT
BEGIN:STANDARD
TZNAME:MST
TZOFFSETFROM:-0600
TZOFFSETTO:-0700
DTSTART:19701101T020000
RRULE:FREQ=YEARLY;BYMONTH=11;BYDAY=1SU
END:STANDARD
END:VTIMEZONE
BEGIN:VEVENT
UID:lehi-ut-74199939-20260422T200000@quickscores.com
DTSTAMP:20260425T213000Z
DTSTART;TZID=America/Denver:20260422T200000
DURATION:PT1H0M0S
SUMMARY:Giants vs. Athletics
DESCRIPTION:Fox [7th-9th Grade] Softball - www.lehi-ut.gov
LOCATION:Sports Complex North Softball Field
CATEGORIES:QuickScores, Softball - Fastpitch Game
TRANSP:OPAQUE
BEGIN:VALARM
TRIGGER:-PT2H
ACTION:DISPLAY
DESCRIPTION:Giants vs. Athletics
END:VALARM
END:VEVENT
BEGIN:VEVENT
UID:lehi-ut-74199944-20260423T200000@quickscores.com
DTSTAMP:20260425T213000Z
DTSTART;TZID=America/Denver:20260423T200000
DURATION:PT1H0M0S
SUMMARY:Giants vs. Diamondbacks
DESCRIPTION:Fox [7th-9th Grade] Softball - www.lehi-ut.gov
LOCATION:Sports Complex North Softball Field
CATEGORIES:QuickScores, Softball - Fastpitch Game
TRANSP:OPAQUE
BEGIN:VALARM
TRIGGER:-PT2H
ACTION:DISPLAY
DESCRIPTION:Giants vs. Diamondbacks
END:VALARM
END:VEVENT
BEGIN:VEVENT
UID:lehi-ut-74199947-20260427T200000@quickscores.com
DTSTAMP:20260425T213000Z
DTSTART;TZID=America/Denver:20260427T200000
DURATION:PT1H0M0S
SUMMARY:Giants vs. Rockies
DESCRIPTION:Fox [7th-9th Grade] Softball - www.lehi-ut.gov
LOCATION:Sports Complex North Softball Field
CATEGORIES:QuickScores, Softball - Fastpitch Game
TRANSP:OPAQUE
BEGIN:VALARM
TRIGGER:-PT2H
ACTION:DISPLAY
DESCRIPTION:Giants vs. Rockies
END:VALARM
END:VEVENT
BEGIN:VEVENT
UID:lehi-ut-74199952-20260429T183000@quickscores.com
DTSTAMP:20260425T213000Z
DTSTART;TZID=America/Denver:20260429T183000
DURATION:PT1H0M0S
SUMMARY:Giants vs. White Sox
DESCRIPTION:Fox [7th-9th Grade] Softball - www.lehi-ut.gov
LOCATION:Sports Complex North Softball Field
CATEGORIES:QuickScores, Softball - Fastpitch Game
TRANSP:OPAQUE
BEGIN:VALARM
TRIGGER:-PT2H
ACTION:DISPLAY
DESCRIPTION:Giants vs. White Sox
END:VALARM
END:VEVENT
BEGIN:VEVENT
UID:lehi-ut-74199956-20260504T200000@quickscores.com
DTSTAMP:20260425T213000Z
DTSTART;TZID=America/Denver:20260504T200000
DURATION:PT1H0M0S
SUMMARY:Pirates vs. Giants
DESCRIPTION:Fox [7th-9th Grade] Softball - www.lehi-ut.gov
LOCATION:Sports Complex North Softball Field
CATEGORIES:QuickScores, Softball - Fastpitch Game
TRANSP:OPAQUE
BEGIN:VALARM
TRIGGER:-PT2H
ACTION:DISPLAY
DESCRIPTION:Pirates vs. Giants
END:VALARM
END:VEVENT
BEGIN:VEVENT
UID:lehi-ut-74199960-20260507T183000@quickscores.com
DTSTAMP:20260425T213000Z
DTSTART;TZID=America/Denver:20260507T183000
DURATION:PT1H0M0S
SUMMARY:Giants vs. Rangers
DESCRIPTION:Fox [7th-9th Grade] Softball - www.lehi-ut.gov
LOCATION:Sports Complex North Softball Field
CATEGORIES:QuickScores, Softball - Fastpitch Game
TRANSP:OPAQUE
BEGIN:VALARM
TRIGGER:-PT2H
ACTION:DISPLAY
DESCRIPTION:Giants vs. Rangers
END:VALARM
END:VEVENT
BEGIN:VEVENT
UID:lehi-ut-74199963-20260511T183000@quickscores.com
DTSTAMP:20260425T213000Z
DTSTART;TZID=America/Denver:20260511T183000
DURATION:PT1H0M0S
SUMMARY:Reds vs. Giants
DESCRIPTION:Fox [7th-9th Grade] Softball - www.lehi-ut.gov
LOCATION:Sports Complex North Softball Field
CATEGORIES:QuickScores, Softball - Fastpitch Game
TRANSP:OPAQUE
BEGIN:VALARM
TRIGGER:-PT2H
ACTION:DISPLAY
DESCRIPTION:Reds vs. Giants
END:VALARM
END:VEVENT
BEGIN:VEVENT
UID:lehi-ut-74199967-20260514T170000@quickscores.com
DTSTAMP:20260425T213000Z
DTSTART;TZID=America/Denver:20260514T170000
DURATION:PT1H0M0S
SUMMARY:Athletics vs. Giants
DESCRIPTION:Fox [7th-9th Grade] Softball - www.lehi-ut.gov
LOCATION:Sports Complex North Softball Field
CATEGORIES:QuickScores, Softball - Fastpitch Game
TRANSP:OPAQUE
BEGIN:VALARM
TRIGGER:-PT2H
ACTION:DISPLAY
DESCRIPTION:Athletics vs. Giants
END:VALARM
END:VEVENT
BEGIN:VEVENT
UID:lehi-ut-74199972-20260518T183000@quickscores.com
DTSTAMP:20260425T213000Z
DTSTART;TZID=America/Denver:20260518T183000
DURATION:PT1H0M0S
SUMMARY:Diamondbacks vs. Giants
DESCRIPTION:Fox [7th-9th Grade] Softball - www.lehi-ut.gov
LOCATION:Sports Complex North Softball Field
CATEGORIES:QuickScores, Softball - Fastpitch Game
TRANSP:OPAQUE
BEGIN:VALARM
TRIGGER:-PT2H
ACTION:DISPLAY
DESCRIPTION:Diamondbacks vs. Giants
END:VALARM
END:VEVENT
BEGIN:VEVENT
UID:lehi-ut-74199976-20260527T170000@quickscores.com
DTSTAMP:20260425T213000Z
DTSTART;TZID=America/Denver:20260527T170000
DURATION:PT1H0M0S
SUMMARY:White Sox vs. Giants
DESCRIPTION:Fox [7th-9th Grade] Softball - www.lehi-ut.gov
LOCATION:Sports Complex North Softball Field
CATEGORIES:QuickScores, Softball - Fastpitch Game
TRANSP:OPAQUE
BEGIN:VALARM
TRIGGER:-PT2H
ACTION:DISPLAY
DESCRIPTION:White Sox vs. Giants
END:VALARM
END:VEVENT
END:VCALENDAR
