BEGIN:VCALENDAR
VERSION:2.0
PRODID:-//QuickScores.com//BQ Dynamic iCal Creator//EN
METHOD:PUBLISH
X-WR-CALNAME:Rockies - Fox [7th-9th Grade] Softball - Spring 2026
X-WR-CALDESC:QuickScores game calendar
X-PUBLISHED-TTL:PT24H
REFRESH-INTERVAL;VALUE=DURATION:PT24H
CALSCALE:GREGORIAN
BEGIN:VTIMEZONE
TZID:America/Denver
X-LIC-LOCATION:America/Denver
BEGIN:DAYLIGHT
TZNAME:MDT
TZOFFSETFROM:-0700
TZOFFSETTO:-0600
DTSTART:19700308T020000
RRULE:FREQ=YEARLY;BYMONTH=3;BYDAY=2SU
END:DAYLIGHT
BEGIN:STANDARD
TZNAME:MST
TZOFFSETFROM:-0600
TZOFFSETTO:-0700
DTSTART:19701101T020000
RRULE:FREQ=YEARLY;BYMONTH=11;BYDAY=1SU
END:STANDARD
END:VTIMEZONE
BEGIN:VEVENT
UID:lehi-ut-74199943-20260420T183000@quickscores.com
DTSTAMP:20260425T213100Z
DTSTART;TZID=America/Denver:20260420T183000
DURATION:PT1H0M0S
SUMMARY:Rockies vs. Pirates
DESCRIPTION:Fox [7th-9th Grade] Softball - www.lehi-ut.gov
LOCATION:Sports Complex North Softball Field
CATEGORIES:QuickScores, Softball - Fastpitch Game
TRANSP:OPAQUE
BEGIN:VALARM
TRIGGER:-PT2H
ACTION:DISPLAY
DESCRIPTION:Rockies vs. Pirates
END:VALARM
END:VEVENT
BEGIN:VEVENT
UID:lehi-ut-74199937-20260422T183000@quickscores.com
DTSTAMP:20260425T213100Z
DTSTART;TZID=America/Denver:20260422T183000
DURATION:PT1H0M0S
SUMMARY:Rockies vs. Diamondbacks
DESCRIPTION:Fox [7th-9th Grade] Softball - www.lehi-ut.gov
LOCATION:Sports Complex North Softball Field
CATEGORIES:QuickScores, Softball - Fastpitch Game
TRANSP:OPAQUE
BEGIN:VALARM
TRIGGER:-PT2H
ACTION:DISPLAY
DESCRIPTION:Rockies vs. Diamondbacks
END:VALARM
END:VEVENT
BEGIN:VEVENT
UID:lehi-ut-74199947-20260427T200000@quickscores.com
DTSTAMP:20260425T213100Z
DTSTART;TZID=America/Denver:20260427T200000
DURATION:PT1H0M0S
SUMMARY:Giants vs. Rockies
DESCRIPTION:Fox [7th-9th Grade] Softball - www.lehi-ut.gov
LOCATION:Sports Complex North Softball Field
CATEGORIES:QuickScores, Softball - Fastpitch Game
TRANSP:OPAQUE
BEGIN:VALARM
TRIGGER:-PT2H
ACTION:DISPLAY
DESCRIPTION:Giants vs. Rockies
END:VALARM
END:VEVENT
BEGIN:VEVENT
UID:lehi-ut-74199949-20260429T170000@quickscores.com
DTSTAMP:20260425T213100Z
DTSTART;TZID=America/Denver:20260429T170000
DURATION:PT1H0M0S
SUMMARY:Rockies vs. Reds
DESCRIPTION:Fox [7th-9th Grade] Softball - www.lehi-ut.gov
LOCATION:Sports Complex North Softball Field
CATEGORIES:QuickScores, Softball - Fastpitch Game
TRANSP:OPAQUE
BEGIN:VALARM
TRIGGER:-PT2H
ACTION:DISPLAY
DESCRIPTION:Rockies vs. Reds
END:VALARM
END:VEVENT
BEGIN:VEVENT
UID:lehi-ut-74199953-20260506T170000@quickscores.com
DTSTAMP:20260425T213100Z
DTSTART;TZID=America/Denver:20260506T170000
DURATION:PT1H0M0S
SUMMARY:Rockies vs. Athletics
DESCRIPTION:Fox [7th-9th Grade] Softball - www.lehi-ut.gov
LOCATION:Sports Complex North Softball Field
CATEGORIES:QuickScores, Softball - Fastpitch Game
TRANSP:OPAQUE
BEGIN:VALARM
TRIGGER:-PT2H
ACTION:DISPLAY
DESCRIPTION:Rockies vs. Athletics
END:VALARM
END:VEVENT
BEGIN:VEVENT
UID:lehi-ut-74199959-20260507T170000@quickscores.com
DTSTAMP:20260425T213100Z
DTSTART;TZID=America/Denver:20260507T170000
DURATION:PT1H0M0S
SUMMARY:Rockies vs. White Sox
DESCRIPTION:Fox [7th-9th Grade] Softball - www.lehi-ut.gov
LOCATION:Sports Complex North Softball Field
CATEGORIES:QuickScores, Softball - Fastpitch Game
TRANSP:OPAQUE
BEGIN:VALARM
TRIGGER:-PT2H
ACTION:DISPLAY
DESCRIPTION:Rockies vs. White Sox
END:VALARM
END:VEVENT
BEGIN:VEVENT
UID:lehi-ut-74199966-20260513T170000@quickscores.com
DTSTAMP:20260425T213100Z
DTSTART;TZID=America/Denver:20260513T170000
DURATION:PT1H0M0S
SUMMARY:Rangers vs. Rockies
DESCRIPTION:Fox [7th-9th Grade] Softball - www.lehi-ut.gov
LOCATION:Sports Complex North Softball Field
CATEGORIES:QuickScores, Softball - Fastpitch Game
TRANSP:OPAQUE
BEGIN:VALARM
TRIGGER:-PT2H
ACTION:DISPLAY
DESCRIPTION:Rangers vs. Rockies
END:VALARM
END:VEVENT
BEGIN:VEVENT
UID:lehi-ut-74199965-20260514T183000@quickscores.com
DTSTAMP:20260425T213100Z
DTSTART;TZID=America/Denver:20260514T183000
DURATION:PT1H0M0S
SUMMARY:Diamondbacks vs. Rockies
DESCRIPTION:Fox [7th-9th Grade] Softball - www.lehi-ut.gov
LOCATION:Sports Complex North Softball Field
CATEGORIES:QuickScores, Softball - Fastpitch Game
TRANSP:OPAQUE
BEGIN:VALARM
TRIGGER:-PT2H
ACTION:DISPLAY
DESCRIPTION:Diamondbacks vs. Rockies
END:VALARM
END:VEVENT
BEGIN:VEVENT
UID:lehi-ut-74199973-20260518T200000@quickscores.com
DTSTAMP:20260425T213100Z
DTSTART;TZID=America/Denver:20260518T200000
DURATION:PT1H0M0S
SUMMARY:Reds vs. Rockies
DESCRIPTION:Fox [7th-9th Grade] Softball - www.lehi-ut.gov
LOCATION:Sports Complex North Softball Field
CATEGORIES:QuickScores, Softball - Fastpitch Game
TRANSP:OPAQUE
BEGIN:VALARM
TRIGGER:-PT2H
ACTION:DISPLAY
DESCRIPTION:Reds vs. Rockies
END:VALARM
END:VEVENT
BEGIN:VEVENT
UID:lehi-ut-74199971-20260521T200000@quickscores.com
DTSTAMP:20260425T213100Z
DTSTART;TZID=America/Denver:20260521T200000
DURATION:PT1H0M0S
SUMMARY:Pirates vs. Rockies
DESCRIPTION:Fox [7th-9th Grade] Softball - www.lehi-ut.gov
LOCATION:Sports Complex North Softball Field
CATEGORIES:QuickScores, Softball - Fastpitch Game
TRANSP:OPAQUE
BEGIN:VALARM
TRIGGER:-PT2H
ACTION:DISPLAY
DESCRIPTION:Pirates vs. Rockies
END:VALARM
END:VEVENT
END:VCALENDAR
