BEGIN:VCALENDAR
VERSION:2.0
PRODID:-//QuickScores.com//BQ Dynamic iCal Creator//EN
METHOD:PUBLISH
X-WR-CALNAME:Diamondbacks - Fox [7th-9th Grade] Softball - Spring 2026
X-WR-CALDESC:QuickScores game calendar
X-PUBLISHED-TTL:PT24H
REFRESH-INTERVAL;VALUE=DURATION:PT24H
CALSCALE:GREGORIAN
BEGIN:VTIMEZONE
TZID:America/Denver
X-LIC-LOCATION:America/Denver
BEGIN:DAYLIGHT
TZNAME:MDT
TZOFFSETFROM:-0700
TZOFFSETTO:-0600
DTSTART:19700308T020000
RRULE:FREQ=YEARLY;BYMONTH=3;BYDAY=2SU
END:DAYLIGHT
BEGIN:STANDARD
TZNAME:MST
TZOFFSETFROM:-0600
TZOFFSETTO:-0700
DTSTART:19701101T020000
RRULE:FREQ=YEARLY;BYMONTH=11;BYDAY=1SU
END:STANDARD
END:VTIMEZONE
BEGIN:VEVENT
UID:lehi-ut-74199937-20260422T183000@quickscores.com
DTSTAMP:20260425T213100Z
DTSTART;TZID=America/Denver:20260422T183000
DURATION:PT1H0M0S
SUMMARY:Rockies vs. Diamondbacks
DESCRIPTION:Fox [7th-9th Grade] Softball - www.lehi-ut.gov
LOCATION:Sports Complex North Softball Field
CATEGORIES:QuickScores, Softball - Fastpitch Game
TRANSP:OPAQUE
BEGIN:VALARM
TRIGGER:-PT2H
ACTION:DISPLAY
DESCRIPTION:Rockies vs. Diamondbacks
END:VALARM
END:VEVENT
BEGIN:VEVENT
UID:lehi-ut-74199944-20260423T200000@quickscores.com
DTSTAMP:20260425T213100Z
DTSTART;TZID=America/Denver:20260423T200000
DURATION:PT1H0M0S
SUMMARY:Giants vs. Diamondbacks
DESCRIPTION:Fox [7th-9th Grade] Softball - www.lehi-ut.gov
LOCATION:Sports Complex North Softball Field
CATEGORIES:QuickScores, Softball - Fastpitch Game
TRANSP:OPAQUE
BEGIN:VALARM
TRIGGER:-PT2H
ACTION:DISPLAY
DESCRIPTION:Giants vs. Diamondbacks
END:VALARM
END:VEVENT
BEGIN:VEVENT
UID:lehi-ut-74199950-20260429T200000@quickscores.com
DTSTAMP:20260425T213100Z
DTSTART;TZID=America/Denver:20260429T200000
DURATION:PT1H0M0S
SUMMARY:Diamondbacks vs. Athletics
DESCRIPTION:Fox [7th-9th Grade] Softball - www.lehi-ut.gov
LOCATION:Sports Complex North Softball Field
CATEGORIES:QuickScores, Softball - Fastpitch Game
TRANSP:OPAQUE
BEGIN:VALARM
TRIGGER:-PT2H
ACTION:DISPLAY
DESCRIPTION:Diamondbacks vs. Athletics
END:VALARM
END:VEVENT
BEGIN:VEVENT
UID:lehi-ut-74199945-20260430T170000@quickscores.com
DTSTAMP:20260425T213100Z
DTSTART;TZID=America/Denver:20260430T170000
DURATION:PT1H0M0S
SUMMARY:Rangers vs. Diamondbacks
DESCRIPTION:Fox [7th-9th Grade] Softball - www.lehi-ut.gov
LOCATION:Sports Complex North Softball Field
CATEGORIES:QuickScores, Softball - Fastpitch Game
TRANSP:OPAQUE
BEGIN:VALARM
TRIGGER:-PT2H
ACTION:DISPLAY
DESCRIPTION:Rangers vs. Diamondbacks
END:VALARM
END:VEVENT
BEGIN:VEVENT
UID:lehi-ut-74199958-20260504T183000@quickscores.com
DTSTAMP:20260425T213100Z
DTSTART;TZID=America/Denver:20260504T183000
DURATION:PT1H0M0S
SUMMARY:Diamondbacks vs. Reds
DESCRIPTION:Fox [7th-9th Grade] Softball - www.lehi-ut.gov
LOCATION:Sports Complex North Softball Field
CATEGORIES:QuickScores, Softball - Fastpitch Game
TRANSP:OPAQUE
BEGIN:VALARM
TRIGGER:-PT2H
ACTION:DISPLAY
DESCRIPTION:Diamondbacks vs. Reds
END:VALARM
END:VEVENT
BEGIN:VEVENT
UID:lehi-ut-74199955-20260506T200000@quickscores.com
DTSTAMP:20260425T213100Z
DTSTART;TZID=America/Denver:20260506T200000
DURATION:PT1H0M0S
SUMMARY:White Sox vs. Diamondbacks
DESCRIPTION:Fox [7th-9th Grade] Softball - www.lehi-ut.gov
LOCATION:Sports Complex North Softball Field
CATEGORIES:QuickScores, Softball - Fastpitch Game
TRANSP:OPAQUE
BEGIN:VALARM
TRIGGER:-PT2H
ACTION:DISPLAY
DESCRIPTION:White Sox vs. Diamondbacks
END:VALARM
END:VEVENT
BEGIN:VEVENT
UID:lehi-ut-74199964-20260511T200000@quickscores.com
DTSTAMP:20260425T213100Z
DTSTART;TZID=America/Denver:20260511T200000
DURATION:PT1H0M0S
SUMMARY:Diamondbacks vs. Pirates
DESCRIPTION:Fox [7th-9th Grade] Softball - www.lehi-ut.gov
LOCATION:Sports Complex North Softball Field
CATEGORIES:QuickScores, Softball - Fastpitch Game
TRANSP:OPAQUE
BEGIN:VALARM
TRIGGER:-PT2H
ACTION:DISPLAY
DESCRIPTION:Diamondbacks vs. Pirates
END:VALARM
END:VEVENT
BEGIN:VEVENT
UID:lehi-ut-74199965-20260514T183000@quickscores.com
DTSTAMP:20260425T213100Z
DTSTART;TZID=America/Denver:20260514T183000
DURATION:PT1H0M0S
SUMMARY:Diamondbacks vs. Rockies
DESCRIPTION:Fox [7th-9th Grade] Softball - www.lehi-ut.gov
LOCATION:Sports Complex North Softball Field
CATEGORIES:QuickScores, Softball - Fastpitch Game
TRANSP:OPAQUE
BEGIN:VALARM
TRIGGER:-PT2H
ACTION:DISPLAY
DESCRIPTION:Diamondbacks vs. Rockies
END:VALARM
END:VEVENT
BEGIN:VEVENT
UID:lehi-ut-74199972-20260518T183000@quickscores.com
DTSTAMP:20260425T213100Z
DTSTART;TZID=America/Denver:20260518T183000
DURATION:PT1H0M0S
SUMMARY:Diamondbacks vs. Giants
DESCRIPTION:Fox [7th-9th Grade] Softball - www.lehi-ut.gov
LOCATION:Sports Complex North Softball Field
CATEGORIES:QuickScores, Softball - Fastpitch Game
TRANSP:OPAQUE
BEGIN:VALARM
TRIGGER:-PT2H
ACTION:DISPLAY
DESCRIPTION:Diamondbacks vs. Giants
END:VALARM
END:VEVENT
BEGIN:VEVENT
UID:lehi-ut-74199974-20260527T183000@quickscores.com
DTSTAMP:20260425T213100Z
DTSTART;TZID=America/Denver:20260527T183000
DURATION:PT1H0M0S
SUMMARY:Athletics vs. Diamondbacks
DESCRIPTION:Fox [7th-9th Grade] Softball - www.lehi-ut.gov
LOCATION:Sports Complex North Softball Field
CATEGORIES:QuickScores, Softball - Fastpitch Game
TRANSP:OPAQUE
BEGIN:VALARM
TRIGGER:-PT2H
ACTION:DISPLAY
DESCRIPTION:Athletics vs. Diamondbacks
END:VALARM
END:VEVENT
END:VCALENDAR
