BEGIN:VCALENDAR
VERSION:2.0
PRODID:-//QuickScores.com//BQ Dynamic iCal Creator//EN
METHOD:PUBLISH
X-WR-CALNAME:Blue Chip - 6th Grade Boys - Spring Basketball League
X-WR-CALDESC:QuickScores game calendar
X-PUBLISHED-TTL:PT24H
REFRESH-INTERVAL;VALUE=DURATION:PT24H
CALSCALE:GREGORIAN
BEGIN:VTIMEZONE
TZID:America/Phoenix
X-LIC-LOCATION:America/Phoenix
BEGIN:STANDARD
TZNAME:MST
TZOFFSETFROM:-0700
TZOFFSETTO:-0700
DTSTART:19700101T000000
END:STANDARD
END:VTIMEZONE
BEGIN:VEVENT
UID:legacyyouthsports-74330114-20260411T114000@quickscores.com
DTSTAMP:20260419T214900Z
DTSTART;TZID=America/Phoenix:20260411T114000
DURATION:PT0H55M0S
SUMMARY:Blue Chip vs. Hoop Squad
DESCRIPTION:6th Grade Boys - Legacy Youth Sports
LOCATION:Atkinson Court 2
CATEGORIES:QuickScores, Basketball Game
TRANSP:OPAQUE
BEGIN:VALARM
TRIGGER:-PT2H
ACTION:DISPLAY
DESCRIPTION:Blue Chip vs. Hoop Squad
END:VALARM
END:VEVENT
END:VCALENDAR
